BEGIN:VCALENDAR
VERSION:2.0
PRODID:-//Solutions Education Center - ECPv6.15.20//NONSGML v1.0//EN
CALSCALE:GREGORIAN
METHOD:PUBLISH
X-ORIGINAL-URL:https://keepwhatyouvalue.com
X-WR-CALDESC:Events for Solutions Education Center
REFRESH-INTERVAL;VALUE=DURATION:PT1H
X-Robots-Tag:noindex
X-PUBLISHED-TTL:PT1H
BEGIN:VTIMEZONE
TZID:America/Chicago
BEGIN:DAYLIGHT
TZOFFSETFROM:-0600
TZOFFSETTO:-0500
TZNAME:CDT
DTSTART:20270314T080000
END:DAYLIGHT
BEGIN:STANDARD
TZOFFSETFROM:-0500
TZOFFSETTO:-0600
TZNAME:CST
DTSTART:20271107T070000
END:STANDARD
BEGIN:DAYLIGHT
TZOFFSETFROM:-0600
TZOFFSETTO:-0500
TZNAME:CDT
DTSTART:20280312T080000
END:DAYLIGHT
BEGIN:STANDARD
TZOFFSETFROM:-0500
TZOFFSETTO:-0600
TZNAME:CST
DTSTART:20281105T070000
END:STANDARD
BEGIN:DAYLIGHT
TZOFFSETFROM:-0600
TZOFFSETTO:-0500
TZNAME:CDT
DTSTART:20290311T080000
END:DAYLIGHT
BEGIN:STANDARD
TZOFFSETFROM:-0500
TZOFFSETTO:-0600
TZNAME:CST
DTSTART:20291104T070000
END:STANDARD
END:VTIMEZONE
BEGIN:VEVENT
DTSTART;TZID=America/Chicago:20280206T130000
DTEND;TZID=America/Chicago:20280206T160000
DTSTAMP:20260425T160837
CREATED:20250601T204123Z
LAST-MODIFIED:20250601T204123Z
UID:10003124-1833454800-1833465600@keepwhatyouvalue.com
SUMMARY:RC Youth Group
DESCRIPTION:In partnership with DCS and Rutherford County Juvenile Justice Department\, Solutions Education Center is providing a prevention education program for adolescents. The goal of this program is to prevent the youth from entering state’s custody. Participants in this program will learn substance use prevention education\, self-regulation skills\, and life skills.\nThis program meets once a week for three hours and the duration is 12-16-weeks with random drug screens provided.
URL:https://keepwhatyouvalue.com/event/rc-youth-group-3-2/2028-02-06/
LOCATION:Solutions Education Center – Rutherford County (Office)\, 714 W. Main St.\, Murfreesboro\, TN\, 37129\, United States
CATEGORIES:Rutherford County Youth Prevention Education Program
END:VEVENT
BEGIN:VEVENT
DTSTART;TZID=America/Chicago:20280208T180000
DTEND;TZID=America/Chicago:20280208T200000
DTSTAMP:20260425T160837
CREATED:20240601T224412Z
LAST-MODIFIED:20240606T182041Z
UID:10002585-1833645600-1833652800@keepwhatyouvalue.com
SUMMARY:Women's Domestic Violence Class
DESCRIPTION:This class is designed for women who are convicted of Domestic Violence or related charges and have been court-ordered to attend an intervention program.
URL:https://keepwhatyouvalue.com/event/womens-domestic-violence-class-2/2028-02-08/
LOCATION:Solutions Education Center – Rutherford County (Office)\, 714 W. Main St.\, Murfreesboro\, TN\, 37129\, United States
CATEGORIES:Women's Domestic Violence Class
END:VEVENT
BEGIN:VEVENT
DTSTART;TZID=America/Chicago:20280213T093000
DTEND;TZID=America/Chicago:20280213T113000
DTSTAMP:20260425T160837
CREATED:20240601T224343Z
LAST-MODIFIED:20240606T181405Z
UID:10001281-1834047000-1834054200@keepwhatyouvalue.com
SUMMARY:Batterer's Intervention Program
DESCRIPTION:Men’s Certified Batterer’s Intervention Program
URL:https://keepwhatyouvalue.com/event/batterers-intervention-program-3/2028-02-13/
LOCATION:Solutions Education Center – Rutherford County (Office)\, 714 W. Main St.\, Murfreesboro\, TN\, 37129\, United States
CATEGORIES:Batterer's Intervention Program
END:VEVENT
BEGIN:VEVENT
DTSTART;TZID=America/Chicago:20280213T130000
DTEND;TZID=America/Chicago:20280213T160000
DTSTAMP:20260425T160837
CREATED:20250601T204123Z
LAST-MODIFIED:20250601T204123Z
UID:10003125-1834059600-1834070400@keepwhatyouvalue.com
SUMMARY:RC Youth Group
DESCRIPTION:In partnership with DCS and Rutherford County Juvenile Justice Department\, Solutions Education Center is providing a prevention education program for adolescents. The goal of this program is to prevent the youth from entering state’s custody. Participants in this program will learn substance use prevention education\, self-regulation skills\, and life skills.\nThis program meets once a week for three hours and the duration is 12-16-weeks with random drug screens provided.
URL:https://keepwhatyouvalue.com/event/rc-youth-group-3-2/2028-02-13/
LOCATION:Solutions Education Center – Rutherford County (Office)\, 714 W. Main St.\, Murfreesboro\, TN\, 37129\, United States
CATEGORIES:Rutherford County Youth Prevention Education Program
END:VEVENT
BEGIN:VEVENT
DTSTART;TZID=America/Chicago:20280215T180000
DTEND;TZID=America/Chicago:20280215T200000
DTSTAMP:20260425T160837
CREATED:20240601T224412Z
LAST-MODIFIED:20240606T182041Z
UID:10002586-1834250400-1834257600@keepwhatyouvalue.com
SUMMARY:Women's Domestic Violence Class
DESCRIPTION:This class is designed for women who are convicted of Domestic Violence or related charges and have been court-ordered to attend an intervention program.
URL:https://keepwhatyouvalue.com/event/womens-domestic-violence-class-2/2028-02-15/
LOCATION:Solutions Education Center – Rutherford County (Office)\, 714 W. Main St.\, Murfreesboro\, TN\, 37129\, United States
CATEGORIES:Women's Domestic Violence Class
END:VEVENT
BEGIN:VEVENT
DTSTART;TZID=America/Chicago:20280220T093000
DTEND;TZID=America/Chicago:20280220T113000
DTSTAMP:20260425T160837
CREATED:20240601T224343Z
LAST-MODIFIED:20240606T181405Z
UID:10001282-1834651800-1834659000@keepwhatyouvalue.com
SUMMARY:Batterer's Intervention Program
DESCRIPTION:Men’s Certified Batterer’s Intervention Program
URL:https://keepwhatyouvalue.com/event/batterers-intervention-program-3/2028-02-20/
LOCATION:Solutions Education Center – Rutherford County (Office)\, 714 W. Main St.\, Murfreesboro\, TN\, 37129\, United States
CATEGORIES:Batterer's Intervention Program
END:VEVENT
BEGIN:VEVENT
DTSTART;TZID=America/Chicago:20280220T130000
DTEND;TZID=America/Chicago:20280220T160000
DTSTAMP:20260425T160837
CREATED:20250601T204123Z
LAST-MODIFIED:20250601T204123Z
UID:10003126-1834664400-1834675200@keepwhatyouvalue.com
SUMMARY:RC Youth Group
DESCRIPTION:In partnership with DCS and Rutherford County Juvenile Justice Department\, Solutions Education Center is providing a prevention education program for adolescents. The goal of this program is to prevent the youth from entering state’s custody. Participants in this program will learn substance use prevention education\, self-regulation skills\, and life skills.\nThis program meets once a week for three hours and the duration is 12-16-weeks with random drug screens provided.
URL:https://keepwhatyouvalue.com/event/rc-youth-group-3-2/2028-02-20/
LOCATION:Solutions Education Center – Rutherford County (Office)\, 714 W. Main St.\, Murfreesboro\, TN\, 37129\, United States
CATEGORIES:Rutherford County Youth Prevention Education Program
END:VEVENT
BEGIN:VEVENT
DTSTART;TZID=America/Chicago:20280222T180000
DTEND;TZID=America/Chicago:20280222T200000
DTSTAMP:20260425T160837
CREATED:20240601T224412Z
LAST-MODIFIED:20240606T182041Z
UID:10002587-1834855200-1834862400@keepwhatyouvalue.com
SUMMARY:Women's Domestic Violence Class
DESCRIPTION:This class is designed for women who are convicted of Domestic Violence or related charges and have been court-ordered to attend an intervention program.
URL:https://keepwhatyouvalue.com/event/womens-domestic-violence-class-2/2028-02-22/
LOCATION:Solutions Education Center – Rutherford County (Office)\, 714 W. Main St.\, Murfreesboro\, TN\, 37129\, United States
CATEGORIES:Women's Domestic Violence Class
END:VEVENT
BEGIN:VEVENT
DTSTART;TZID=America/Chicago:20280227T093000
DTEND;TZID=America/Chicago:20280227T113000
DTSTAMP:20260425T160837
CREATED:20240601T224343Z
LAST-MODIFIED:20240606T181405Z
UID:10001283-1835256600-1835263800@keepwhatyouvalue.com
SUMMARY:Batterer's Intervention Program
DESCRIPTION:Men’s Certified Batterer’s Intervention Program
URL:https://keepwhatyouvalue.com/event/batterers-intervention-program-3/2028-02-27/
LOCATION:Solutions Education Center – Rutherford County (Office)\, 714 W. Main St.\, Murfreesboro\, TN\, 37129\, United States
CATEGORIES:Batterer's Intervention Program
END:VEVENT
BEGIN:VEVENT
DTSTART;TZID=America/Chicago:20280227T130000
DTEND;TZID=America/Chicago:20280227T160000
DTSTAMP:20260425T160837
CREATED:20250601T204123Z
LAST-MODIFIED:20250601T204123Z
UID:10003127-1835269200-1835280000@keepwhatyouvalue.com
SUMMARY:RC Youth Group
DESCRIPTION:In partnership with DCS and Rutherford County Juvenile Justice Department\, Solutions Education Center is providing a prevention education program for adolescents. The goal of this program is to prevent the youth from entering state’s custody. Participants in this program will learn substance use prevention education\, self-regulation skills\, and life skills.\nThis program meets once a week for three hours and the duration is 12-16-weeks with random drug screens provided.
URL:https://keepwhatyouvalue.com/event/rc-youth-group-3-2/2028-02-27/
LOCATION:Solutions Education Center – Rutherford County (Office)\, 714 W. Main St.\, Murfreesboro\, TN\, 37129\, United States
CATEGORIES:Rutherford County Youth Prevention Education Program
END:VEVENT
BEGIN:VEVENT
DTSTART;TZID=America/Chicago:20280229T180000
DTEND;TZID=America/Chicago:20280229T200000
DTSTAMP:20260425T160837
CREATED:20240601T224412Z
LAST-MODIFIED:20240606T182041Z
UID:10002588-1835460000-1835467200@keepwhatyouvalue.com
SUMMARY:Women's Domestic Violence Class
DESCRIPTION:This class is designed for women who are convicted of Domestic Violence or related charges and have been court-ordered to attend an intervention program.
URL:https://keepwhatyouvalue.com/event/womens-domestic-violence-class-2/2028-02-29/
LOCATION:Solutions Education Center – Rutherford County (Office)\, 714 W. Main St.\, Murfreesboro\, TN\, 37129\, United States
CATEGORIES:Women's Domestic Violence Class
END:VEVENT
BEGIN:VEVENT
DTSTART;TZID=America/Chicago:20280305T093000
DTEND;TZID=America/Chicago:20280305T113000
DTSTAMP:20260425T160837
CREATED:20240601T224343Z
LAST-MODIFIED:20240606T181405Z
UID:10001284-1835861400-1835868600@keepwhatyouvalue.com
SUMMARY:Batterer's Intervention Program
DESCRIPTION:Men’s Certified Batterer’s Intervention Program
URL:https://keepwhatyouvalue.com/event/batterers-intervention-program-3/2028-03-05/
LOCATION:Solutions Education Center – Rutherford County (Office)\, 714 W. Main St.\, Murfreesboro\, TN\, 37129\, United States
CATEGORIES:Batterer's Intervention Program
END:VEVENT
BEGIN:VEVENT
DTSTART;TZID=America/Chicago:20280305T130000
DTEND;TZID=America/Chicago:20280305T160000
DTSTAMP:20260425T160837
CREATED:20250601T204123Z
LAST-MODIFIED:20250601T204123Z
UID:10003128-1835874000-1835884800@keepwhatyouvalue.com
SUMMARY:RC Youth Group
DESCRIPTION:In partnership with DCS and Rutherford County Juvenile Justice Department\, Solutions Education Center is providing a prevention education program for adolescents. The goal of this program is to prevent the youth from entering state’s custody. Participants in this program will learn substance use prevention education\, self-regulation skills\, and life skills.\nThis program meets once a week for three hours and the duration is 12-16-weeks with random drug screens provided.
URL:https://keepwhatyouvalue.com/event/rc-youth-group-3-2/2028-03-05/
LOCATION:Solutions Education Center – Rutherford County (Office)\, 714 W. Main St.\, Murfreesboro\, TN\, 37129\, United States
CATEGORIES:Rutherford County Youth Prevention Education Program
END:VEVENT
BEGIN:VEVENT
DTSTART;TZID=America/Chicago:20280307T180000
DTEND;TZID=America/Chicago:20280307T200000
DTSTAMP:20260425T160837
CREATED:20240601T224412Z
LAST-MODIFIED:20240606T182041Z
UID:10002589-1836064800-1836072000@keepwhatyouvalue.com
SUMMARY:Women's Domestic Violence Class
DESCRIPTION:This class is designed for women who are convicted of Domestic Violence or related charges and have been court-ordered to attend an intervention program.
URL:https://keepwhatyouvalue.com/event/womens-domestic-violence-class-2/2028-03-07/
LOCATION:Solutions Education Center – Rutherford County (Office)\, 714 W. Main St.\, Murfreesboro\, TN\, 37129\, United States
CATEGORIES:Women's Domestic Violence Class
END:VEVENT
BEGIN:VEVENT
DTSTART;TZID=America/Chicago:20280312T093000
DTEND;TZID=America/Chicago:20280312T113000
DTSTAMP:20260425T160837
CREATED:20240601T224343Z
LAST-MODIFIED:20240606T181405Z
UID:10001285-1836466200-1836473400@keepwhatyouvalue.com
SUMMARY:Batterer's Intervention Program
DESCRIPTION:Men’s Certified Batterer’s Intervention Program
URL:https://keepwhatyouvalue.com/event/batterers-intervention-program-3/2028-03-12/
LOCATION:Solutions Education Center – Rutherford County (Office)\, 714 W. Main St.\, Murfreesboro\, TN\, 37129\, United States
CATEGORIES:Batterer's Intervention Program
END:VEVENT
BEGIN:VEVENT
DTSTART;TZID=America/Chicago:20280312T130000
DTEND;TZID=America/Chicago:20280312T160000
DTSTAMP:20260425T160837
CREATED:20250601T204123Z
LAST-MODIFIED:20250601T204123Z
UID:10003129-1836478800-1836489600@keepwhatyouvalue.com
SUMMARY:RC Youth Group
DESCRIPTION:In partnership with DCS and Rutherford County Juvenile Justice Department\, Solutions Education Center is providing a prevention education program for adolescents. The goal of this program is to prevent the youth from entering state’s custody. Participants in this program will learn substance use prevention education\, self-regulation skills\, and life skills.\nThis program meets once a week for three hours and the duration is 12-16-weeks with random drug screens provided.
URL:https://keepwhatyouvalue.com/event/rc-youth-group-3-2/2028-03-12/
LOCATION:Solutions Education Center – Rutherford County (Office)\, 714 W. Main St.\, Murfreesboro\, TN\, 37129\, United States
CATEGORIES:Rutherford County Youth Prevention Education Program
END:VEVENT
BEGIN:VEVENT
DTSTART;TZID=America/Chicago:20280314T180000
DTEND;TZID=America/Chicago:20280314T200000
DTSTAMP:20260425T160837
CREATED:20240601T224412Z
LAST-MODIFIED:20240606T182041Z
UID:10002590-1836669600-1836676800@keepwhatyouvalue.com
SUMMARY:Women's Domestic Violence Class
DESCRIPTION:This class is designed for women who are convicted of Domestic Violence or related charges and have been court-ordered to attend an intervention program.
URL:https://keepwhatyouvalue.com/event/womens-domestic-violence-class-2/2028-03-14/
LOCATION:Solutions Education Center – Rutherford County (Office)\, 714 W. Main St.\, Murfreesboro\, TN\, 37129\, United States
CATEGORIES:Women's Domestic Violence Class
END:VEVENT
BEGIN:VEVENT
DTSTART;TZID=America/Chicago:20280319T093000
DTEND;TZID=America/Chicago:20280319T113000
DTSTAMP:20260425T160837
CREATED:20240601T224343Z
LAST-MODIFIED:20240606T181405Z
UID:10001286-1837071000-1837078200@keepwhatyouvalue.com
SUMMARY:Batterer's Intervention Program
DESCRIPTION:Men’s Certified Batterer’s Intervention Program
URL:https://keepwhatyouvalue.com/event/batterers-intervention-program-3/2028-03-19/
LOCATION:Solutions Education Center – Rutherford County (Office)\, 714 W. Main St.\, Murfreesboro\, TN\, 37129\, United States
CATEGORIES:Batterer's Intervention Program
END:VEVENT
BEGIN:VEVENT
DTSTART;TZID=America/Chicago:20280319T130000
DTEND;TZID=America/Chicago:20280319T160000
DTSTAMP:20260425T160837
CREATED:20250601T204123Z
LAST-MODIFIED:20250601T204123Z
UID:10003130-1837083600-1837094400@keepwhatyouvalue.com
SUMMARY:RC Youth Group
DESCRIPTION:In partnership with DCS and Rutherford County Juvenile Justice Department\, Solutions Education Center is providing a prevention education program for adolescents. The goal of this program is to prevent the youth from entering state’s custody. Participants in this program will learn substance use prevention education\, self-regulation skills\, and life skills.\nThis program meets once a week for three hours and the duration is 12-16-weeks with random drug screens provided.
URL:https://keepwhatyouvalue.com/event/rc-youth-group-3-2/2028-03-19/
LOCATION:Solutions Education Center – Rutherford County (Office)\, 714 W. Main St.\, Murfreesboro\, TN\, 37129\, United States
CATEGORIES:Rutherford County Youth Prevention Education Program
END:VEVENT
BEGIN:VEVENT
DTSTART;TZID=America/Chicago:20280321T180000
DTEND;TZID=America/Chicago:20280321T200000
DTSTAMP:20260425T160837
CREATED:20240601T224412Z
LAST-MODIFIED:20240606T182041Z
UID:10002591-1837274400-1837281600@keepwhatyouvalue.com
SUMMARY:Women's Domestic Violence Class
DESCRIPTION:This class is designed for women who are convicted of Domestic Violence or related charges and have been court-ordered to attend an intervention program.
URL:https://keepwhatyouvalue.com/event/womens-domestic-violence-class-2/2028-03-21/
LOCATION:Solutions Education Center – Rutherford County (Office)\, 714 W. Main St.\, Murfreesboro\, TN\, 37129\, United States
CATEGORIES:Women's Domestic Violence Class
END:VEVENT
BEGIN:VEVENT
DTSTART;TZID=America/Chicago:20280326T093000
DTEND;TZID=America/Chicago:20280326T113000
DTSTAMP:20260425T160837
CREATED:20240601T224343Z
LAST-MODIFIED:20240606T181405Z
UID:10001287-1837675800-1837683000@keepwhatyouvalue.com
SUMMARY:Batterer's Intervention Program
DESCRIPTION:Men’s Certified Batterer’s Intervention Program
URL:https://keepwhatyouvalue.com/event/batterers-intervention-program-3/2028-03-26/
LOCATION:Solutions Education Center – Rutherford County (Office)\, 714 W. Main St.\, Murfreesboro\, TN\, 37129\, United States
CATEGORIES:Batterer's Intervention Program
END:VEVENT
BEGIN:VEVENT
DTSTART;TZID=America/Chicago:20280326T130000
DTEND;TZID=America/Chicago:20280326T160000
DTSTAMP:20260425T160837
CREATED:20250601T204123Z
LAST-MODIFIED:20250601T204123Z
UID:10003131-1837688400-1837699200@keepwhatyouvalue.com
SUMMARY:RC Youth Group
DESCRIPTION:In partnership with DCS and Rutherford County Juvenile Justice Department\, Solutions Education Center is providing a prevention education program for adolescents. The goal of this program is to prevent the youth from entering state’s custody. Participants in this program will learn substance use prevention education\, self-regulation skills\, and life skills.\nThis program meets once a week for three hours and the duration is 12-16-weeks with random drug screens provided.
URL:https://keepwhatyouvalue.com/event/rc-youth-group-3-2/2028-03-26/
LOCATION:Solutions Education Center – Rutherford County (Office)\, 714 W. Main St.\, Murfreesboro\, TN\, 37129\, United States
CATEGORIES:Rutherford County Youth Prevention Education Program
END:VEVENT
BEGIN:VEVENT
DTSTART;TZID=America/Chicago:20280328T180000
DTEND;TZID=America/Chicago:20280328T200000
DTSTAMP:20260425T160837
CREATED:20240601T224412Z
LAST-MODIFIED:20240606T182041Z
UID:10002592-1837879200-1837886400@keepwhatyouvalue.com
SUMMARY:Women's Domestic Violence Class
DESCRIPTION:This class is designed for women who are convicted of Domestic Violence or related charges and have been court-ordered to attend an intervention program.
URL:https://keepwhatyouvalue.com/event/womens-domestic-violence-class-2/2028-03-28/
LOCATION:Solutions Education Center – Rutherford County (Office)\, 714 W. Main St.\, Murfreesboro\, TN\, 37129\, United States
CATEGORIES:Women's Domestic Violence Class
END:VEVENT
BEGIN:VEVENT
DTSTART;TZID=America/Chicago:20280402T093000
DTEND;TZID=America/Chicago:20280402T113000
DTSTAMP:20260425T160837
CREATED:20240601T224343Z
LAST-MODIFIED:20240606T181405Z
UID:10001288-1838280600-1838287800@keepwhatyouvalue.com
SUMMARY:Batterer's Intervention Program
DESCRIPTION:Men’s Certified Batterer’s Intervention Program
URL:https://keepwhatyouvalue.com/event/batterers-intervention-program-3/2028-04-02/
LOCATION:Solutions Education Center – Rutherford County (Office)\, 714 W. Main St.\, Murfreesboro\, TN\, 37129\, United States
CATEGORIES:Batterer's Intervention Program
END:VEVENT
BEGIN:VEVENT
DTSTART;TZID=America/Chicago:20280402T130000
DTEND;TZID=America/Chicago:20280402T160000
DTSTAMP:20260425T160837
CREATED:20250601T204123Z
LAST-MODIFIED:20250601T204123Z
UID:10003132-1838293200-1838304000@keepwhatyouvalue.com
SUMMARY:RC Youth Group
DESCRIPTION:In partnership with DCS and Rutherford County Juvenile Justice Department\, Solutions Education Center is providing a prevention education program for adolescents. The goal of this program is to prevent the youth from entering state’s custody. Participants in this program will learn substance use prevention education\, self-regulation skills\, and life skills.\nThis program meets once a week for three hours and the duration is 12-16-weeks with random drug screens provided.
URL:https://keepwhatyouvalue.com/event/rc-youth-group-3-2/2028-04-02/
LOCATION:Solutions Education Center – Rutherford County (Office)\, 714 W. Main St.\, Murfreesboro\, TN\, 37129\, United States
CATEGORIES:Rutherford County Youth Prevention Education Program
END:VEVENT
BEGIN:VEVENT
DTSTART;TZID=America/Chicago:20280404T180000
DTEND;TZID=America/Chicago:20280404T200000
DTSTAMP:20260425T160837
CREATED:20240601T224412Z
LAST-MODIFIED:20240606T182041Z
UID:10002593-1838484000-1838491200@keepwhatyouvalue.com
SUMMARY:Women's Domestic Violence Class
DESCRIPTION:This class is designed for women who are convicted of Domestic Violence or related charges and have been court-ordered to attend an intervention program.
URL:https://keepwhatyouvalue.com/event/womens-domestic-violence-class-2/2028-04-04/
LOCATION:Solutions Education Center – Rutherford County (Office)\, 714 W. Main St.\, Murfreesboro\, TN\, 37129\, United States
CATEGORIES:Women's Domestic Violence Class
END:VEVENT
BEGIN:VEVENT
DTSTART;TZID=America/Chicago:20280409T093000
DTEND;TZID=America/Chicago:20280409T113000
DTSTAMP:20260425T160837
CREATED:20240601T224343Z
LAST-MODIFIED:20240606T181405Z
UID:10001289-1838885400-1838892600@keepwhatyouvalue.com
SUMMARY:Batterer's Intervention Program
DESCRIPTION:Men’s Certified Batterer’s Intervention Program
URL:https://keepwhatyouvalue.com/event/batterers-intervention-program-3/2028-04-09/
LOCATION:Solutions Education Center – Rutherford County (Office)\, 714 W. Main St.\, Murfreesboro\, TN\, 37129\, United States
CATEGORIES:Batterer's Intervention Program
END:VEVENT
BEGIN:VEVENT
DTSTART;TZID=America/Chicago:20280409T130000
DTEND;TZID=America/Chicago:20280409T160000
DTSTAMP:20260425T160837
CREATED:20250601T204123Z
LAST-MODIFIED:20250601T204123Z
UID:10003133-1838898000-1838908800@keepwhatyouvalue.com
SUMMARY:RC Youth Group
DESCRIPTION:In partnership with DCS and Rutherford County Juvenile Justice Department\, Solutions Education Center is providing a prevention education program for adolescents. The goal of this program is to prevent the youth from entering state’s custody. Participants in this program will learn substance use prevention education\, self-regulation skills\, and life skills.\nThis program meets once a week for three hours and the duration is 12-16-weeks with random drug screens provided.
URL:https://keepwhatyouvalue.com/event/rc-youth-group-3-2/2028-04-09/
LOCATION:Solutions Education Center – Rutherford County (Office)\, 714 W. Main St.\, Murfreesboro\, TN\, 37129\, United States
CATEGORIES:Rutherford County Youth Prevention Education Program
END:VEVENT
BEGIN:VEVENT
DTSTART;TZID=America/Chicago:20280411T180000
DTEND;TZID=America/Chicago:20280411T200000
DTSTAMP:20260425T160837
CREATED:20240601T224412Z
LAST-MODIFIED:20240606T182041Z
UID:10002594-1839088800-1839096000@keepwhatyouvalue.com
SUMMARY:Women's Domestic Violence Class
DESCRIPTION:This class is designed for women who are convicted of Domestic Violence or related charges and have been court-ordered to attend an intervention program.
URL:https://keepwhatyouvalue.com/event/womens-domestic-violence-class-2/2028-04-11/
LOCATION:Solutions Education Center – Rutherford County (Office)\, 714 W. Main St.\, Murfreesboro\, TN\, 37129\, United States
CATEGORIES:Women's Domestic Violence Class
END:VEVENT
BEGIN:VEVENT
DTSTART;TZID=America/Chicago:20280416T093000
DTEND;TZID=America/Chicago:20280416T113000
DTSTAMP:20260425T160837
CREATED:20240601T224343Z
LAST-MODIFIED:20240606T181405Z
UID:10001290-1839490200-1839497400@keepwhatyouvalue.com
SUMMARY:Batterer's Intervention Program
DESCRIPTION:Men’s Certified Batterer’s Intervention Program
URL:https://keepwhatyouvalue.com/event/batterers-intervention-program-3/2028-04-16/
LOCATION:Solutions Education Center – Rutherford County (Office)\, 714 W. Main St.\, Murfreesboro\, TN\, 37129\, United States
CATEGORIES:Batterer's Intervention Program
END:VEVENT
END:VCALENDAR