BEGIN:VCALENDAR
VERSION:2.0
PRODID:-//Solutions Education Center - ECPv6.15.20//NONSGML v1.0//EN
CALSCALE:GREGORIAN
METHOD:PUBLISH
X-ORIGINAL-URL:https://keepwhatyouvalue.com
X-WR-CALDESC:Events for Solutions Education Center
REFRESH-INTERVAL;VALUE=DURATION:PT1H
X-Robots-Tag:noindex
X-PUBLISHED-TTL:PT1H
BEGIN:VTIMEZONE
TZID:America/Chicago
BEGIN:DAYLIGHT
TZOFFSETFROM:-0600
TZOFFSETTO:-0500
TZNAME:CDT
DTSTART:20260308T080000
END:DAYLIGHT
BEGIN:STANDARD
TZOFFSETFROM:-0500
TZOFFSETTO:-0600
TZNAME:CST
DTSTART:20261101T070000
END:STANDARD
BEGIN:DAYLIGHT
TZOFFSETFROM:-0600
TZOFFSETTO:-0500
TZNAME:CDT
DTSTART:20270314T080000
END:DAYLIGHT
BEGIN:STANDARD
TZOFFSETFROM:-0500
TZOFFSETTO:-0600
TZNAME:CST
DTSTART:20271107T070000
END:STANDARD
BEGIN:DAYLIGHT
TZOFFSETFROM:-0600
TZOFFSETTO:-0500
TZNAME:CDT
DTSTART:20280312T080000
END:DAYLIGHT
BEGIN:STANDARD
TZOFFSETFROM:-0500
TZOFFSETTO:-0600
TZNAME:CST
DTSTART:20281105T070000
END:STANDARD
END:VTIMEZONE
BEGIN:VEVENT
DTSTART;TZID=America/Chicago:20270919T130000
DTEND;TZID=America/Chicago:20270919T160000
DTSTAMP:20260425T082600
CREATED:20250601T204123Z
LAST-MODIFIED:20250601T204123Z
UID:10003104-1821358800-1821369600@keepwhatyouvalue.com
SUMMARY:RC Youth Group
DESCRIPTION:In partnership with DCS and Rutherford County Juvenile Justice Department\, Solutions Education Center is providing a prevention education program for adolescents. The goal of this program is to prevent the youth from entering state’s custody. Participants in this program will learn substance use prevention education\, self-regulation skills\, and life skills.\nThis program meets once a week for three hours and the duration is 12-16-weeks with random drug screens provided.
URL:https://keepwhatyouvalue.com/event/rc-youth-group-3-2/2027-09-19/
LOCATION:Solutions Education Center – Rutherford County (Office)\, 714 W. Main St.\, Murfreesboro\, TN\, 37129\, United States
CATEGORIES:Rutherford County Youth Prevention Education Program
END:VEVENT
BEGIN:VEVENT
DTSTART;TZID=America/Chicago:20270921T180000
DTEND;TZID=America/Chicago:20270921T200000
DTSTAMP:20260425T082600
CREATED:20240601T224412Z
LAST-MODIFIED:20240606T182041Z
UID:10002565-1821549600-1821556800@keepwhatyouvalue.com
SUMMARY:Women's Domestic Violence Class
DESCRIPTION:This class is designed for women who are convicted of Domestic Violence or related charges and have been court-ordered to attend an intervention program.
URL:https://keepwhatyouvalue.com/event/womens-domestic-violence-class-2/2027-09-21/
LOCATION:Solutions Education Center – Rutherford County (Office)\, 714 W. Main St.\, Murfreesboro\, TN\, 37129\, United States
CATEGORIES:Women's Domestic Violence Class
END:VEVENT
BEGIN:VEVENT
DTSTART;TZID=America/Chicago:20270926T093000
DTEND;TZID=America/Chicago:20270926T113000
DTSTAMP:20260425T082600
CREATED:20240601T224343Z
LAST-MODIFIED:20240606T181405Z
UID:10001261-1821951000-1821958200@keepwhatyouvalue.com
SUMMARY:Batterer's Intervention Program
DESCRIPTION:Men’s Certified Batterer’s Intervention Program
URL:https://keepwhatyouvalue.com/event/batterers-intervention-program-3/2027-09-26/
LOCATION:Solutions Education Center – Rutherford County (Office)\, 714 W. Main St.\, Murfreesboro\, TN\, 37129\, United States
CATEGORIES:Batterer's Intervention Program
END:VEVENT
BEGIN:VEVENT
DTSTART;TZID=America/Chicago:20270926T130000
DTEND;TZID=America/Chicago:20270926T160000
DTSTAMP:20260425T082600
CREATED:20250601T204123Z
LAST-MODIFIED:20250601T204123Z
UID:10003105-1821963600-1821974400@keepwhatyouvalue.com
SUMMARY:RC Youth Group
DESCRIPTION:In partnership with DCS and Rutherford County Juvenile Justice Department\, Solutions Education Center is providing a prevention education program for adolescents. The goal of this program is to prevent the youth from entering state’s custody. Participants in this program will learn substance use prevention education\, self-regulation skills\, and life skills.\nThis program meets once a week for three hours and the duration is 12-16-weeks with random drug screens provided.
URL:https://keepwhatyouvalue.com/event/rc-youth-group-3-2/2027-09-26/
LOCATION:Solutions Education Center – Rutherford County (Office)\, 714 W. Main St.\, Murfreesboro\, TN\, 37129\, United States
CATEGORIES:Rutherford County Youth Prevention Education Program
END:VEVENT
BEGIN:VEVENT
DTSTART;TZID=America/Chicago:20270928T180000
DTEND;TZID=America/Chicago:20270928T200000
DTSTAMP:20260425T082600
CREATED:20240601T224412Z
LAST-MODIFIED:20240606T182041Z
UID:10002566-1822154400-1822161600@keepwhatyouvalue.com
SUMMARY:Women's Domestic Violence Class
DESCRIPTION:This class is designed for women who are convicted of Domestic Violence or related charges and have been court-ordered to attend an intervention program.
URL:https://keepwhatyouvalue.com/event/womens-domestic-violence-class-2/2027-09-28/
LOCATION:Solutions Education Center – Rutherford County (Office)\, 714 W. Main St.\, Murfreesboro\, TN\, 37129\, United States
CATEGORIES:Women's Domestic Violence Class
END:VEVENT
BEGIN:VEVENT
DTSTART;TZID=America/Chicago:20271003T093000
DTEND;TZID=America/Chicago:20271003T113000
DTSTAMP:20260425T082600
CREATED:20240601T224343Z
LAST-MODIFIED:20240606T181405Z
UID:10001262-1822555800-1822563000@keepwhatyouvalue.com
SUMMARY:Batterer's Intervention Program
DESCRIPTION:Men’s Certified Batterer’s Intervention Program
URL:https://keepwhatyouvalue.com/event/batterers-intervention-program-3/2027-10-03/
LOCATION:Solutions Education Center – Rutherford County (Office)\, 714 W. Main St.\, Murfreesboro\, TN\, 37129\, United States
CATEGORIES:Batterer's Intervention Program
END:VEVENT
BEGIN:VEVENT
DTSTART;TZID=America/Chicago:20271003T130000
DTEND;TZID=America/Chicago:20271003T160000
DTSTAMP:20260425T082600
CREATED:20250601T204123Z
LAST-MODIFIED:20250601T204123Z
UID:10003106-1822568400-1822579200@keepwhatyouvalue.com
SUMMARY:RC Youth Group
DESCRIPTION:In partnership with DCS and Rutherford County Juvenile Justice Department\, Solutions Education Center is providing a prevention education program for adolescents. The goal of this program is to prevent the youth from entering state’s custody. Participants in this program will learn substance use prevention education\, self-regulation skills\, and life skills.\nThis program meets once a week for three hours and the duration is 12-16-weeks with random drug screens provided.
URL:https://keepwhatyouvalue.com/event/rc-youth-group-3-2/2027-10-03/
LOCATION:Solutions Education Center – Rutherford County (Office)\, 714 W. Main St.\, Murfreesboro\, TN\, 37129\, United States
CATEGORIES:Rutherford County Youth Prevention Education Program
END:VEVENT
BEGIN:VEVENT
DTSTART;TZID=America/Chicago:20271005T180000
DTEND;TZID=America/Chicago:20271005T200000
DTSTAMP:20260425T082600
CREATED:20240601T224412Z
LAST-MODIFIED:20240606T182041Z
UID:10002567-1822759200-1822766400@keepwhatyouvalue.com
SUMMARY:Women's Domestic Violence Class
DESCRIPTION:This class is designed for women who are convicted of Domestic Violence or related charges and have been court-ordered to attend an intervention program.
URL:https://keepwhatyouvalue.com/event/womens-domestic-violence-class-2/2027-10-05/
LOCATION:Solutions Education Center – Rutherford County (Office)\, 714 W. Main St.\, Murfreesboro\, TN\, 37129\, United States
CATEGORIES:Women's Domestic Violence Class
END:VEVENT
BEGIN:VEVENT
DTSTART;TZID=America/Chicago:20271010T093000
DTEND;TZID=America/Chicago:20271010T113000
DTSTAMP:20260425T082600
CREATED:20240601T224343Z
LAST-MODIFIED:20240606T181405Z
UID:10001263-1823160600-1823167800@keepwhatyouvalue.com
SUMMARY:Batterer's Intervention Program
DESCRIPTION:Men’s Certified Batterer’s Intervention Program
URL:https://keepwhatyouvalue.com/event/batterers-intervention-program-3/2027-10-10/
LOCATION:Solutions Education Center – Rutherford County (Office)\, 714 W. Main St.\, Murfreesboro\, TN\, 37129\, United States
CATEGORIES:Batterer's Intervention Program
END:VEVENT
BEGIN:VEVENT
DTSTART;TZID=America/Chicago:20271010T130000
DTEND;TZID=America/Chicago:20271010T160000
DTSTAMP:20260425T082600
CREATED:20250601T204123Z
LAST-MODIFIED:20250601T204123Z
UID:10003107-1823173200-1823184000@keepwhatyouvalue.com
SUMMARY:RC Youth Group
DESCRIPTION:In partnership with DCS and Rutherford County Juvenile Justice Department\, Solutions Education Center is providing a prevention education program for adolescents. The goal of this program is to prevent the youth from entering state’s custody. Participants in this program will learn substance use prevention education\, self-regulation skills\, and life skills.\nThis program meets once a week for three hours and the duration is 12-16-weeks with random drug screens provided.
URL:https://keepwhatyouvalue.com/event/rc-youth-group-3-2/2027-10-10/
LOCATION:Solutions Education Center – Rutherford County (Office)\, 714 W. Main St.\, Murfreesboro\, TN\, 37129\, United States
CATEGORIES:Rutherford County Youth Prevention Education Program
END:VEVENT
BEGIN:VEVENT
DTSTART;TZID=America/Chicago:20271012T180000
DTEND;TZID=America/Chicago:20271012T200000
DTSTAMP:20260425T082600
CREATED:20240601T224412Z
LAST-MODIFIED:20240606T182041Z
UID:10002568-1823364000-1823371200@keepwhatyouvalue.com
SUMMARY:Women's Domestic Violence Class
DESCRIPTION:This class is designed for women who are convicted of Domestic Violence or related charges and have been court-ordered to attend an intervention program.
URL:https://keepwhatyouvalue.com/event/womens-domestic-violence-class-2/2027-10-12/
LOCATION:Solutions Education Center – Rutherford County (Office)\, 714 W. Main St.\, Murfreesboro\, TN\, 37129\, United States
CATEGORIES:Women's Domestic Violence Class
END:VEVENT
BEGIN:VEVENT
DTSTART;TZID=America/Chicago:20271017T093000
DTEND;TZID=America/Chicago:20271017T113000
DTSTAMP:20260425T082600
CREATED:20240601T224343Z
LAST-MODIFIED:20240606T181405Z
UID:10001264-1823765400-1823772600@keepwhatyouvalue.com
SUMMARY:Batterer's Intervention Program
DESCRIPTION:Men’s Certified Batterer’s Intervention Program
URL:https://keepwhatyouvalue.com/event/batterers-intervention-program-3/2027-10-17/
LOCATION:Solutions Education Center – Rutherford County (Office)\, 714 W. Main St.\, Murfreesboro\, TN\, 37129\, United States
CATEGORIES:Batterer's Intervention Program
END:VEVENT
BEGIN:VEVENT
DTSTART;TZID=America/Chicago:20271017T130000
DTEND;TZID=America/Chicago:20271017T160000
DTSTAMP:20260425T082600
CREATED:20250601T204123Z
LAST-MODIFIED:20250601T204123Z
UID:10003108-1823778000-1823788800@keepwhatyouvalue.com
SUMMARY:RC Youth Group
DESCRIPTION:In partnership with DCS and Rutherford County Juvenile Justice Department\, Solutions Education Center is providing a prevention education program for adolescents. The goal of this program is to prevent the youth from entering state’s custody. Participants in this program will learn substance use prevention education\, self-regulation skills\, and life skills.\nThis program meets once a week for three hours and the duration is 12-16-weeks with random drug screens provided.
URL:https://keepwhatyouvalue.com/event/rc-youth-group-3-2/2027-10-17/
LOCATION:Solutions Education Center – Rutherford County (Office)\, 714 W. Main St.\, Murfreesboro\, TN\, 37129\, United States
CATEGORIES:Rutherford County Youth Prevention Education Program
END:VEVENT
BEGIN:VEVENT
DTSTART;TZID=America/Chicago:20271019T180000
DTEND;TZID=America/Chicago:20271019T200000
DTSTAMP:20260425T082600
CREATED:20240601T224412Z
LAST-MODIFIED:20240606T182041Z
UID:10002569-1823968800-1823976000@keepwhatyouvalue.com
SUMMARY:Women's Domestic Violence Class
DESCRIPTION:This class is designed for women who are convicted of Domestic Violence or related charges and have been court-ordered to attend an intervention program.
URL:https://keepwhatyouvalue.com/event/womens-domestic-violence-class-2/2027-10-19/
LOCATION:Solutions Education Center – Rutherford County (Office)\, 714 W. Main St.\, Murfreesboro\, TN\, 37129\, United States
CATEGORIES:Women's Domestic Violence Class
END:VEVENT
BEGIN:VEVENT
DTSTART;TZID=America/Chicago:20271024T093000
DTEND;TZID=America/Chicago:20271024T113000
DTSTAMP:20260425T082600
CREATED:20240601T224343Z
LAST-MODIFIED:20240606T181405Z
UID:10001265-1824370200-1824377400@keepwhatyouvalue.com
SUMMARY:Batterer's Intervention Program
DESCRIPTION:Men’s Certified Batterer’s Intervention Program
URL:https://keepwhatyouvalue.com/event/batterers-intervention-program-3/2027-10-24/
LOCATION:Solutions Education Center – Rutherford County (Office)\, 714 W. Main St.\, Murfreesboro\, TN\, 37129\, United States
CATEGORIES:Batterer's Intervention Program
END:VEVENT
BEGIN:VEVENT
DTSTART;TZID=America/Chicago:20271024T130000
DTEND;TZID=America/Chicago:20271024T160000
DTSTAMP:20260425T082600
CREATED:20250601T204123Z
LAST-MODIFIED:20250601T204123Z
UID:10003109-1824382800-1824393600@keepwhatyouvalue.com
SUMMARY:RC Youth Group
DESCRIPTION:In partnership with DCS and Rutherford County Juvenile Justice Department\, Solutions Education Center is providing a prevention education program for adolescents. The goal of this program is to prevent the youth from entering state’s custody. Participants in this program will learn substance use prevention education\, self-regulation skills\, and life skills.\nThis program meets once a week for three hours and the duration is 12-16-weeks with random drug screens provided.
URL:https://keepwhatyouvalue.com/event/rc-youth-group-3-2/2027-10-24/
LOCATION:Solutions Education Center – Rutherford County (Office)\, 714 W. Main St.\, Murfreesboro\, TN\, 37129\, United States
CATEGORIES:Rutherford County Youth Prevention Education Program
END:VEVENT
BEGIN:VEVENT
DTSTART;TZID=America/Chicago:20271026T180000
DTEND;TZID=America/Chicago:20271026T200000
DTSTAMP:20260425T082600
CREATED:20240601T224412Z
LAST-MODIFIED:20240606T182041Z
UID:10002570-1824573600-1824580800@keepwhatyouvalue.com
SUMMARY:Women's Domestic Violence Class
DESCRIPTION:This class is designed for women who are convicted of Domestic Violence or related charges and have been court-ordered to attend an intervention program.
URL:https://keepwhatyouvalue.com/event/womens-domestic-violence-class-2/2027-10-26/
LOCATION:Solutions Education Center – Rutherford County (Office)\, 714 W. Main St.\, Murfreesboro\, TN\, 37129\, United States
CATEGORIES:Women's Domestic Violence Class
END:VEVENT
BEGIN:VEVENT
DTSTART;TZID=America/Chicago:20271031T093000
DTEND;TZID=America/Chicago:20271031T113000
DTSTAMP:20260425T082600
CREATED:20240601T224343Z
LAST-MODIFIED:20240606T181405Z
UID:10001266-1824975000-1824982200@keepwhatyouvalue.com
SUMMARY:Batterer's Intervention Program
DESCRIPTION:Men’s Certified Batterer’s Intervention Program
URL:https://keepwhatyouvalue.com/event/batterers-intervention-program-3/2027-10-31/
LOCATION:Solutions Education Center – Rutherford County (Office)\, 714 W. Main St.\, Murfreesboro\, TN\, 37129\, United States
CATEGORIES:Batterer's Intervention Program
END:VEVENT
BEGIN:VEVENT
DTSTART;TZID=America/Chicago:20271031T130000
DTEND;TZID=America/Chicago:20271031T160000
DTSTAMP:20260425T082600
CREATED:20250601T204123Z
LAST-MODIFIED:20250601T204123Z
UID:10003110-1824987600-1824998400@keepwhatyouvalue.com
SUMMARY:RC Youth Group
DESCRIPTION:In partnership with DCS and Rutherford County Juvenile Justice Department\, Solutions Education Center is providing a prevention education program for adolescents. The goal of this program is to prevent the youth from entering state’s custody. Participants in this program will learn substance use prevention education\, self-regulation skills\, and life skills.\nThis program meets once a week for three hours and the duration is 12-16-weeks with random drug screens provided.
URL:https://keepwhatyouvalue.com/event/rc-youth-group-3-2/2027-10-31/
LOCATION:Solutions Education Center – Rutherford County (Office)\, 714 W. Main St.\, Murfreesboro\, TN\, 37129\, United States
CATEGORIES:Rutherford County Youth Prevention Education Program
END:VEVENT
BEGIN:VEVENT
DTSTART;TZID=America/Chicago:20271102T180000
DTEND;TZID=America/Chicago:20271102T200000
DTSTAMP:20260425T082600
CREATED:20240601T224412Z
LAST-MODIFIED:20240606T182041Z
UID:10002571-1825178400-1825185600@keepwhatyouvalue.com
SUMMARY:Women's Domestic Violence Class
DESCRIPTION:This class is designed for women who are convicted of Domestic Violence or related charges and have been court-ordered to attend an intervention program.
URL:https://keepwhatyouvalue.com/event/womens-domestic-violence-class-2/2027-11-02/
LOCATION:Solutions Education Center – Rutherford County (Office)\, 714 W. Main St.\, Murfreesboro\, TN\, 37129\, United States
CATEGORIES:Women's Domestic Violence Class
END:VEVENT
BEGIN:VEVENT
DTSTART;TZID=America/Chicago:20271107T093000
DTEND;TZID=America/Chicago:20271107T113000
DTSTAMP:20260425T082600
CREATED:20240601T224343Z
LAST-MODIFIED:20240606T181405Z
UID:10001267-1825579800-1825587000@keepwhatyouvalue.com
SUMMARY:Batterer's Intervention Program
DESCRIPTION:Men’s Certified Batterer’s Intervention Program
URL:https://keepwhatyouvalue.com/event/batterers-intervention-program-3/2027-11-07/
LOCATION:Solutions Education Center – Rutherford County (Office)\, 714 W. Main St.\, Murfreesboro\, TN\, 37129\, United States
CATEGORIES:Batterer's Intervention Program
END:VEVENT
BEGIN:VEVENT
DTSTART;TZID=America/Chicago:20271107T130000
DTEND;TZID=America/Chicago:20271107T160000
DTSTAMP:20260425T082600
CREATED:20250601T204123Z
LAST-MODIFIED:20250601T204123Z
UID:10003111-1825592400-1825603200@keepwhatyouvalue.com
SUMMARY:RC Youth Group
DESCRIPTION:In partnership with DCS and Rutherford County Juvenile Justice Department\, Solutions Education Center is providing a prevention education program for adolescents. The goal of this program is to prevent the youth from entering state’s custody. Participants in this program will learn substance use prevention education\, self-regulation skills\, and life skills.\nThis program meets once a week for three hours and the duration is 12-16-weeks with random drug screens provided.
URL:https://keepwhatyouvalue.com/event/rc-youth-group-3-2/2027-11-07/
LOCATION:Solutions Education Center – Rutherford County (Office)\, 714 W. Main St.\, Murfreesboro\, TN\, 37129\, United States
CATEGORIES:Rutherford County Youth Prevention Education Program
END:VEVENT
BEGIN:VEVENT
DTSTART;TZID=America/Chicago:20271109T180000
DTEND;TZID=America/Chicago:20271109T200000
DTSTAMP:20260425T082600
CREATED:20240601T224412Z
LAST-MODIFIED:20240606T182041Z
UID:10002572-1825783200-1825790400@keepwhatyouvalue.com
SUMMARY:Women's Domestic Violence Class
DESCRIPTION:This class is designed for women who are convicted of Domestic Violence or related charges and have been court-ordered to attend an intervention program.
URL:https://keepwhatyouvalue.com/event/womens-domestic-violence-class-2/2027-11-09/
LOCATION:Solutions Education Center – Rutherford County (Office)\, 714 W. Main St.\, Murfreesboro\, TN\, 37129\, United States
CATEGORIES:Women's Domestic Violence Class
END:VEVENT
BEGIN:VEVENT
DTSTART;TZID=America/Chicago:20271114T093000
DTEND;TZID=America/Chicago:20271114T113000
DTSTAMP:20260425T082600
CREATED:20240601T224343Z
LAST-MODIFIED:20240606T181405Z
UID:10001268-1826184600-1826191800@keepwhatyouvalue.com
SUMMARY:Batterer's Intervention Program
DESCRIPTION:Men’s Certified Batterer’s Intervention Program
URL:https://keepwhatyouvalue.com/event/batterers-intervention-program-3/2027-11-14/
LOCATION:Solutions Education Center – Rutherford County (Office)\, 714 W. Main St.\, Murfreesboro\, TN\, 37129\, United States
CATEGORIES:Batterer's Intervention Program
END:VEVENT
BEGIN:VEVENT
DTSTART;TZID=America/Chicago:20271114T130000
DTEND;TZID=America/Chicago:20271114T160000
DTSTAMP:20260425T082600
CREATED:20250601T204123Z
LAST-MODIFIED:20250601T204123Z
UID:10003112-1826197200-1826208000@keepwhatyouvalue.com
SUMMARY:RC Youth Group
DESCRIPTION:In partnership with DCS and Rutherford County Juvenile Justice Department\, Solutions Education Center is providing a prevention education program for adolescents. The goal of this program is to prevent the youth from entering state’s custody. Participants in this program will learn substance use prevention education\, self-regulation skills\, and life skills.\nThis program meets once a week for three hours and the duration is 12-16-weeks with random drug screens provided.
URL:https://keepwhatyouvalue.com/event/rc-youth-group-3-2/2027-11-14/
LOCATION:Solutions Education Center – Rutherford County (Office)\, 714 W. Main St.\, Murfreesboro\, TN\, 37129\, United States
CATEGORIES:Rutherford County Youth Prevention Education Program
END:VEVENT
BEGIN:VEVENT
DTSTART;TZID=America/Chicago:20271116T180000
DTEND;TZID=America/Chicago:20271116T200000
DTSTAMP:20260425T082600
CREATED:20240601T224412Z
LAST-MODIFIED:20240606T182041Z
UID:10002573-1826388000-1826395200@keepwhatyouvalue.com
SUMMARY:Women's Domestic Violence Class
DESCRIPTION:This class is designed for women who are convicted of Domestic Violence or related charges and have been court-ordered to attend an intervention program.
URL:https://keepwhatyouvalue.com/event/womens-domestic-violence-class-2/2027-11-16/
LOCATION:Solutions Education Center – Rutherford County (Office)\, 714 W. Main St.\, Murfreesboro\, TN\, 37129\, United States
CATEGORIES:Women's Domestic Violence Class
END:VEVENT
BEGIN:VEVENT
DTSTART;TZID=America/Chicago:20271121T093000
DTEND;TZID=America/Chicago:20271121T113000
DTSTAMP:20260425T082600
CREATED:20240601T224343Z
LAST-MODIFIED:20240606T181405Z
UID:10001269-1826789400-1826796600@keepwhatyouvalue.com
SUMMARY:Batterer's Intervention Program
DESCRIPTION:Men’s Certified Batterer’s Intervention Program
URL:https://keepwhatyouvalue.com/event/batterers-intervention-program-3/2027-11-21/
LOCATION:Solutions Education Center – Rutherford County (Office)\, 714 W. Main St.\, Murfreesboro\, TN\, 37129\, United States
CATEGORIES:Batterer's Intervention Program
END:VEVENT
BEGIN:VEVENT
DTSTART;TZID=America/Chicago:20271121T130000
DTEND;TZID=America/Chicago:20271121T160000
DTSTAMP:20260425T082600
CREATED:20250601T204123Z
LAST-MODIFIED:20250601T204123Z
UID:10003113-1826802000-1826812800@keepwhatyouvalue.com
SUMMARY:RC Youth Group
DESCRIPTION:In partnership with DCS and Rutherford County Juvenile Justice Department\, Solutions Education Center is providing a prevention education program for adolescents. The goal of this program is to prevent the youth from entering state’s custody. Participants in this program will learn substance use prevention education\, self-regulation skills\, and life skills.\nThis program meets once a week for three hours and the duration is 12-16-weeks with random drug screens provided.
URL:https://keepwhatyouvalue.com/event/rc-youth-group-3-2/2027-11-21/
LOCATION:Solutions Education Center – Rutherford County (Office)\, 714 W. Main St.\, Murfreesboro\, TN\, 37129\, United States
CATEGORIES:Rutherford County Youth Prevention Education Program
END:VEVENT
BEGIN:VEVENT
DTSTART;TZID=America/Chicago:20271123T180000
DTEND;TZID=America/Chicago:20271123T200000
DTSTAMP:20260425T082600
CREATED:20240601T224412Z
LAST-MODIFIED:20240606T182041Z
UID:10002574-1826992800-1827000000@keepwhatyouvalue.com
SUMMARY:Women's Domestic Violence Class
DESCRIPTION:This class is designed for women who are convicted of Domestic Violence or related charges and have been court-ordered to attend an intervention program.
URL:https://keepwhatyouvalue.com/event/womens-domestic-violence-class-2/2027-11-23/
LOCATION:Solutions Education Center – Rutherford County (Office)\, 714 W. Main St.\, Murfreesboro\, TN\, 37129\, United States
CATEGORIES:Women's Domestic Violence Class
END:VEVENT
BEGIN:VEVENT
DTSTART;TZID=America/Chicago:20271128T093000
DTEND;TZID=America/Chicago:20271128T113000
DTSTAMP:20260425T082600
CREATED:20240601T224343Z
LAST-MODIFIED:20240606T181405Z
UID:10001270-1827394200-1827401400@keepwhatyouvalue.com
SUMMARY:Batterer's Intervention Program
DESCRIPTION:Men’s Certified Batterer’s Intervention Program
URL:https://keepwhatyouvalue.com/event/batterers-intervention-program-3/2027-11-28/
LOCATION:Solutions Education Center – Rutherford County (Office)\, 714 W. Main St.\, Murfreesboro\, TN\, 37129\, United States
CATEGORIES:Batterer's Intervention Program
END:VEVENT
END:VCALENDAR