BEGIN:VCALENDAR
VERSION:2.0
PRODID:-//Solutions Education Center - ECPv6.15.20//NONSGML v1.0//EN
CALSCALE:GREGORIAN
METHOD:PUBLISH
X-ORIGINAL-URL:https://keepwhatyouvalue.com
X-WR-CALDESC:Events for Solutions Education Center
REFRESH-INTERVAL;VALUE=DURATION:PT1H
X-Robots-Tag:noindex
X-PUBLISHED-TTL:PT1H
BEGIN:VTIMEZONE
TZID:America/Chicago
BEGIN:DAYLIGHT
TZOFFSETFROM:-0600
TZOFFSETTO:-0500
TZNAME:CDT
DTSTART:20260308T080000
END:DAYLIGHT
BEGIN:STANDARD
TZOFFSETFROM:-0500
TZOFFSETTO:-0600
TZNAME:CST
DTSTART:20261101T070000
END:STANDARD
BEGIN:DAYLIGHT
TZOFFSETFROM:-0600
TZOFFSETTO:-0500
TZNAME:CDT
DTSTART:20270314T080000
END:DAYLIGHT
BEGIN:STANDARD
TZOFFSETFROM:-0500
TZOFFSETTO:-0600
TZNAME:CST
DTSTART:20271107T070000
END:STANDARD
BEGIN:DAYLIGHT
TZOFFSETFROM:-0600
TZOFFSETTO:-0500
TZNAME:CDT
DTSTART:20280312T080000
END:DAYLIGHT
BEGIN:STANDARD
TZOFFSETFROM:-0500
TZOFFSETTO:-0600
TZNAME:CST
DTSTART:20281105T070000
END:STANDARD
END:VTIMEZONE
BEGIN:VEVENT
DTSTART;TZID=America/Chicago:20270803T180000
DTEND;TZID=America/Chicago:20270803T200000
DTSTAMP:20260425T054850
CREATED:20240601T224412Z
LAST-MODIFIED:20240606T182041Z
UID:10002558-1817316000-1817323200@keepwhatyouvalue.com
SUMMARY:Women's Domestic Violence Class
DESCRIPTION:This class is designed for women who are convicted of Domestic Violence or related charges and have been court-ordered to attend an intervention program.
URL:https://keepwhatyouvalue.com/event/womens-domestic-violence-class-2/2027-08-03/
LOCATION:Solutions Education Center – Rutherford County (Office)\, 714 W. Main St.\, Murfreesboro\, TN\, 37129\, United States
CATEGORIES:Women's Domestic Violence Class
END:VEVENT
BEGIN:VEVENT
DTSTART;TZID=America/Chicago:20270808T093000
DTEND;TZID=America/Chicago:20270808T113000
DTSTAMP:20260425T054850
CREATED:20240601T224343Z
LAST-MODIFIED:20240606T181405Z
UID:10001254-1817717400-1817724600@keepwhatyouvalue.com
SUMMARY:Batterer's Intervention Program
DESCRIPTION:Men’s Certified Batterer’s Intervention Program
URL:https://keepwhatyouvalue.com/event/batterers-intervention-program-3/2027-08-08/
LOCATION:Solutions Education Center – Rutherford County (Office)\, 714 W. Main St.\, Murfreesboro\, TN\, 37129\, United States
CATEGORIES:Batterer's Intervention Program
END:VEVENT
BEGIN:VEVENT
DTSTART;TZID=America/Chicago:20270808T130000
DTEND;TZID=America/Chicago:20270808T160000
DTSTAMP:20260425T054850
CREATED:20250601T204123Z
LAST-MODIFIED:20250601T204123Z
UID:10003098-1817730000-1817740800@keepwhatyouvalue.com
SUMMARY:RC Youth Group
DESCRIPTION:In partnership with DCS and Rutherford County Juvenile Justice Department\, Solutions Education Center is providing a prevention education program for adolescents. The goal of this program is to prevent the youth from entering state’s custody. Participants in this program will learn substance use prevention education\, self-regulation skills\, and life skills.\nThis program meets once a week for three hours and the duration is 12-16-weeks with random drug screens provided.
URL:https://keepwhatyouvalue.com/event/rc-youth-group-3-2/2027-08-08/
LOCATION:Solutions Education Center – Rutherford County (Office)\, 714 W. Main St.\, Murfreesboro\, TN\, 37129\, United States
CATEGORIES:Rutherford County Youth Prevention Education Program
END:VEVENT
BEGIN:VEVENT
DTSTART;TZID=America/Chicago:20270810T180000
DTEND;TZID=America/Chicago:20270810T200000
DTSTAMP:20260425T054850
CREATED:20240601T224412Z
LAST-MODIFIED:20240606T182041Z
UID:10002559-1817920800-1817928000@keepwhatyouvalue.com
SUMMARY:Women's Domestic Violence Class
DESCRIPTION:This class is designed for women who are convicted of Domestic Violence or related charges and have been court-ordered to attend an intervention program.
URL:https://keepwhatyouvalue.com/event/womens-domestic-violence-class-2/2027-08-10/
LOCATION:Solutions Education Center – Rutherford County (Office)\, 714 W. Main St.\, Murfreesboro\, TN\, 37129\, United States
CATEGORIES:Women's Domestic Violence Class
END:VEVENT
BEGIN:VEVENT
DTSTART;TZID=America/Chicago:20270815T093000
DTEND;TZID=America/Chicago:20270815T113000
DTSTAMP:20260425T054850
CREATED:20240601T224343Z
LAST-MODIFIED:20240606T181405Z
UID:10001255-1818322200-1818329400@keepwhatyouvalue.com
SUMMARY:Batterer's Intervention Program
DESCRIPTION:Men’s Certified Batterer’s Intervention Program
URL:https://keepwhatyouvalue.com/event/batterers-intervention-program-3/2027-08-15/
LOCATION:Solutions Education Center – Rutherford County (Office)\, 714 W. Main St.\, Murfreesboro\, TN\, 37129\, United States
CATEGORIES:Batterer's Intervention Program
END:VEVENT
BEGIN:VEVENT
DTSTART;TZID=America/Chicago:20270815T130000
DTEND;TZID=America/Chicago:20270815T160000
DTSTAMP:20260425T054850
CREATED:20250601T204123Z
LAST-MODIFIED:20250601T204123Z
UID:10003099-1818334800-1818345600@keepwhatyouvalue.com
SUMMARY:RC Youth Group
DESCRIPTION:In partnership with DCS and Rutherford County Juvenile Justice Department\, Solutions Education Center is providing a prevention education program for adolescents. The goal of this program is to prevent the youth from entering state’s custody. Participants in this program will learn substance use prevention education\, self-regulation skills\, and life skills.\nThis program meets once a week for three hours and the duration is 12-16-weeks with random drug screens provided.
URL:https://keepwhatyouvalue.com/event/rc-youth-group-3-2/2027-08-15/
LOCATION:Solutions Education Center – Rutherford County (Office)\, 714 W. Main St.\, Murfreesboro\, TN\, 37129\, United States
CATEGORIES:Rutherford County Youth Prevention Education Program
END:VEVENT
BEGIN:VEVENT
DTSTART;TZID=America/Chicago:20270817T180000
DTEND;TZID=America/Chicago:20270817T200000
DTSTAMP:20260425T054850
CREATED:20240601T224412Z
LAST-MODIFIED:20240606T182041Z
UID:10002560-1818525600-1818532800@keepwhatyouvalue.com
SUMMARY:Women's Domestic Violence Class
DESCRIPTION:This class is designed for women who are convicted of Domestic Violence or related charges and have been court-ordered to attend an intervention program.
URL:https://keepwhatyouvalue.com/event/womens-domestic-violence-class-2/2027-08-17/
LOCATION:Solutions Education Center – Rutherford County (Office)\, 714 W. Main St.\, Murfreesboro\, TN\, 37129\, United States
CATEGORIES:Women's Domestic Violence Class
END:VEVENT
BEGIN:VEVENT
DTSTART;TZID=America/Chicago:20270822T093000
DTEND;TZID=America/Chicago:20270822T113000
DTSTAMP:20260425T054850
CREATED:20240601T224343Z
LAST-MODIFIED:20240606T181405Z
UID:10001256-1818927000-1818934200@keepwhatyouvalue.com
SUMMARY:Batterer's Intervention Program
DESCRIPTION:Men’s Certified Batterer’s Intervention Program
URL:https://keepwhatyouvalue.com/event/batterers-intervention-program-3/2027-08-22/
LOCATION:Solutions Education Center – Rutherford County (Office)\, 714 W. Main St.\, Murfreesboro\, TN\, 37129\, United States
CATEGORIES:Batterer's Intervention Program
END:VEVENT
BEGIN:VEVENT
DTSTART;TZID=America/Chicago:20270822T130000
DTEND;TZID=America/Chicago:20270822T160000
DTSTAMP:20260425T054850
CREATED:20250601T204123Z
LAST-MODIFIED:20250601T204123Z
UID:10003100-1818939600-1818950400@keepwhatyouvalue.com
SUMMARY:RC Youth Group
DESCRIPTION:In partnership with DCS and Rutherford County Juvenile Justice Department\, Solutions Education Center is providing a prevention education program for adolescents. The goal of this program is to prevent the youth from entering state’s custody. Participants in this program will learn substance use prevention education\, self-regulation skills\, and life skills.\nThis program meets once a week for three hours and the duration is 12-16-weeks with random drug screens provided.
URL:https://keepwhatyouvalue.com/event/rc-youth-group-3-2/2027-08-22/
LOCATION:Solutions Education Center – Rutherford County (Office)\, 714 W. Main St.\, Murfreesboro\, TN\, 37129\, United States
CATEGORIES:Rutherford County Youth Prevention Education Program
END:VEVENT
BEGIN:VEVENT
DTSTART;TZID=America/Chicago:20270824T180000
DTEND;TZID=America/Chicago:20270824T200000
DTSTAMP:20260425T054850
CREATED:20240601T224412Z
LAST-MODIFIED:20240606T182041Z
UID:10002561-1819130400-1819137600@keepwhatyouvalue.com
SUMMARY:Women's Domestic Violence Class
DESCRIPTION:This class is designed for women who are convicted of Domestic Violence or related charges and have been court-ordered to attend an intervention program.
URL:https://keepwhatyouvalue.com/event/womens-domestic-violence-class-2/2027-08-24/
LOCATION:Solutions Education Center – Rutherford County (Office)\, 714 W. Main St.\, Murfreesboro\, TN\, 37129\, United States
CATEGORIES:Women's Domestic Violence Class
END:VEVENT
BEGIN:VEVENT
DTSTART;TZID=America/Chicago:20270829T093000
DTEND;TZID=America/Chicago:20270829T113000
DTSTAMP:20260425T054850
CREATED:20240601T224343Z
LAST-MODIFIED:20240606T181405Z
UID:10001257-1819531800-1819539000@keepwhatyouvalue.com
SUMMARY:Batterer's Intervention Program
DESCRIPTION:Men’s Certified Batterer’s Intervention Program
URL:https://keepwhatyouvalue.com/event/batterers-intervention-program-3/2027-08-29/
LOCATION:Solutions Education Center – Rutherford County (Office)\, 714 W. Main St.\, Murfreesboro\, TN\, 37129\, United States
CATEGORIES:Batterer's Intervention Program
END:VEVENT
BEGIN:VEVENT
DTSTART;TZID=America/Chicago:20270829T130000
DTEND;TZID=America/Chicago:20270829T160000
DTSTAMP:20260425T054850
CREATED:20250601T204123Z
LAST-MODIFIED:20250601T204123Z
UID:10003101-1819544400-1819555200@keepwhatyouvalue.com
SUMMARY:RC Youth Group
DESCRIPTION:In partnership with DCS and Rutherford County Juvenile Justice Department\, Solutions Education Center is providing a prevention education program for adolescents. The goal of this program is to prevent the youth from entering state’s custody. Participants in this program will learn substance use prevention education\, self-regulation skills\, and life skills.\nThis program meets once a week for three hours and the duration is 12-16-weeks with random drug screens provided.
URL:https://keepwhatyouvalue.com/event/rc-youth-group-3-2/2027-08-29/
LOCATION:Solutions Education Center – Rutherford County (Office)\, 714 W. Main St.\, Murfreesboro\, TN\, 37129\, United States
CATEGORIES:Rutherford County Youth Prevention Education Program
END:VEVENT
BEGIN:VEVENT
DTSTART;TZID=America/Chicago:20270831T180000
DTEND;TZID=America/Chicago:20270831T200000
DTSTAMP:20260425T054850
CREATED:20240601T224412Z
LAST-MODIFIED:20240606T182041Z
UID:10002562-1819735200-1819742400@keepwhatyouvalue.com
SUMMARY:Women's Domestic Violence Class
DESCRIPTION:This class is designed for women who are convicted of Domestic Violence or related charges and have been court-ordered to attend an intervention program.
URL:https://keepwhatyouvalue.com/event/womens-domestic-violence-class-2/2027-08-31/
LOCATION:Solutions Education Center – Rutherford County (Office)\, 714 W. Main St.\, Murfreesboro\, TN\, 37129\, United States
CATEGORIES:Women's Domestic Violence Class
END:VEVENT
BEGIN:VEVENT
DTSTART;TZID=America/Chicago:20270905T093000
DTEND;TZID=America/Chicago:20270905T113000
DTSTAMP:20260425T054850
CREATED:20240601T224343Z
LAST-MODIFIED:20240606T181405Z
UID:10001258-1820136600-1820143800@keepwhatyouvalue.com
SUMMARY:Batterer's Intervention Program
DESCRIPTION:Men’s Certified Batterer’s Intervention Program
URL:https://keepwhatyouvalue.com/event/batterers-intervention-program-3/2027-09-05/
LOCATION:Solutions Education Center – Rutherford County (Office)\, 714 W. Main St.\, Murfreesboro\, TN\, 37129\, United States
CATEGORIES:Batterer's Intervention Program
END:VEVENT
BEGIN:VEVENT
DTSTART;TZID=America/Chicago:20270905T130000
DTEND;TZID=America/Chicago:20270905T160000
DTSTAMP:20260425T054850
CREATED:20250601T204123Z
LAST-MODIFIED:20250601T204123Z
UID:10003102-1820149200-1820160000@keepwhatyouvalue.com
SUMMARY:RC Youth Group
DESCRIPTION:In partnership with DCS and Rutherford County Juvenile Justice Department\, Solutions Education Center is providing a prevention education program for adolescents. The goal of this program is to prevent the youth from entering state’s custody. Participants in this program will learn substance use prevention education\, self-regulation skills\, and life skills.\nThis program meets once a week for three hours and the duration is 12-16-weeks with random drug screens provided.
URL:https://keepwhatyouvalue.com/event/rc-youth-group-3-2/2027-09-05/
LOCATION:Solutions Education Center – Rutherford County (Office)\, 714 W. Main St.\, Murfreesboro\, TN\, 37129\, United States
CATEGORIES:Rutherford County Youth Prevention Education Program
END:VEVENT
BEGIN:VEVENT
DTSTART;TZID=America/Chicago:20270907T180000
DTEND;TZID=America/Chicago:20270907T200000
DTSTAMP:20260425T054850
CREATED:20240601T224412Z
LAST-MODIFIED:20240606T182041Z
UID:10002563-1820340000-1820347200@keepwhatyouvalue.com
SUMMARY:Women's Domestic Violence Class
DESCRIPTION:This class is designed for women who are convicted of Domestic Violence or related charges and have been court-ordered to attend an intervention program.
URL:https://keepwhatyouvalue.com/event/womens-domestic-violence-class-2/2027-09-07/
LOCATION:Solutions Education Center – Rutherford County (Office)\, 714 W. Main St.\, Murfreesboro\, TN\, 37129\, United States
CATEGORIES:Women's Domestic Violence Class
END:VEVENT
BEGIN:VEVENT
DTSTART;TZID=America/Chicago:20270912T093000
DTEND;TZID=America/Chicago:20270912T113000
DTSTAMP:20260425T054850
CREATED:20240601T224343Z
LAST-MODIFIED:20240606T181405Z
UID:10001259-1820741400-1820748600@keepwhatyouvalue.com
SUMMARY:Batterer's Intervention Program
DESCRIPTION:Men’s Certified Batterer’s Intervention Program
URL:https://keepwhatyouvalue.com/event/batterers-intervention-program-3/2027-09-12/
LOCATION:Solutions Education Center – Rutherford County (Office)\, 714 W. Main St.\, Murfreesboro\, TN\, 37129\, United States
CATEGORIES:Batterer's Intervention Program
END:VEVENT
BEGIN:VEVENT
DTSTART;TZID=America/Chicago:20270912T130000
DTEND;TZID=America/Chicago:20270912T160000
DTSTAMP:20260425T054850
CREATED:20250601T204123Z
LAST-MODIFIED:20250601T204123Z
UID:10003103-1820754000-1820764800@keepwhatyouvalue.com
SUMMARY:RC Youth Group
DESCRIPTION:In partnership with DCS and Rutherford County Juvenile Justice Department\, Solutions Education Center is providing a prevention education program for adolescents. The goal of this program is to prevent the youth from entering state’s custody. Participants in this program will learn substance use prevention education\, self-regulation skills\, and life skills.\nThis program meets once a week for three hours and the duration is 12-16-weeks with random drug screens provided.
URL:https://keepwhatyouvalue.com/event/rc-youth-group-3-2/2027-09-12/
LOCATION:Solutions Education Center – Rutherford County (Office)\, 714 W. Main St.\, Murfreesboro\, TN\, 37129\, United States
CATEGORIES:Rutherford County Youth Prevention Education Program
END:VEVENT
BEGIN:VEVENT
DTSTART;TZID=America/Chicago:20270914T180000
DTEND;TZID=America/Chicago:20270914T200000
DTSTAMP:20260425T054850
CREATED:20240601T224412Z
LAST-MODIFIED:20240606T182041Z
UID:10002564-1820944800-1820952000@keepwhatyouvalue.com
SUMMARY:Women's Domestic Violence Class
DESCRIPTION:This class is designed for women who are convicted of Domestic Violence or related charges and have been court-ordered to attend an intervention program.
URL:https://keepwhatyouvalue.com/event/womens-domestic-violence-class-2/2027-09-14/
LOCATION:Solutions Education Center – Rutherford County (Office)\, 714 W. Main St.\, Murfreesboro\, TN\, 37129\, United States
CATEGORIES:Women's Domestic Violence Class
END:VEVENT
BEGIN:VEVENT
DTSTART;TZID=America/Chicago:20270919T093000
DTEND;TZID=America/Chicago:20270919T113000
DTSTAMP:20260425T054850
CREATED:20240601T224343Z
LAST-MODIFIED:20240606T181405Z
UID:10001260-1821346200-1821353400@keepwhatyouvalue.com
SUMMARY:Batterer's Intervention Program
DESCRIPTION:Men’s Certified Batterer’s Intervention Program
URL:https://keepwhatyouvalue.com/event/batterers-intervention-program-3/2027-09-19/
LOCATION:Solutions Education Center – Rutherford County (Office)\, 714 W. Main St.\, Murfreesboro\, TN\, 37129\, United States
CATEGORIES:Batterer's Intervention Program
END:VEVENT
BEGIN:VEVENT
DTSTART;TZID=America/Chicago:20270919T130000
DTEND;TZID=America/Chicago:20270919T160000
DTSTAMP:20260425T054850
CREATED:20250601T204123Z
LAST-MODIFIED:20250601T204123Z
UID:10003104-1821358800-1821369600@keepwhatyouvalue.com
SUMMARY:RC Youth Group
DESCRIPTION:In partnership with DCS and Rutherford County Juvenile Justice Department\, Solutions Education Center is providing a prevention education program for adolescents. The goal of this program is to prevent the youth from entering state’s custody. Participants in this program will learn substance use prevention education\, self-regulation skills\, and life skills.\nThis program meets once a week for three hours and the duration is 12-16-weeks with random drug screens provided.
URL:https://keepwhatyouvalue.com/event/rc-youth-group-3-2/2027-09-19/
LOCATION:Solutions Education Center – Rutherford County (Office)\, 714 W. Main St.\, Murfreesboro\, TN\, 37129\, United States
CATEGORIES:Rutherford County Youth Prevention Education Program
END:VEVENT
BEGIN:VEVENT
DTSTART;TZID=America/Chicago:20270921T180000
DTEND;TZID=America/Chicago:20270921T200000
DTSTAMP:20260425T054850
CREATED:20240601T224412Z
LAST-MODIFIED:20240606T182041Z
UID:10002565-1821549600-1821556800@keepwhatyouvalue.com
SUMMARY:Women's Domestic Violence Class
DESCRIPTION:This class is designed for women who are convicted of Domestic Violence or related charges and have been court-ordered to attend an intervention program.
URL:https://keepwhatyouvalue.com/event/womens-domestic-violence-class-2/2027-09-21/
LOCATION:Solutions Education Center – Rutherford County (Office)\, 714 W. Main St.\, Murfreesboro\, TN\, 37129\, United States
CATEGORIES:Women's Domestic Violence Class
END:VEVENT
BEGIN:VEVENT
DTSTART;TZID=America/Chicago:20270926T093000
DTEND;TZID=America/Chicago:20270926T113000
DTSTAMP:20260425T054850
CREATED:20240601T224343Z
LAST-MODIFIED:20240606T181405Z
UID:10001261-1821951000-1821958200@keepwhatyouvalue.com
SUMMARY:Batterer's Intervention Program
DESCRIPTION:Men’s Certified Batterer’s Intervention Program
URL:https://keepwhatyouvalue.com/event/batterers-intervention-program-3/2027-09-26/
LOCATION:Solutions Education Center – Rutherford County (Office)\, 714 W. Main St.\, Murfreesboro\, TN\, 37129\, United States
CATEGORIES:Batterer's Intervention Program
END:VEVENT
BEGIN:VEVENT
DTSTART;TZID=America/Chicago:20270926T130000
DTEND;TZID=America/Chicago:20270926T160000
DTSTAMP:20260425T054850
CREATED:20250601T204123Z
LAST-MODIFIED:20250601T204123Z
UID:10003105-1821963600-1821974400@keepwhatyouvalue.com
SUMMARY:RC Youth Group
DESCRIPTION:In partnership with DCS and Rutherford County Juvenile Justice Department\, Solutions Education Center is providing a prevention education program for adolescents. The goal of this program is to prevent the youth from entering state’s custody. Participants in this program will learn substance use prevention education\, self-regulation skills\, and life skills.\nThis program meets once a week for three hours and the duration is 12-16-weeks with random drug screens provided.
URL:https://keepwhatyouvalue.com/event/rc-youth-group-3-2/2027-09-26/
LOCATION:Solutions Education Center – Rutherford County (Office)\, 714 W. Main St.\, Murfreesboro\, TN\, 37129\, United States
CATEGORIES:Rutherford County Youth Prevention Education Program
END:VEVENT
BEGIN:VEVENT
DTSTART;TZID=America/Chicago:20270928T180000
DTEND;TZID=America/Chicago:20270928T200000
DTSTAMP:20260425T054850
CREATED:20240601T224412Z
LAST-MODIFIED:20240606T182041Z
UID:10002566-1822154400-1822161600@keepwhatyouvalue.com
SUMMARY:Women's Domestic Violence Class
DESCRIPTION:This class is designed for women who are convicted of Domestic Violence or related charges and have been court-ordered to attend an intervention program.
URL:https://keepwhatyouvalue.com/event/womens-domestic-violence-class-2/2027-09-28/
LOCATION:Solutions Education Center – Rutherford County (Office)\, 714 W. Main St.\, Murfreesboro\, TN\, 37129\, United States
CATEGORIES:Women's Domestic Violence Class
END:VEVENT
BEGIN:VEVENT
DTSTART;TZID=America/Chicago:20271003T093000
DTEND;TZID=America/Chicago:20271003T113000
DTSTAMP:20260425T054850
CREATED:20240601T224343Z
LAST-MODIFIED:20240606T181405Z
UID:10001262-1822555800-1822563000@keepwhatyouvalue.com
SUMMARY:Batterer's Intervention Program
DESCRIPTION:Men’s Certified Batterer’s Intervention Program
URL:https://keepwhatyouvalue.com/event/batterers-intervention-program-3/2027-10-03/
LOCATION:Solutions Education Center – Rutherford County (Office)\, 714 W. Main St.\, Murfreesboro\, TN\, 37129\, United States
CATEGORIES:Batterer's Intervention Program
END:VEVENT
BEGIN:VEVENT
DTSTART;TZID=America/Chicago:20271003T130000
DTEND;TZID=America/Chicago:20271003T160000
DTSTAMP:20260425T054850
CREATED:20250601T204123Z
LAST-MODIFIED:20250601T204123Z
UID:10003106-1822568400-1822579200@keepwhatyouvalue.com
SUMMARY:RC Youth Group
DESCRIPTION:In partnership with DCS and Rutherford County Juvenile Justice Department\, Solutions Education Center is providing a prevention education program for adolescents. The goal of this program is to prevent the youth from entering state’s custody. Participants in this program will learn substance use prevention education\, self-regulation skills\, and life skills.\nThis program meets once a week for three hours and the duration is 12-16-weeks with random drug screens provided.
URL:https://keepwhatyouvalue.com/event/rc-youth-group-3-2/2027-10-03/
LOCATION:Solutions Education Center – Rutherford County (Office)\, 714 W. Main St.\, Murfreesboro\, TN\, 37129\, United States
CATEGORIES:Rutherford County Youth Prevention Education Program
END:VEVENT
BEGIN:VEVENT
DTSTART;TZID=America/Chicago:20271005T180000
DTEND;TZID=America/Chicago:20271005T200000
DTSTAMP:20260425T054850
CREATED:20240601T224412Z
LAST-MODIFIED:20240606T182041Z
UID:10002567-1822759200-1822766400@keepwhatyouvalue.com
SUMMARY:Women's Domestic Violence Class
DESCRIPTION:This class is designed for women who are convicted of Domestic Violence or related charges and have been court-ordered to attend an intervention program.
URL:https://keepwhatyouvalue.com/event/womens-domestic-violence-class-2/2027-10-05/
LOCATION:Solutions Education Center – Rutherford County (Office)\, 714 W. Main St.\, Murfreesboro\, TN\, 37129\, United States
CATEGORIES:Women's Domestic Violence Class
END:VEVENT
BEGIN:VEVENT
DTSTART;TZID=America/Chicago:20271010T093000
DTEND;TZID=America/Chicago:20271010T113000
DTSTAMP:20260425T054850
CREATED:20240601T224343Z
LAST-MODIFIED:20240606T181405Z
UID:10001263-1823160600-1823167800@keepwhatyouvalue.com
SUMMARY:Batterer's Intervention Program
DESCRIPTION:Men’s Certified Batterer’s Intervention Program
URL:https://keepwhatyouvalue.com/event/batterers-intervention-program-3/2027-10-10/
LOCATION:Solutions Education Center – Rutherford County (Office)\, 714 W. Main St.\, Murfreesboro\, TN\, 37129\, United States
CATEGORIES:Batterer's Intervention Program
END:VEVENT
BEGIN:VEVENT
DTSTART;TZID=America/Chicago:20271010T130000
DTEND;TZID=America/Chicago:20271010T160000
DTSTAMP:20260425T054850
CREATED:20250601T204123Z
LAST-MODIFIED:20250601T204123Z
UID:10003107-1823173200-1823184000@keepwhatyouvalue.com
SUMMARY:RC Youth Group
DESCRIPTION:In partnership with DCS and Rutherford County Juvenile Justice Department\, Solutions Education Center is providing a prevention education program for adolescents. The goal of this program is to prevent the youth from entering state’s custody. Participants in this program will learn substance use prevention education\, self-regulation skills\, and life skills.\nThis program meets once a week for three hours and the duration is 12-16-weeks with random drug screens provided.
URL:https://keepwhatyouvalue.com/event/rc-youth-group-3-2/2027-10-10/
LOCATION:Solutions Education Center – Rutherford County (Office)\, 714 W. Main St.\, Murfreesboro\, TN\, 37129\, United States
CATEGORIES:Rutherford County Youth Prevention Education Program
END:VEVENT
END:VCALENDAR