BEGIN:VCALENDAR
VERSION:2.0
PRODID:-//Solutions Education Center - ECPv6.15.20//NONSGML v1.0//EN
CALSCALE:GREGORIAN
METHOD:PUBLISH
X-WR-CALNAME:Solutions Education Center
X-ORIGINAL-URL:https://keepwhatyouvalue.com
X-WR-CALDESC:Events for Solutions Education Center
REFRESH-INTERVAL;VALUE=DURATION:PT1H
X-Robots-Tag:noindex
X-PUBLISHED-TTL:PT1H
BEGIN:VTIMEZONE
TZID:America/Chicago
BEGIN:DAYLIGHT
TZOFFSETFROM:-0600
TZOFFSETTO:-0500
TZNAME:CDT
DTSTART:20240310T080000
END:DAYLIGHT
BEGIN:STANDARD
TZOFFSETFROM:-0500
TZOFFSETTO:-0600
TZNAME:CST
DTSTART:20241103T070000
END:STANDARD
BEGIN:DAYLIGHT
TZOFFSETFROM:-0600
TZOFFSETTO:-0500
TZNAME:CDT
DTSTART:20250309T080000
END:DAYLIGHT
BEGIN:STANDARD
TZOFFSETFROM:-0500
TZOFFSETTO:-0600
TZNAME:CST
DTSTART:20251102T070000
END:STANDARD
BEGIN:DAYLIGHT
TZOFFSETFROM:-0600
TZOFFSETTO:-0500
TZNAME:CDT
DTSTART:20260308T080000
END:DAYLIGHT
BEGIN:STANDARD
TZOFFSETFROM:-0500
TZOFFSETTO:-0600
TZNAME:CST
DTSTART:20261101T070000
END:STANDARD
END:VTIMEZONE
BEGIN:VEVENT
DTSTART;TZID=America/Chicago:20250211T180000
DTEND;TZID=America/Chicago:20250211T200000
DTSTAMP:20260423T053810
CREATED:20240601T224412Z
LAST-MODIFIED:20240606T182041Z
UID:10002429-1739296800-1739304000@keepwhatyouvalue.com
SUMMARY:Women's Domestic Violence Class
DESCRIPTION:This class is designed for women who are convicted of Domestic Violence or related charges and have been court-ordered to attend an intervention program.
URL:https://keepwhatyouvalue.com/event/womens-domestic-violence-class-2/2025-02-11/
LOCATION:Solutions Education Center – Rutherford County (Office)\, 714 W. Main St.\, Murfreesboro\, TN\, 37129\, United States
CATEGORIES:Women's Domestic Violence Class
END:VEVENT
BEGIN:VEVENT
DTSTART;TZID=America/Chicago:20250218T180000
DTEND;TZID=America/Chicago:20250218T200000
DTSTAMP:20260423T053810
CREATED:20240601T224412Z
LAST-MODIFIED:20240606T182041Z
UID:10002430-1739901600-1739908800@keepwhatyouvalue.com
SUMMARY:Women's Domestic Violence Class
DESCRIPTION:This class is designed for women who are convicted of Domestic Violence or related charges and have been court-ordered to attend an intervention program.
URL:https://keepwhatyouvalue.com/event/womens-domestic-violence-class-2/2025-02-18/
LOCATION:Solutions Education Center – Rutherford County (Office)\, 714 W. Main St.\, Murfreesboro\, TN\, 37129\, United States
CATEGORIES:Women's Domestic Violence Class
END:VEVENT
BEGIN:VEVENT
DTSTART;TZID=America/Chicago:20250225T180000
DTEND;TZID=America/Chicago:20250225T200000
DTSTAMP:20260423T053810
CREATED:20240601T224412Z
LAST-MODIFIED:20240606T182041Z
UID:10002431-1740506400-1740513600@keepwhatyouvalue.com
SUMMARY:Women's Domestic Violence Class
DESCRIPTION:This class is designed for women who are convicted of Domestic Violence or related charges and have been court-ordered to attend an intervention program.
URL:https://keepwhatyouvalue.com/event/womens-domestic-violence-class-2/2025-02-25/
LOCATION:Solutions Education Center – Rutherford County (Office)\, 714 W. Main St.\, Murfreesboro\, TN\, 37129\, United States
CATEGORIES:Women's Domestic Violence Class
END:VEVENT
BEGIN:VEVENT
DTSTART;TZID=America/Chicago:20250304T180000
DTEND;TZID=America/Chicago:20250304T200000
DTSTAMP:20260423T053810
CREATED:20240601T224412Z
LAST-MODIFIED:20240606T182041Z
UID:10002432-1741111200-1741118400@keepwhatyouvalue.com
SUMMARY:Women's Domestic Violence Class
DESCRIPTION:This class is designed for women who are convicted of Domestic Violence or related charges and have been court-ordered to attend an intervention program.
URL:https://keepwhatyouvalue.com/event/womens-domestic-violence-class-2/2025-03-04/
LOCATION:Solutions Education Center – Rutherford County (Office)\, 714 W. Main St.\, Murfreesboro\, TN\, 37129\, United States
CATEGORIES:Women's Domestic Violence Class
END:VEVENT
BEGIN:VEVENT
DTSTART;TZID=America/Chicago:20250311T180000
DTEND;TZID=America/Chicago:20250311T200000
DTSTAMP:20260423T053810
CREATED:20240601T224412Z
LAST-MODIFIED:20240606T182041Z
UID:10002433-1741716000-1741723200@keepwhatyouvalue.com
SUMMARY:Women's Domestic Violence Class
DESCRIPTION:This class is designed for women who are convicted of Domestic Violence or related charges and have been court-ordered to attend an intervention program.
URL:https://keepwhatyouvalue.com/event/womens-domestic-violence-class-2/2025-03-11/
LOCATION:Solutions Education Center – Rutherford County (Office)\, 714 W. Main St.\, Murfreesboro\, TN\, 37129\, United States
CATEGORIES:Women's Domestic Violence Class
END:VEVENT
BEGIN:VEVENT
DTSTART;TZID=America/Chicago:20250318T180000
DTEND;TZID=America/Chicago:20250318T200000
DTSTAMP:20260423T053810
CREATED:20240601T224412Z
LAST-MODIFIED:20240606T182041Z
UID:10002434-1742320800-1742328000@keepwhatyouvalue.com
SUMMARY:Women's Domestic Violence Class
DESCRIPTION:This class is designed for women who are convicted of Domestic Violence or related charges and have been court-ordered to attend an intervention program.
URL:https://keepwhatyouvalue.com/event/womens-domestic-violence-class-2/2025-03-18/
LOCATION:Solutions Education Center – Rutherford County (Office)\, 714 W. Main St.\, Murfreesboro\, TN\, 37129\, United States
CATEGORIES:Women's Domestic Violence Class
END:VEVENT
BEGIN:VEVENT
DTSTART;TZID=America/Chicago:20250325T180000
DTEND;TZID=America/Chicago:20250325T200000
DTSTAMP:20260423T053810
CREATED:20240601T224412Z
LAST-MODIFIED:20240606T182041Z
UID:10002435-1742925600-1742932800@keepwhatyouvalue.com
SUMMARY:Women's Domestic Violence Class
DESCRIPTION:This class is designed for women who are convicted of Domestic Violence or related charges and have been court-ordered to attend an intervention program.
URL:https://keepwhatyouvalue.com/event/womens-domestic-violence-class-2/2025-03-25/
LOCATION:Solutions Education Center – Rutherford County (Office)\, 714 W. Main St.\, Murfreesboro\, TN\, 37129\, United States
CATEGORIES:Women's Domestic Violence Class
END:VEVENT
BEGIN:VEVENT
DTSTART;TZID=America/Chicago:20250401T180000
DTEND;TZID=America/Chicago:20250401T200000
DTSTAMP:20260423T053810
CREATED:20240601T224412Z
LAST-MODIFIED:20240606T182041Z
UID:10002436-1743530400-1743537600@keepwhatyouvalue.com
SUMMARY:Women's Domestic Violence Class
DESCRIPTION:This class is designed for women who are convicted of Domestic Violence or related charges and have been court-ordered to attend an intervention program.
URL:https://keepwhatyouvalue.com/event/womens-domestic-violence-class-2/2025-04-01/
LOCATION:Solutions Education Center – Rutherford County (Office)\, 714 W. Main St.\, Murfreesboro\, TN\, 37129\, United States
CATEGORIES:Women's Domestic Violence Class
END:VEVENT
BEGIN:VEVENT
DTSTART;TZID=America/Chicago:20250408T180000
DTEND;TZID=America/Chicago:20250408T200000
DTSTAMP:20260423T053810
CREATED:20240601T224412Z
LAST-MODIFIED:20240606T182041Z
UID:10002437-1744135200-1744142400@keepwhatyouvalue.com
SUMMARY:Women's Domestic Violence Class
DESCRIPTION:This class is designed for women who are convicted of Domestic Violence or related charges and have been court-ordered to attend an intervention program.
URL:https://keepwhatyouvalue.com/event/womens-domestic-violence-class-2/2025-04-08/
LOCATION:Solutions Education Center – Rutherford County (Office)\, 714 W. Main St.\, Murfreesboro\, TN\, 37129\, United States
CATEGORIES:Women's Domestic Violence Class
END:VEVENT
BEGIN:VEVENT
DTSTART;TZID=America/Chicago:20250415T180000
DTEND;TZID=America/Chicago:20250415T200000
DTSTAMP:20260423T053810
CREATED:20240601T224412Z
LAST-MODIFIED:20240606T182041Z
UID:10002438-1744740000-1744747200@keepwhatyouvalue.com
SUMMARY:Women's Domestic Violence Class
DESCRIPTION:This class is designed for women who are convicted of Domestic Violence or related charges and have been court-ordered to attend an intervention program.
URL:https://keepwhatyouvalue.com/event/womens-domestic-violence-class-2/2025-04-15/
LOCATION:Solutions Education Center – Rutherford County (Office)\, 714 W. Main St.\, Murfreesboro\, TN\, 37129\, United States
CATEGORIES:Women's Domestic Violence Class
END:VEVENT
BEGIN:VEVENT
DTSTART;TZID=America/Chicago:20250422T180000
DTEND;TZID=America/Chicago:20250422T200000
DTSTAMP:20260423T053810
CREATED:20240601T224412Z
LAST-MODIFIED:20240606T182041Z
UID:10002439-1745344800-1745352000@keepwhatyouvalue.com
SUMMARY:Women's Domestic Violence Class
DESCRIPTION:This class is designed for women who are convicted of Domestic Violence or related charges and have been court-ordered to attend an intervention program.
URL:https://keepwhatyouvalue.com/event/womens-domestic-violence-class-2/2025-04-22/
LOCATION:Solutions Education Center – Rutherford County (Office)\, 714 W. Main St.\, Murfreesboro\, TN\, 37129\, United States
CATEGORIES:Women's Domestic Violence Class
END:VEVENT
BEGIN:VEVENT
DTSTART;TZID=America/Chicago:20250429T180000
DTEND;TZID=America/Chicago:20250429T200000
DTSTAMP:20260423T053810
CREATED:20240601T224412Z
LAST-MODIFIED:20240606T182041Z
UID:10002440-1745949600-1745956800@keepwhatyouvalue.com
SUMMARY:Women's Domestic Violence Class
DESCRIPTION:This class is designed for women who are convicted of Domestic Violence or related charges and have been court-ordered to attend an intervention program.
URL:https://keepwhatyouvalue.com/event/womens-domestic-violence-class-2/2025-04-29/
LOCATION:Solutions Education Center – Rutherford County (Office)\, 714 W. Main St.\, Murfreesboro\, TN\, 37129\, United States
CATEGORIES:Women's Domestic Violence Class
END:VEVENT
BEGIN:VEVENT
DTSTART;TZID=America/Chicago:20250506T180000
DTEND;TZID=America/Chicago:20250506T200000
DTSTAMP:20260423T053810
CREATED:20240601T224412Z
LAST-MODIFIED:20240606T182041Z
UID:10002441-1746554400-1746561600@keepwhatyouvalue.com
SUMMARY:Women's Domestic Violence Class
DESCRIPTION:This class is designed for women who are convicted of Domestic Violence or related charges and have been court-ordered to attend an intervention program.
URL:https://keepwhatyouvalue.com/event/womens-domestic-violence-class-2/2025-05-06/
LOCATION:Solutions Education Center – Rutherford County (Office)\, 714 W. Main St.\, Murfreesboro\, TN\, 37129\, United States
CATEGORIES:Women's Domestic Violence Class
END:VEVENT
BEGIN:VEVENT
DTSTART;TZID=America/Chicago:20250513T180000
DTEND;TZID=America/Chicago:20250513T200000
DTSTAMP:20260423T053810
CREATED:20240601T224412Z
LAST-MODIFIED:20240606T182041Z
UID:10002442-1747159200-1747166400@keepwhatyouvalue.com
SUMMARY:Women's Domestic Violence Class
DESCRIPTION:This class is designed for women who are convicted of Domestic Violence or related charges and have been court-ordered to attend an intervention program.
URL:https://keepwhatyouvalue.com/event/womens-domestic-violence-class-2/2025-05-13/
LOCATION:Solutions Education Center – Rutherford County (Office)\, 714 W. Main St.\, Murfreesboro\, TN\, 37129\, United States
CATEGORIES:Women's Domestic Violence Class
END:VEVENT
BEGIN:VEVENT
DTSTART;TZID=America/Chicago:20250520T180000
DTEND;TZID=America/Chicago:20250520T200000
DTSTAMP:20260423T053810
CREATED:20240601T224412Z
LAST-MODIFIED:20240606T182041Z
UID:10002443-1747764000-1747771200@keepwhatyouvalue.com
SUMMARY:Women's Domestic Violence Class
DESCRIPTION:This class is designed for women who are convicted of Domestic Violence or related charges and have been court-ordered to attend an intervention program.
URL:https://keepwhatyouvalue.com/event/womens-domestic-violence-class-2/2025-05-20/
LOCATION:Solutions Education Center – Rutherford County (Office)\, 714 W. Main St.\, Murfreesboro\, TN\, 37129\, United States
CATEGORIES:Women's Domestic Violence Class
END:VEVENT
BEGIN:VEVENT
DTSTART;TZID=America/Chicago:20250527T180000
DTEND;TZID=America/Chicago:20250527T200000
DTSTAMP:20260423T053810
CREATED:20240601T224412Z
LAST-MODIFIED:20240606T182041Z
UID:10002444-1748368800-1748376000@keepwhatyouvalue.com
SUMMARY:Women's Domestic Violence Class
DESCRIPTION:This class is designed for women who are convicted of Domestic Violence or related charges and have been court-ordered to attend an intervention program.
URL:https://keepwhatyouvalue.com/event/womens-domestic-violence-class-2/2025-05-27/
LOCATION:Solutions Education Center – Rutherford County (Office)\, 714 W. Main St.\, Murfreesboro\, TN\, 37129\, United States
CATEGORIES:Women's Domestic Violence Class
END:VEVENT
BEGIN:VEVENT
DTSTART;TZID=America/Chicago:20250603T180000
DTEND;TZID=America/Chicago:20250603T200000
DTSTAMP:20260423T053810
CREATED:20240601T224412Z
LAST-MODIFIED:20240606T182041Z
UID:10002445-1748973600-1748980800@keepwhatyouvalue.com
SUMMARY:Women's Domestic Violence Class
DESCRIPTION:This class is designed for women who are convicted of Domestic Violence or related charges and have been court-ordered to attend an intervention program.
URL:https://keepwhatyouvalue.com/event/womens-domestic-violence-class-2/2025-06-03/
LOCATION:Solutions Education Center – Rutherford County (Office)\, 714 W. Main St.\, Murfreesboro\, TN\, 37129\, United States
CATEGORIES:Women's Domestic Violence Class
END:VEVENT
BEGIN:VEVENT
DTSTART;TZID=America/Chicago:20250610T180000
DTEND;TZID=America/Chicago:20250610T200000
DTSTAMP:20260423T053810
CREATED:20240601T224412Z
LAST-MODIFIED:20240606T182041Z
UID:10002446-1749578400-1749585600@keepwhatyouvalue.com
SUMMARY:Women's Domestic Violence Class
DESCRIPTION:This class is designed for women who are convicted of Domestic Violence or related charges and have been court-ordered to attend an intervention program.
URL:https://keepwhatyouvalue.com/event/womens-domestic-violence-class-2/2025-06-10/
LOCATION:Solutions Education Center – Rutherford County (Office)\, 714 W. Main St.\, Murfreesboro\, TN\, 37129\, United States
CATEGORIES:Women's Domestic Violence Class
END:VEVENT
BEGIN:VEVENT
DTSTART;TZID=America/Chicago:20250617T180000
DTEND;TZID=America/Chicago:20250617T200000
DTSTAMP:20260423T053810
CREATED:20240601T224412Z
LAST-MODIFIED:20240606T182041Z
UID:10002447-1750183200-1750190400@keepwhatyouvalue.com
SUMMARY:Women's Domestic Violence Class
DESCRIPTION:This class is designed for women who are convicted of Domestic Violence or related charges and have been court-ordered to attend an intervention program.
URL:https://keepwhatyouvalue.com/event/womens-domestic-violence-class-2/2025-06-17/
LOCATION:Solutions Education Center – Rutherford County (Office)\, 714 W. Main St.\, Murfreesboro\, TN\, 37129\, United States
CATEGORIES:Women's Domestic Violence Class
END:VEVENT
BEGIN:VEVENT
DTSTART;TZID=America/Chicago:20250624T180000
DTEND;TZID=America/Chicago:20250624T200000
DTSTAMP:20260423T053810
CREATED:20240601T224412Z
LAST-MODIFIED:20240606T182041Z
UID:10002448-1750788000-1750795200@keepwhatyouvalue.com
SUMMARY:Women's Domestic Violence Class
DESCRIPTION:This class is designed for women who are convicted of Domestic Violence or related charges and have been court-ordered to attend an intervention program.
URL:https://keepwhatyouvalue.com/event/womens-domestic-violence-class-2/2025-06-24/
LOCATION:Solutions Education Center – Rutherford County (Office)\, 714 W. Main St.\, Murfreesboro\, TN\, 37129\, United States
CATEGORIES:Women's Domestic Violence Class
END:VEVENT
BEGIN:VEVENT
DTSTART;TZID=America/Chicago:20250701T180000
DTEND;TZID=America/Chicago:20250701T200000
DTSTAMP:20260423T053810
CREATED:20240601T224412Z
LAST-MODIFIED:20240606T182041Z
UID:10002449-1751392800-1751400000@keepwhatyouvalue.com
SUMMARY:Women's Domestic Violence Class
DESCRIPTION:This class is designed for women who are convicted of Domestic Violence or related charges and have been court-ordered to attend an intervention program.
URL:https://keepwhatyouvalue.com/event/womens-domestic-violence-class-2/2025-07-01/
LOCATION:Solutions Education Center – Rutherford County (Office)\, 714 W. Main St.\, Murfreesboro\, TN\, 37129\, United States
CATEGORIES:Women's Domestic Violence Class
END:VEVENT
BEGIN:VEVENT
DTSTART;TZID=America/Chicago:20250708T180000
DTEND;TZID=America/Chicago:20250708T200000
DTSTAMP:20260423T053810
CREATED:20240601T224412Z
LAST-MODIFIED:20240606T182041Z
UID:10002450-1751997600-1752004800@keepwhatyouvalue.com
SUMMARY:Women's Domestic Violence Class
DESCRIPTION:This class is designed for women who are convicted of Domestic Violence or related charges and have been court-ordered to attend an intervention program.
URL:https://keepwhatyouvalue.com/event/womens-domestic-violence-class-2/2025-07-08/
LOCATION:Solutions Education Center – Rutherford County (Office)\, 714 W. Main St.\, Murfreesboro\, TN\, 37129\, United States
CATEGORIES:Women's Domestic Violence Class
END:VEVENT
BEGIN:VEVENT
DTSTART;TZID=America/Chicago:20250715T180000
DTEND;TZID=America/Chicago:20250715T200000
DTSTAMP:20260423T053810
CREATED:20240601T224412Z
LAST-MODIFIED:20240606T182041Z
UID:10002451-1752602400-1752609600@keepwhatyouvalue.com
SUMMARY:Women's Domestic Violence Class
DESCRIPTION:This class is designed for women who are convicted of Domestic Violence or related charges and have been court-ordered to attend an intervention program.
URL:https://keepwhatyouvalue.com/event/womens-domestic-violence-class-2/2025-07-15/
LOCATION:Solutions Education Center – Rutherford County (Office)\, 714 W. Main St.\, Murfreesboro\, TN\, 37129\, United States
CATEGORIES:Women's Domestic Violence Class
END:VEVENT
BEGIN:VEVENT
DTSTART;TZID=America/Chicago:20250722T180000
DTEND;TZID=America/Chicago:20250722T200000
DTSTAMP:20260423T053810
CREATED:20240601T224412Z
LAST-MODIFIED:20240606T182041Z
UID:10002452-1753207200-1753214400@keepwhatyouvalue.com
SUMMARY:Women's Domestic Violence Class
DESCRIPTION:This class is designed for women who are convicted of Domestic Violence or related charges and have been court-ordered to attend an intervention program.
URL:https://keepwhatyouvalue.com/event/womens-domestic-violence-class-2/2025-07-22/
LOCATION:Solutions Education Center – Rutherford County (Office)\, 714 W. Main St.\, Murfreesboro\, TN\, 37129\, United States
CATEGORIES:Women's Domestic Violence Class
END:VEVENT
BEGIN:VEVENT
DTSTART;TZID=America/Chicago:20250729T180000
DTEND;TZID=America/Chicago:20250729T200000
DTSTAMP:20260423T053810
CREATED:20240601T224412Z
LAST-MODIFIED:20240606T182041Z
UID:10002453-1753812000-1753819200@keepwhatyouvalue.com
SUMMARY:Women's Domestic Violence Class
DESCRIPTION:This class is designed for women who are convicted of Domestic Violence or related charges and have been court-ordered to attend an intervention program.
URL:https://keepwhatyouvalue.com/event/womens-domestic-violence-class-2/2025-07-29/
LOCATION:Solutions Education Center – Rutherford County (Office)\, 714 W. Main St.\, Murfreesboro\, TN\, 37129\, United States
CATEGORIES:Women's Domestic Violence Class
END:VEVENT
BEGIN:VEVENT
DTSTART;TZID=America/Chicago:20250805T180000
DTEND;TZID=America/Chicago:20250805T200000
DTSTAMP:20260423T053810
CREATED:20240601T224412Z
LAST-MODIFIED:20240606T182041Z
UID:10002454-1754416800-1754424000@keepwhatyouvalue.com
SUMMARY:Women's Domestic Violence Class
DESCRIPTION:This class is designed for women who are convicted of Domestic Violence or related charges and have been court-ordered to attend an intervention program.
URL:https://keepwhatyouvalue.com/event/womens-domestic-violence-class-2/2025-08-05/
LOCATION:Solutions Education Center – Rutherford County (Office)\, 714 W. Main St.\, Murfreesboro\, TN\, 37129\, United States
CATEGORIES:Women's Domestic Violence Class
END:VEVENT
BEGIN:VEVENT
DTSTART;TZID=America/Chicago:20250812T180000
DTEND;TZID=America/Chicago:20250812T200000
DTSTAMP:20260423T053810
CREATED:20240601T224412Z
LAST-MODIFIED:20240606T182041Z
UID:10002455-1755021600-1755028800@keepwhatyouvalue.com
SUMMARY:Women's Domestic Violence Class
DESCRIPTION:This class is designed for women who are convicted of Domestic Violence or related charges and have been court-ordered to attend an intervention program.
URL:https://keepwhatyouvalue.com/event/womens-domestic-violence-class-2/2025-08-12/
LOCATION:Solutions Education Center – Rutherford County (Office)\, 714 W. Main St.\, Murfreesboro\, TN\, 37129\, United States
CATEGORIES:Women's Domestic Violence Class
END:VEVENT
BEGIN:VEVENT
DTSTART;TZID=America/Chicago:20250819T180000
DTEND;TZID=America/Chicago:20250819T200000
DTSTAMP:20260423T053810
CREATED:20240601T224412Z
LAST-MODIFIED:20240606T182041Z
UID:10002456-1755626400-1755633600@keepwhatyouvalue.com
SUMMARY:Women's Domestic Violence Class
DESCRIPTION:This class is designed for women who are convicted of Domestic Violence or related charges and have been court-ordered to attend an intervention program.
URL:https://keepwhatyouvalue.com/event/womens-domestic-violence-class-2/2025-08-19/
LOCATION:Solutions Education Center – Rutherford County (Office)\, 714 W. Main St.\, Murfreesboro\, TN\, 37129\, United States
CATEGORIES:Women's Domestic Violence Class
END:VEVENT
BEGIN:VEVENT
DTSTART;TZID=America/Chicago:20250826T180000
DTEND;TZID=America/Chicago:20250826T200000
DTSTAMP:20260423T053810
CREATED:20240601T224412Z
LAST-MODIFIED:20240606T182041Z
UID:10002457-1756231200-1756238400@keepwhatyouvalue.com
SUMMARY:Women's Domestic Violence Class
DESCRIPTION:This class is designed for women who are convicted of Domestic Violence or related charges and have been court-ordered to attend an intervention program.
URL:https://keepwhatyouvalue.com/event/womens-domestic-violence-class-2/2025-08-26/
LOCATION:Solutions Education Center – Rutherford County (Office)\, 714 W. Main St.\, Murfreesboro\, TN\, 37129\, United States
CATEGORIES:Women's Domestic Violence Class
END:VEVENT
BEGIN:VEVENT
DTSTART;TZID=America/Chicago:20250902T180000
DTEND;TZID=America/Chicago:20250902T200000
DTSTAMP:20260423T053810
CREATED:20240601T224412Z
LAST-MODIFIED:20240606T182041Z
UID:10002458-1756836000-1756843200@keepwhatyouvalue.com
SUMMARY:Women's Domestic Violence Class
DESCRIPTION:This class is designed for women who are convicted of Domestic Violence or related charges and have been court-ordered to attend an intervention program.
URL:https://keepwhatyouvalue.com/event/womens-domestic-violence-class-2/2025-09-02/
LOCATION:Solutions Education Center – Rutherford County (Office)\, 714 W. Main St.\, Murfreesboro\, TN\, 37129\, United States
CATEGORIES:Women's Domestic Violence Class
END:VEVENT
END:VCALENDAR