BEGIN:VCALENDAR
VERSION:2.0
PRODID:-//Solutions Education Center - ECPv6.15.20//NONSGML v1.0//EN
CALSCALE:GREGORIAN
METHOD:PUBLISH
X-WR-CALNAME:Solutions Education Center
X-ORIGINAL-URL:https://keepwhatyouvalue.com
X-WR-CALDESC:Events for Solutions Education Center
REFRESH-INTERVAL;VALUE=DURATION:PT1H
X-Robots-Tag:noindex
X-PUBLISHED-TTL:PT1H
BEGIN:VTIMEZONE
TZID:America/Chicago
BEGIN:DAYLIGHT
TZOFFSETFROM:-0600
TZOFFSETTO:-0500
TZNAME:CDT
DTSTART:20240310T080000
END:DAYLIGHT
BEGIN:STANDARD
TZOFFSETFROM:-0500
TZOFFSETTO:-0600
TZNAME:CST
DTSTART:20241103T070000
END:STANDARD
BEGIN:DAYLIGHT
TZOFFSETFROM:-0600
TZOFFSETTO:-0500
TZNAME:CDT
DTSTART:20250309T080000
END:DAYLIGHT
BEGIN:STANDARD
TZOFFSETFROM:-0500
TZOFFSETTO:-0600
TZNAME:CST
DTSTART:20251102T070000
END:STANDARD
BEGIN:DAYLIGHT
TZOFFSETFROM:-0600
TZOFFSETTO:-0500
TZNAME:CDT
DTSTART:20260308T080000
END:DAYLIGHT
BEGIN:STANDARD
TZOFFSETFROM:-0500
TZOFFSETTO:-0600
TZNAME:CST
DTSTART:20261101T070000
END:STANDARD
END:VTIMEZONE
BEGIN:VEVENT
DTSTART;TZID=America/Chicago:20250701T180000
DTEND;TZID=America/Chicago:20250701T200000
DTSTAMP:20260422T171400
CREATED:20240601T224412Z
LAST-MODIFIED:20240606T182041Z
UID:10002449-1751392800-1751400000@keepwhatyouvalue.com
SUMMARY:Women's Domestic Violence Class
DESCRIPTION:This class is designed for women who are convicted of Domestic Violence or related charges and have been court-ordered to attend an intervention program.
URL:https://keepwhatyouvalue.com/event/womens-domestic-violence-class-2/2025-07-01/
LOCATION:Solutions Education Center – Rutherford County (Office)\, 714 W. Main St.\, Murfreesboro\, TN\, 37129\, United States
CATEGORIES:Women's Domestic Violence Class
END:VEVENT
BEGIN:VEVENT
DTSTART;TZID=America/Chicago:20250708T180000
DTEND;TZID=America/Chicago:20250708T200000
DTSTAMP:20260422T171400
CREATED:20240601T224412Z
LAST-MODIFIED:20240606T182041Z
UID:10002450-1751997600-1752004800@keepwhatyouvalue.com
SUMMARY:Women's Domestic Violence Class
DESCRIPTION:This class is designed for women who are convicted of Domestic Violence or related charges and have been court-ordered to attend an intervention program.
URL:https://keepwhatyouvalue.com/event/womens-domestic-violence-class-2/2025-07-08/
LOCATION:Solutions Education Center – Rutherford County (Office)\, 714 W. Main St.\, Murfreesboro\, TN\, 37129\, United States
CATEGORIES:Women's Domestic Violence Class
END:VEVENT
BEGIN:VEVENT
DTSTART;TZID=America/Chicago:20250715T180000
DTEND;TZID=America/Chicago:20250715T200000
DTSTAMP:20260422T171400
CREATED:20240601T224412Z
LAST-MODIFIED:20240606T182041Z
UID:10002451-1752602400-1752609600@keepwhatyouvalue.com
SUMMARY:Women's Domestic Violence Class
DESCRIPTION:This class is designed for women who are convicted of Domestic Violence or related charges and have been court-ordered to attend an intervention program.
URL:https://keepwhatyouvalue.com/event/womens-domestic-violence-class-2/2025-07-15/
LOCATION:Solutions Education Center – Rutherford County (Office)\, 714 W. Main St.\, Murfreesboro\, TN\, 37129\, United States
CATEGORIES:Women's Domestic Violence Class
END:VEVENT
BEGIN:VEVENT
DTSTART;TZID=America/Chicago:20250722T180000
DTEND;TZID=America/Chicago:20250722T200000
DTSTAMP:20260422T171400
CREATED:20240601T224412Z
LAST-MODIFIED:20240606T182041Z
UID:10002452-1753207200-1753214400@keepwhatyouvalue.com
SUMMARY:Women's Domestic Violence Class
DESCRIPTION:This class is designed for women who are convicted of Domestic Violence or related charges and have been court-ordered to attend an intervention program.
URL:https://keepwhatyouvalue.com/event/womens-domestic-violence-class-2/2025-07-22/
LOCATION:Solutions Education Center – Rutherford County (Office)\, 714 W. Main St.\, Murfreesboro\, TN\, 37129\, United States
CATEGORIES:Women's Domestic Violence Class
END:VEVENT
BEGIN:VEVENT
DTSTART;TZID=America/Chicago:20250729T180000
DTEND;TZID=America/Chicago:20250729T200000
DTSTAMP:20260422T171400
CREATED:20240601T224412Z
LAST-MODIFIED:20240606T182041Z
UID:10002453-1753812000-1753819200@keepwhatyouvalue.com
SUMMARY:Women's Domestic Violence Class
DESCRIPTION:This class is designed for women who are convicted of Domestic Violence or related charges and have been court-ordered to attend an intervention program.
URL:https://keepwhatyouvalue.com/event/womens-domestic-violence-class-2/2025-07-29/
LOCATION:Solutions Education Center – Rutherford County (Office)\, 714 W. Main St.\, Murfreesboro\, TN\, 37129\, United States
CATEGORIES:Women's Domestic Violence Class
END:VEVENT
END:VCALENDAR