BEGIN:VCALENDAR
VERSION:2.0
PRODID:-//Solutions Education Center - ECPv6.15.20//NONSGML v1.0//EN
CALSCALE:GREGORIAN
METHOD:PUBLISH
X-ORIGINAL-URL:https://keepwhatyouvalue.com
X-WR-CALDESC:Events for Solutions Education Center
REFRESH-INTERVAL;VALUE=DURATION:PT1H
X-Robots-Tag:noindex
X-PUBLISHED-TTL:PT1H
BEGIN:VTIMEZONE
TZID:America/Chicago
BEGIN:DAYLIGHT
TZOFFSETFROM:-0600
TZOFFSETTO:-0500
TZNAME:CDT
DTSTART:20230312T080000
END:DAYLIGHT
BEGIN:STANDARD
TZOFFSETFROM:-0500
TZOFFSETTO:-0600
TZNAME:CST
DTSTART:20231105T070000
END:STANDARD
BEGIN:DAYLIGHT
TZOFFSETFROM:-0600
TZOFFSETTO:-0500
TZNAME:CDT
DTSTART:20240310T080000
END:DAYLIGHT
BEGIN:STANDARD
TZOFFSETFROM:-0500
TZOFFSETTO:-0600
TZNAME:CST
DTSTART:20241103T070000
END:STANDARD
BEGIN:DAYLIGHT
TZOFFSETFROM:-0600
TZOFFSETTO:-0500
TZNAME:CDT
DTSTART:20250309T080000
END:DAYLIGHT
BEGIN:STANDARD
TZOFFSETFROM:-0500
TZOFFSETTO:-0600
TZNAME:CST
DTSTART:20251102T070000
END:STANDARD
END:VTIMEZONE
BEGIN:VEVENT
DTSTART;TZID=America/Chicago:20240903T180000
DTEND;TZID=America/Chicago:20240903T200000
DTSTAMP:20260423T063609
CREATED:20240601T224412Z
LAST-MODIFIED:20240606T182041Z
UID:10002406-1725386400-1725393600@keepwhatyouvalue.com
SUMMARY:Women's Domestic Violence Class
DESCRIPTION:This class is designed for women who are convicted of Domestic Violence or related charges and have been court-ordered to attend an intervention program.
URL:https://keepwhatyouvalue.com/event/womens-domestic-violence-class-2/2024-09-03/
LOCATION:Solutions Education Center – Rutherford County (Office)\, 714 W. Main St.\, Murfreesboro\, TN\, 37129\, United States
CATEGORIES:Women's Domestic Violence Class
END:VEVENT
BEGIN:VEVENT
DTSTART;TZID=America/Chicago:20240910T180000
DTEND;TZID=America/Chicago:20240910T200000
DTSTAMP:20260423T063609
CREATED:20240601T224412Z
LAST-MODIFIED:20240606T182041Z
UID:10002407-1725991200-1725998400@keepwhatyouvalue.com
SUMMARY:Women's Domestic Violence Class
DESCRIPTION:This class is designed for women who are convicted of Domestic Violence or related charges and have been court-ordered to attend an intervention program.
URL:https://keepwhatyouvalue.com/event/womens-domestic-violence-class-2/2024-09-10/
LOCATION:Solutions Education Center – Rutherford County (Office)\, 714 W. Main St.\, Murfreesboro\, TN\, 37129\, United States
CATEGORIES:Women's Domestic Violence Class
END:VEVENT
BEGIN:VEVENT
DTSTART;TZID=America/Chicago:20240917T180000
DTEND;TZID=America/Chicago:20240917T200000
DTSTAMP:20260423T063609
CREATED:20240601T224412Z
LAST-MODIFIED:20240606T182041Z
UID:10002408-1726596000-1726603200@keepwhatyouvalue.com
SUMMARY:Women's Domestic Violence Class
DESCRIPTION:This class is designed for women who are convicted of Domestic Violence or related charges and have been court-ordered to attend an intervention program.
URL:https://keepwhatyouvalue.com/event/womens-domestic-violence-class-2/2024-09-17/
LOCATION:Solutions Education Center – Rutherford County (Office)\, 714 W. Main St.\, Murfreesboro\, TN\, 37129\, United States
CATEGORIES:Women's Domestic Violence Class
END:VEVENT
BEGIN:VEVENT
DTSTART;TZID=America/Chicago:20240924T180000
DTEND;TZID=America/Chicago:20240924T200000
DTSTAMP:20260423T063609
CREATED:20240601T224412Z
LAST-MODIFIED:20240606T182041Z
UID:10002409-1727200800-1727208000@keepwhatyouvalue.com
SUMMARY:Women's Domestic Violence Class
DESCRIPTION:This class is designed for women who are convicted of Domestic Violence or related charges and have been court-ordered to attend an intervention program.
URL:https://keepwhatyouvalue.com/event/womens-domestic-violence-class-2/2024-09-24/
LOCATION:Solutions Education Center – Rutherford County (Office)\, 714 W. Main St.\, Murfreesboro\, TN\, 37129\, United States
CATEGORIES:Women's Domestic Violence Class
END:VEVENT
END:VCALENDAR