BEGIN:VCALENDAR
VERSION:2.0
PRODID:-//Solutions Education Center - ECPv6.15.20//NONSGML v1.0//EN
CALSCALE:GREGORIAN
METHOD:PUBLISH
X-WR-CALNAME:Solutions Education Center
X-ORIGINAL-URL:https://keepwhatyouvalue.com
X-WR-CALDESC:Events for Solutions Education Center
REFRESH-INTERVAL;VALUE=DURATION:PT1H
X-Robots-Tag:noindex
X-PUBLISHED-TTL:PT1H
BEGIN:VTIMEZONE
TZID:America/Chicago
BEGIN:DAYLIGHT
TZOFFSETFROM:-0600
TZOFFSETTO:-0500
TZNAME:CDT
DTSTART:20270314T080000
END:DAYLIGHT
BEGIN:STANDARD
TZOFFSETFROM:-0500
TZOFFSETTO:-0600
TZNAME:CST
DTSTART:20271107T070000
END:STANDARD
BEGIN:DAYLIGHT
TZOFFSETFROM:-0600
TZOFFSETTO:-0500
TZNAME:CDT
DTSTART:20280312T080000
END:DAYLIGHT
BEGIN:STANDARD
TZOFFSETFROM:-0500
TZOFFSETTO:-0600
TZNAME:CST
DTSTART:20281105T070000
END:STANDARD
BEGIN:DAYLIGHT
TZOFFSETFROM:-0600
TZOFFSETTO:-0500
TZNAME:CDT
DTSTART:20290311T080000
END:DAYLIGHT
BEGIN:STANDARD
TZOFFSETFROM:-0500
TZOFFSETTO:-0600
TZNAME:CST
DTSTART:20291104T070000
END:STANDARD
END:VTIMEZONE
BEGIN:VEVENT
DTSTART;TZID=America/Chicago:20280703T170000
DTEND;TZID=America/Chicago:20280703T200000
DTSTAMP:20260425T110212
CREATED:20240601T224357Z
LAST-MODIFIED:20240606T180517Z
UID:10000518-1846256400-1846267200@keepwhatyouvalue.com
SUMMARY:Intensive Outpatient Program (IOP)
DESCRIPTION:Intensive Outpatient Services are designed to explore and address problems or risk factors that appear to be related to alcohol and drug use and to help the individual recognize the harmful consequences of inappropriate alcohol and drug use. This program will address the individual’s needs of understanding of\, or skills to change his or her current or past alcohol and drug use and may affect personal goals. \nProgram Components\n\nInteractive group discussion\nIndividual counseling and case management\nProgram assignments and worksheets\nTransitional treatment in preparation for return to home and work life\nDidactic group workshops\n\nTreatment Length\nDetermined by individualized treatment plan.
URL:https://keepwhatyouvalue.com/event/intensive-outpatient-program-iop-5/2028-07-03/
LOCATION:Zoom Cloud Meetings\, TN\, United States
CATEGORIES:Intensive Outpatient Program
END:VEVENT
BEGIN:VEVENT
DTSTART;TZID=America/Chicago:20280705T170000
DTEND;TZID=America/Chicago:20280705T200000
DTSTAMP:20260425T110212
CREATED:20240601T224412Z
LAST-MODIFIED:20240606T181907Z
UID:10002345-1846429200-1846440000@keepwhatyouvalue.com
SUMMARY:Intensive Outpatient Program (IOP)
DESCRIPTION:Intensive Outpatient Services are designed to explore and address problems or risk factors that appear to be related to alcohol and drug use and to help the individual recognize the harmful consequences of inappropriate alcohol and drug use. This program will address the individual’s needs of understanding of\, or skills to change his or her current or past alcohol and drug use and may affect personal goals. \nProgram Components\n\nInteractive group discussion\nIndividual counseling and case management\nProgram assignments and worksheets\nTransitional treatment in preparation for return to home and work life\nDidactic group workshops\n\nTreatment Length\nDetermined by individualized treatment plan.
URL:https://keepwhatyouvalue.com/event/intensive-outpatient-program-iop-6/2028-07-05/
LOCATION:Zoom Cloud Meetings\, TN\, United States
CATEGORIES:Intensive Outpatient Program
END:VEVENT
BEGIN:VEVENT
DTSTART;TZID=America/Chicago:20280706T170000
DTEND;TZID=America/Chicago:20280706T200000
DTSTAMP:20260425T110212
CREATED:20240601T224413Z
LAST-MODIFIED:20240606T175942Z
UID:10000258-1846515600-1846526400@keepwhatyouvalue.com
SUMMARY:Intensive Outpatient Program (IOP)
DESCRIPTION:Intensive Outpatient Services are designed to explore and address problems or risk factors that appear to be related to alcohol and drug use and to help the individual recognize the harmful consequences of inappropriate alcohol and drug use. This program will address the individual’s needs of understanding of\, or skills to change his or her current or past alcohol and drug use and may affect personal goals. \nProgram Components\n\nInteractive group discussion\nIndividual counseling and case management\nProgram assignments and worksheets\nTransitional treatment in preparation for return to home and work life\nDidactic group workshops\n\nTreatment Length\nDetermined by individualized treatment plan.
URL:https://keepwhatyouvalue.com/event/intensive-outpatient-program-iop-7/2028-07-06/
LOCATION:Zoom Cloud Meetings\, TN\, United States
CATEGORIES:Intensive Outpatient Program
END:VEVENT
BEGIN:VEVENT
DTSTART;TZID=America/Chicago:20280710T170000
DTEND;TZID=America/Chicago:20280710T200000
DTSTAMP:20260425T110212
CREATED:20240601T224357Z
LAST-MODIFIED:20240606T180517Z
UID:10000519-1846861200-1846872000@keepwhatyouvalue.com
SUMMARY:Intensive Outpatient Program (IOP)
DESCRIPTION:Intensive Outpatient Services are designed to explore and address problems or risk factors that appear to be related to alcohol and drug use and to help the individual recognize the harmful consequences of inappropriate alcohol and drug use. This program will address the individual’s needs of understanding of\, or skills to change his or her current or past alcohol and drug use and may affect personal goals. \nProgram Components\n\nInteractive group discussion\nIndividual counseling and case management\nProgram assignments and worksheets\nTransitional treatment in preparation for return to home and work life\nDidactic group workshops\n\nTreatment Length\nDetermined by individualized treatment plan.
URL:https://keepwhatyouvalue.com/event/intensive-outpatient-program-iop-5/2028-07-10/
LOCATION:Zoom Cloud Meetings\, TN\, United States
CATEGORIES:Intensive Outpatient Program
END:VEVENT
BEGIN:VEVENT
DTSTART;TZID=America/Chicago:20280712T170000
DTEND;TZID=America/Chicago:20280712T200000
DTSTAMP:20260425T110212
CREATED:20240601T224412Z
LAST-MODIFIED:20240606T181907Z
UID:10002346-1847034000-1847044800@keepwhatyouvalue.com
SUMMARY:Intensive Outpatient Program (IOP)
DESCRIPTION:Intensive Outpatient Services are designed to explore and address problems or risk factors that appear to be related to alcohol and drug use and to help the individual recognize the harmful consequences of inappropriate alcohol and drug use. This program will address the individual’s needs of understanding of\, or skills to change his or her current or past alcohol and drug use and may affect personal goals. \nProgram Components\n\nInteractive group discussion\nIndividual counseling and case management\nProgram assignments and worksheets\nTransitional treatment in preparation for return to home and work life\nDidactic group workshops\n\nTreatment Length\nDetermined by individualized treatment plan.
URL:https://keepwhatyouvalue.com/event/intensive-outpatient-program-iop-6/2028-07-12/
LOCATION:Zoom Cloud Meetings\, TN\, United States
CATEGORIES:Intensive Outpatient Program
END:VEVENT
BEGIN:VEVENT
DTSTART;TZID=America/Chicago:20280713T170000
DTEND;TZID=America/Chicago:20280713T200000
DTSTAMP:20260425T110212
CREATED:20240601T224413Z
LAST-MODIFIED:20240606T175942Z
UID:10000259-1847120400-1847131200@keepwhatyouvalue.com
SUMMARY:Intensive Outpatient Program (IOP)
DESCRIPTION:Intensive Outpatient Services are designed to explore and address problems or risk factors that appear to be related to alcohol and drug use and to help the individual recognize the harmful consequences of inappropriate alcohol and drug use. This program will address the individual’s needs of understanding of\, or skills to change his or her current or past alcohol and drug use and may affect personal goals. \nProgram Components\n\nInteractive group discussion\nIndividual counseling and case management\nProgram assignments and worksheets\nTransitional treatment in preparation for return to home and work life\nDidactic group workshops\n\nTreatment Length\nDetermined by individualized treatment plan.
URL:https://keepwhatyouvalue.com/event/intensive-outpatient-program-iop-7/2028-07-13/
LOCATION:Zoom Cloud Meetings\, TN\, United States
CATEGORIES:Intensive Outpatient Program
END:VEVENT
BEGIN:VEVENT
DTSTART;TZID=America/Chicago:20280717T170000
DTEND;TZID=America/Chicago:20280717T200000
DTSTAMP:20260425T110212
CREATED:20240601T224357Z
LAST-MODIFIED:20240606T180517Z
UID:10000520-1847466000-1847476800@keepwhatyouvalue.com
SUMMARY:Intensive Outpatient Program (IOP)
DESCRIPTION:Intensive Outpatient Services are designed to explore and address problems or risk factors that appear to be related to alcohol and drug use and to help the individual recognize the harmful consequences of inappropriate alcohol and drug use. This program will address the individual’s needs of understanding of\, or skills to change his or her current or past alcohol and drug use and may affect personal goals. \nProgram Components\n\nInteractive group discussion\nIndividual counseling and case management\nProgram assignments and worksheets\nTransitional treatment in preparation for return to home and work life\nDidactic group workshops\n\nTreatment Length\nDetermined by individualized treatment plan.
URL:https://keepwhatyouvalue.com/event/intensive-outpatient-program-iop-5/2028-07-17/
LOCATION:Zoom Cloud Meetings\, TN\, United States
CATEGORIES:Intensive Outpatient Program
END:VEVENT
BEGIN:VEVENT
DTSTART;TZID=America/Chicago:20280719T170000
DTEND;TZID=America/Chicago:20280719T200000
DTSTAMP:20260425T110212
CREATED:20240601T224412Z
LAST-MODIFIED:20240606T181907Z
UID:10002347-1847638800-1847649600@keepwhatyouvalue.com
SUMMARY:Intensive Outpatient Program (IOP)
DESCRIPTION:Intensive Outpatient Services are designed to explore and address problems or risk factors that appear to be related to alcohol and drug use and to help the individual recognize the harmful consequences of inappropriate alcohol and drug use. This program will address the individual’s needs of understanding of\, or skills to change his or her current or past alcohol and drug use and may affect personal goals. \nProgram Components\n\nInteractive group discussion\nIndividual counseling and case management\nProgram assignments and worksheets\nTransitional treatment in preparation for return to home and work life\nDidactic group workshops\n\nTreatment Length\nDetermined by individualized treatment plan.
URL:https://keepwhatyouvalue.com/event/intensive-outpatient-program-iop-6/2028-07-19/
LOCATION:Zoom Cloud Meetings\, TN\, United States
CATEGORIES:Intensive Outpatient Program
END:VEVENT
BEGIN:VEVENT
DTSTART;TZID=America/Chicago:20280720T170000
DTEND;TZID=America/Chicago:20280720T200000
DTSTAMP:20260425T110212
CREATED:20240601T224413Z
LAST-MODIFIED:20240606T175942Z
UID:10000260-1847725200-1847736000@keepwhatyouvalue.com
SUMMARY:Intensive Outpatient Program (IOP)
DESCRIPTION:Intensive Outpatient Services are designed to explore and address problems or risk factors that appear to be related to alcohol and drug use and to help the individual recognize the harmful consequences of inappropriate alcohol and drug use. This program will address the individual’s needs of understanding of\, or skills to change his or her current or past alcohol and drug use and may affect personal goals. \nProgram Components\n\nInteractive group discussion\nIndividual counseling and case management\nProgram assignments and worksheets\nTransitional treatment in preparation for return to home and work life\nDidactic group workshops\n\nTreatment Length\nDetermined by individualized treatment plan.
URL:https://keepwhatyouvalue.com/event/intensive-outpatient-program-iop-7/2028-07-20/
LOCATION:Zoom Cloud Meetings\, TN\, United States
CATEGORIES:Intensive Outpatient Program
END:VEVENT
BEGIN:VEVENT
DTSTART;TZID=America/Chicago:20280724T170000
DTEND;TZID=America/Chicago:20280724T200000
DTSTAMP:20260425T110212
CREATED:20240601T224357Z
LAST-MODIFIED:20240606T180517Z
UID:10000521-1848070800-1848081600@keepwhatyouvalue.com
SUMMARY:Intensive Outpatient Program (IOP)
DESCRIPTION:Intensive Outpatient Services are designed to explore and address problems or risk factors that appear to be related to alcohol and drug use and to help the individual recognize the harmful consequences of inappropriate alcohol and drug use. This program will address the individual’s needs of understanding of\, or skills to change his or her current or past alcohol and drug use and may affect personal goals. \nProgram Components\n\nInteractive group discussion\nIndividual counseling and case management\nProgram assignments and worksheets\nTransitional treatment in preparation for return to home and work life\nDidactic group workshops\n\nTreatment Length\nDetermined by individualized treatment plan.
URL:https://keepwhatyouvalue.com/event/intensive-outpatient-program-iop-5/2028-07-24/
LOCATION:Zoom Cloud Meetings\, TN\, United States
CATEGORIES:Intensive Outpatient Program
END:VEVENT
BEGIN:VEVENT
DTSTART;TZID=America/Chicago:20280726T170000
DTEND;TZID=America/Chicago:20280726T200000
DTSTAMP:20260425T110212
CREATED:20240601T224412Z
LAST-MODIFIED:20240606T181907Z
UID:10002348-1848243600-1848254400@keepwhatyouvalue.com
SUMMARY:Intensive Outpatient Program (IOP)
DESCRIPTION:Intensive Outpatient Services are designed to explore and address problems or risk factors that appear to be related to alcohol and drug use and to help the individual recognize the harmful consequences of inappropriate alcohol and drug use. This program will address the individual’s needs of understanding of\, or skills to change his or her current or past alcohol and drug use and may affect personal goals. \nProgram Components\n\nInteractive group discussion\nIndividual counseling and case management\nProgram assignments and worksheets\nTransitional treatment in preparation for return to home and work life\nDidactic group workshops\n\nTreatment Length\nDetermined by individualized treatment plan.
URL:https://keepwhatyouvalue.com/event/intensive-outpatient-program-iop-6/2028-07-26/
LOCATION:Zoom Cloud Meetings\, TN\, United States
CATEGORIES:Intensive Outpatient Program
END:VEVENT
BEGIN:VEVENT
DTSTART;TZID=America/Chicago:20280727T170000
DTEND;TZID=America/Chicago:20280727T200000
DTSTAMP:20260425T110212
CREATED:20240601T224413Z
LAST-MODIFIED:20240606T175942Z
UID:10000261-1848330000-1848340800@keepwhatyouvalue.com
SUMMARY:Intensive Outpatient Program (IOP)
DESCRIPTION:Intensive Outpatient Services are designed to explore and address problems or risk factors that appear to be related to alcohol and drug use and to help the individual recognize the harmful consequences of inappropriate alcohol and drug use. This program will address the individual’s needs of understanding of\, or skills to change his or her current or past alcohol and drug use and may affect personal goals. \nProgram Components\n\nInteractive group discussion\nIndividual counseling and case management\nProgram assignments and worksheets\nTransitional treatment in preparation for return to home and work life\nDidactic group workshops\n\nTreatment Length\nDetermined by individualized treatment plan.
URL:https://keepwhatyouvalue.com/event/intensive-outpatient-program-iop-7/2028-07-27/
LOCATION:Zoom Cloud Meetings\, TN\, United States
CATEGORIES:Intensive Outpatient Program
END:VEVENT
BEGIN:VEVENT
DTSTART;TZID=America/Chicago:20280731T170000
DTEND;TZID=America/Chicago:20280731T200000
DTSTAMP:20260425T110212
CREATED:20240601T224357Z
LAST-MODIFIED:20240606T180517Z
UID:10000522-1848675600-1848686400@keepwhatyouvalue.com
SUMMARY:Intensive Outpatient Program (IOP)
DESCRIPTION:Intensive Outpatient Services are designed to explore and address problems or risk factors that appear to be related to alcohol and drug use and to help the individual recognize the harmful consequences of inappropriate alcohol and drug use. This program will address the individual’s needs of understanding of\, or skills to change his or her current or past alcohol and drug use and may affect personal goals. \nProgram Components\n\nInteractive group discussion\nIndividual counseling and case management\nProgram assignments and worksheets\nTransitional treatment in preparation for return to home and work life\nDidactic group workshops\n\nTreatment Length\nDetermined by individualized treatment plan.
URL:https://keepwhatyouvalue.com/event/intensive-outpatient-program-iop-5/2028-07-31/
LOCATION:Zoom Cloud Meetings\, TN\, United States
CATEGORIES:Intensive Outpatient Program
END:VEVENT
END:VCALENDAR