BEGIN:VCALENDAR
VERSION:2.0
PRODID:-//Solutions Education Center - ECPv6.15.20//NONSGML v1.0//EN
CALSCALE:GREGORIAN
METHOD:PUBLISH
X-WR-CALNAME:Solutions Education Center
X-ORIGINAL-URL:https://keepwhatyouvalue.com
X-WR-CALDESC:Events for Solutions Education Center
REFRESH-INTERVAL;VALUE=DURATION:PT1H
X-Robots-Tag:noindex
X-PUBLISHED-TTL:PT1H
BEGIN:VTIMEZONE
TZID:America/Chicago
BEGIN:DAYLIGHT
TZOFFSETFROM:-0600
TZOFFSETTO:-0500
TZNAME:CDT
DTSTART:20270314T080000
END:DAYLIGHT
BEGIN:STANDARD
TZOFFSETFROM:-0500
TZOFFSETTO:-0600
TZNAME:CST
DTSTART:20271107T070000
END:STANDARD
BEGIN:DAYLIGHT
TZOFFSETFROM:-0600
TZOFFSETTO:-0500
TZNAME:CDT
DTSTART:20280312T080000
END:DAYLIGHT
BEGIN:STANDARD
TZOFFSETFROM:-0500
TZOFFSETTO:-0600
TZNAME:CST
DTSTART:20281105T070000
END:STANDARD
BEGIN:DAYLIGHT
TZOFFSETFROM:-0600
TZOFFSETTO:-0500
TZNAME:CDT
DTSTART:20290311T080000
END:DAYLIGHT
BEGIN:STANDARD
TZOFFSETFROM:-0500
TZOFFSETTO:-0600
TZNAME:CST
DTSTART:20291104T070000
END:STANDARD
END:VTIMEZONE
BEGIN:VEVENT
DTSTART;TZID=America/Chicago:20280601T170000
DTEND;TZID=America/Chicago:20280601T200000
DTSTAMP:20260425T094558
CREATED:20240601T224413Z
LAST-MODIFIED:20240606T175942Z
UID:10000253-1843491600-1843502400@keepwhatyouvalue.com
SUMMARY:Intensive Outpatient Program (IOP)
DESCRIPTION:Intensive Outpatient Services are designed to explore and address problems or risk factors that appear to be related to alcohol and drug use and to help the individual recognize the harmful consequences of inappropriate alcohol and drug use. This program will address the individual’s needs of understanding of\, or skills to change his or her current or past alcohol and drug use and may affect personal goals. \nProgram Components\n\nInteractive group discussion\nIndividual counseling and case management\nProgram assignments and worksheets\nTransitional treatment in preparation for return to home and work life\nDidactic group workshops\n\nTreatment Length\nDetermined by individualized treatment plan.
URL:https://keepwhatyouvalue.com/event/intensive-outpatient-program-iop-7/2028-06-01/
LOCATION:Zoom Cloud Meetings\, TN\, United States
CATEGORIES:Intensive Outpatient Program
END:VEVENT
BEGIN:VEVENT
DTSTART;TZID=America/Chicago:20280605T170000
DTEND;TZID=America/Chicago:20280605T200000
DTSTAMP:20260425T094558
CREATED:20240601T224357Z
LAST-MODIFIED:20240606T180517Z
UID:10000514-1843837200-1843848000@keepwhatyouvalue.com
SUMMARY:Intensive Outpatient Program (IOP)
DESCRIPTION:Intensive Outpatient Services are designed to explore and address problems or risk factors that appear to be related to alcohol and drug use and to help the individual recognize the harmful consequences of inappropriate alcohol and drug use. This program will address the individual’s needs of understanding of\, or skills to change his or her current or past alcohol and drug use and may affect personal goals. \nProgram Components\n\nInteractive group discussion\nIndividual counseling and case management\nProgram assignments and worksheets\nTransitional treatment in preparation for return to home and work life\nDidactic group workshops\n\nTreatment Length\nDetermined by individualized treatment plan.
URL:https://keepwhatyouvalue.com/event/intensive-outpatient-program-iop-5/2028-06-05/
LOCATION:Zoom Cloud Meetings\, TN\, United States
CATEGORIES:Intensive Outpatient Program
END:VEVENT
BEGIN:VEVENT
DTSTART;TZID=America/Chicago:20280607T170000
DTEND;TZID=America/Chicago:20280607T200000
DTSTAMP:20260425T094558
CREATED:20240601T224412Z
LAST-MODIFIED:20240606T181907Z
UID:10002341-1844010000-1844020800@keepwhatyouvalue.com
SUMMARY:Intensive Outpatient Program (IOP)
DESCRIPTION:Intensive Outpatient Services are designed to explore and address problems or risk factors that appear to be related to alcohol and drug use and to help the individual recognize the harmful consequences of inappropriate alcohol and drug use. This program will address the individual’s needs of understanding of\, or skills to change his or her current or past alcohol and drug use and may affect personal goals. \nProgram Components\n\nInteractive group discussion\nIndividual counseling and case management\nProgram assignments and worksheets\nTransitional treatment in preparation for return to home and work life\nDidactic group workshops\n\nTreatment Length\nDetermined by individualized treatment plan.
URL:https://keepwhatyouvalue.com/event/intensive-outpatient-program-iop-6/2028-06-07/
LOCATION:Zoom Cloud Meetings\, TN\, United States
CATEGORIES:Intensive Outpatient Program
END:VEVENT
BEGIN:VEVENT
DTSTART;TZID=America/Chicago:20280608T170000
DTEND;TZID=America/Chicago:20280608T200000
DTSTAMP:20260425T094558
CREATED:20240601T224413Z
LAST-MODIFIED:20240606T175942Z
UID:10000254-1844096400-1844107200@keepwhatyouvalue.com
SUMMARY:Intensive Outpatient Program (IOP)
DESCRIPTION:Intensive Outpatient Services are designed to explore and address problems or risk factors that appear to be related to alcohol and drug use and to help the individual recognize the harmful consequences of inappropriate alcohol and drug use. This program will address the individual’s needs of understanding of\, or skills to change his or her current or past alcohol and drug use and may affect personal goals. \nProgram Components\n\nInteractive group discussion\nIndividual counseling and case management\nProgram assignments and worksheets\nTransitional treatment in preparation for return to home and work life\nDidactic group workshops\n\nTreatment Length\nDetermined by individualized treatment plan.
URL:https://keepwhatyouvalue.com/event/intensive-outpatient-program-iop-7/2028-06-08/
LOCATION:Zoom Cloud Meetings\, TN\, United States
CATEGORIES:Intensive Outpatient Program
END:VEVENT
BEGIN:VEVENT
DTSTART;TZID=America/Chicago:20280612T170000
DTEND;TZID=America/Chicago:20280612T200000
DTSTAMP:20260425T094558
CREATED:20240601T224357Z
LAST-MODIFIED:20240606T180517Z
UID:10000515-1844442000-1844452800@keepwhatyouvalue.com
SUMMARY:Intensive Outpatient Program (IOP)
DESCRIPTION:Intensive Outpatient Services are designed to explore and address problems or risk factors that appear to be related to alcohol and drug use and to help the individual recognize the harmful consequences of inappropriate alcohol and drug use. This program will address the individual’s needs of understanding of\, or skills to change his or her current or past alcohol and drug use and may affect personal goals. \nProgram Components\n\nInteractive group discussion\nIndividual counseling and case management\nProgram assignments and worksheets\nTransitional treatment in preparation for return to home and work life\nDidactic group workshops\n\nTreatment Length\nDetermined by individualized treatment plan.
URL:https://keepwhatyouvalue.com/event/intensive-outpatient-program-iop-5/2028-06-12/
LOCATION:Zoom Cloud Meetings\, TN\, United States
CATEGORIES:Intensive Outpatient Program
END:VEVENT
BEGIN:VEVENT
DTSTART;TZID=America/Chicago:20280614T170000
DTEND;TZID=America/Chicago:20280614T200000
DTSTAMP:20260425T094558
CREATED:20240601T224412Z
LAST-MODIFIED:20240606T181907Z
UID:10002342-1844614800-1844625600@keepwhatyouvalue.com
SUMMARY:Intensive Outpatient Program (IOP)
DESCRIPTION:Intensive Outpatient Services are designed to explore and address problems or risk factors that appear to be related to alcohol and drug use and to help the individual recognize the harmful consequences of inappropriate alcohol and drug use. This program will address the individual’s needs of understanding of\, or skills to change his or her current or past alcohol and drug use and may affect personal goals. \nProgram Components\n\nInteractive group discussion\nIndividual counseling and case management\nProgram assignments and worksheets\nTransitional treatment in preparation for return to home and work life\nDidactic group workshops\n\nTreatment Length\nDetermined by individualized treatment plan.
URL:https://keepwhatyouvalue.com/event/intensive-outpatient-program-iop-6/2028-06-14/
LOCATION:Zoom Cloud Meetings\, TN\, United States
CATEGORIES:Intensive Outpatient Program
END:VEVENT
BEGIN:VEVENT
DTSTART;TZID=America/Chicago:20280615T170000
DTEND;TZID=America/Chicago:20280615T200000
DTSTAMP:20260425T094558
CREATED:20240601T224413Z
LAST-MODIFIED:20240606T175942Z
UID:10000255-1844701200-1844712000@keepwhatyouvalue.com
SUMMARY:Intensive Outpatient Program (IOP)
DESCRIPTION:Intensive Outpatient Services are designed to explore and address problems or risk factors that appear to be related to alcohol and drug use and to help the individual recognize the harmful consequences of inappropriate alcohol and drug use. This program will address the individual’s needs of understanding of\, or skills to change his or her current or past alcohol and drug use and may affect personal goals. \nProgram Components\n\nInteractive group discussion\nIndividual counseling and case management\nProgram assignments and worksheets\nTransitional treatment in preparation for return to home and work life\nDidactic group workshops\n\nTreatment Length\nDetermined by individualized treatment plan.
URL:https://keepwhatyouvalue.com/event/intensive-outpatient-program-iop-7/2028-06-15/
LOCATION:Zoom Cloud Meetings\, TN\, United States
CATEGORIES:Intensive Outpatient Program
END:VEVENT
BEGIN:VEVENT
DTSTART;TZID=America/Chicago:20280619T170000
DTEND;TZID=America/Chicago:20280619T200000
DTSTAMP:20260425T094558
CREATED:20240601T224357Z
LAST-MODIFIED:20240606T180517Z
UID:10000516-1845046800-1845057600@keepwhatyouvalue.com
SUMMARY:Intensive Outpatient Program (IOP)
DESCRIPTION:Intensive Outpatient Services are designed to explore and address problems or risk factors that appear to be related to alcohol and drug use and to help the individual recognize the harmful consequences of inappropriate alcohol and drug use. This program will address the individual’s needs of understanding of\, or skills to change his or her current or past alcohol and drug use and may affect personal goals. \nProgram Components\n\nInteractive group discussion\nIndividual counseling and case management\nProgram assignments and worksheets\nTransitional treatment in preparation for return to home and work life\nDidactic group workshops\n\nTreatment Length\nDetermined by individualized treatment plan.
URL:https://keepwhatyouvalue.com/event/intensive-outpatient-program-iop-5/2028-06-19/
LOCATION:Zoom Cloud Meetings\, TN\, United States
CATEGORIES:Intensive Outpatient Program
END:VEVENT
BEGIN:VEVENT
DTSTART;TZID=America/Chicago:20280621T170000
DTEND;TZID=America/Chicago:20280621T200000
DTSTAMP:20260425T094558
CREATED:20240601T224412Z
LAST-MODIFIED:20240606T181907Z
UID:10002343-1845219600-1845230400@keepwhatyouvalue.com
SUMMARY:Intensive Outpatient Program (IOP)
DESCRIPTION:Intensive Outpatient Services are designed to explore and address problems or risk factors that appear to be related to alcohol and drug use and to help the individual recognize the harmful consequences of inappropriate alcohol and drug use. This program will address the individual’s needs of understanding of\, or skills to change his or her current or past alcohol and drug use and may affect personal goals. \nProgram Components\n\nInteractive group discussion\nIndividual counseling and case management\nProgram assignments and worksheets\nTransitional treatment in preparation for return to home and work life\nDidactic group workshops\n\nTreatment Length\nDetermined by individualized treatment plan.
URL:https://keepwhatyouvalue.com/event/intensive-outpatient-program-iop-6/2028-06-21/
LOCATION:Zoom Cloud Meetings\, TN\, United States
CATEGORIES:Intensive Outpatient Program
END:VEVENT
BEGIN:VEVENT
DTSTART;TZID=America/Chicago:20280622T170000
DTEND;TZID=America/Chicago:20280622T200000
DTSTAMP:20260425T094558
CREATED:20240601T224413Z
LAST-MODIFIED:20240606T175942Z
UID:10000256-1845306000-1845316800@keepwhatyouvalue.com
SUMMARY:Intensive Outpatient Program (IOP)
DESCRIPTION:Intensive Outpatient Services are designed to explore and address problems or risk factors that appear to be related to alcohol and drug use and to help the individual recognize the harmful consequences of inappropriate alcohol and drug use. This program will address the individual’s needs of understanding of\, or skills to change his or her current or past alcohol and drug use and may affect personal goals. \nProgram Components\n\nInteractive group discussion\nIndividual counseling and case management\nProgram assignments and worksheets\nTransitional treatment in preparation for return to home and work life\nDidactic group workshops\n\nTreatment Length\nDetermined by individualized treatment plan.
URL:https://keepwhatyouvalue.com/event/intensive-outpatient-program-iop-7/2028-06-22/
LOCATION:Zoom Cloud Meetings\, TN\, United States
CATEGORIES:Intensive Outpatient Program
END:VEVENT
BEGIN:VEVENT
DTSTART;TZID=America/Chicago:20280626T170000
DTEND;TZID=America/Chicago:20280626T200000
DTSTAMP:20260425T094558
CREATED:20240601T224357Z
LAST-MODIFIED:20240606T180517Z
UID:10000517-1845651600-1845662400@keepwhatyouvalue.com
SUMMARY:Intensive Outpatient Program (IOP)
DESCRIPTION:Intensive Outpatient Services are designed to explore and address problems or risk factors that appear to be related to alcohol and drug use and to help the individual recognize the harmful consequences of inappropriate alcohol and drug use. This program will address the individual’s needs of understanding of\, or skills to change his or her current or past alcohol and drug use and may affect personal goals. \nProgram Components\n\nInteractive group discussion\nIndividual counseling and case management\nProgram assignments and worksheets\nTransitional treatment in preparation for return to home and work life\nDidactic group workshops\n\nTreatment Length\nDetermined by individualized treatment plan.
URL:https://keepwhatyouvalue.com/event/intensive-outpatient-program-iop-5/2028-06-26/
LOCATION:Zoom Cloud Meetings\, TN\, United States
CATEGORIES:Intensive Outpatient Program
END:VEVENT
BEGIN:VEVENT
DTSTART;TZID=America/Chicago:20280628T170000
DTEND;TZID=America/Chicago:20280628T200000
DTSTAMP:20260425T094558
CREATED:20240601T224412Z
LAST-MODIFIED:20240606T181907Z
UID:10002344-1845824400-1845835200@keepwhatyouvalue.com
SUMMARY:Intensive Outpatient Program (IOP)
DESCRIPTION:Intensive Outpatient Services are designed to explore and address problems or risk factors that appear to be related to alcohol and drug use and to help the individual recognize the harmful consequences of inappropriate alcohol and drug use. This program will address the individual’s needs of understanding of\, or skills to change his or her current or past alcohol and drug use and may affect personal goals. \nProgram Components\n\nInteractive group discussion\nIndividual counseling and case management\nProgram assignments and worksheets\nTransitional treatment in preparation for return to home and work life\nDidactic group workshops\n\nTreatment Length\nDetermined by individualized treatment plan.
URL:https://keepwhatyouvalue.com/event/intensive-outpatient-program-iop-6/2028-06-28/
LOCATION:Zoom Cloud Meetings\, TN\, United States
CATEGORIES:Intensive Outpatient Program
END:VEVENT
BEGIN:VEVENT
DTSTART;TZID=America/Chicago:20280629T170000
DTEND;TZID=America/Chicago:20280629T200000
DTSTAMP:20260425T094558
CREATED:20240601T224413Z
LAST-MODIFIED:20240606T175942Z
UID:10000257-1845910800-1845921600@keepwhatyouvalue.com
SUMMARY:Intensive Outpatient Program (IOP)
DESCRIPTION:Intensive Outpatient Services are designed to explore and address problems or risk factors that appear to be related to alcohol and drug use and to help the individual recognize the harmful consequences of inappropriate alcohol and drug use. This program will address the individual’s needs of understanding of\, or skills to change his or her current or past alcohol and drug use and may affect personal goals. \nProgram Components\n\nInteractive group discussion\nIndividual counseling and case management\nProgram assignments and worksheets\nTransitional treatment in preparation for return to home and work life\nDidactic group workshops\n\nTreatment Length\nDetermined by individualized treatment plan.
URL:https://keepwhatyouvalue.com/event/intensive-outpatient-program-iop-7/2028-06-29/
LOCATION:Zoom Cloud Meetings\, TN\, United States
CATEGORIES:Intensive Outpatient Program
END:VEVENT
END:VCALENDAR