BEGIN:VCALENDAR
VERSION:2.0
PRODID:-//Solutions Education Center - ECPv6.15.20//NONSGML v1.0//EN
CALSCALE:GREGORIAN
METHOD:PUBLISH
X-WR-CALNAME:Solutions Education Center
X-ORIGINAL-URL:https://keepwhatyouvalue.com
X-WR-CALDESC:Events for Solutions Education Center
REFRESH-INTERVAL;VALUE=DURATION:PT1H
X-Robots-Tag:noindex
X-PUBLISHED-TTL:PT1H
BEGIN:VTIMEZONE
TZID:America/Chicago
BEGIN:DAYLIGHT
TZOFFSETFROM:-0600
TZOFFSETTO:-0500
TZNAME:CDT
DTSTART:20260308T080000
END:DAYLIGHT
BEGIN:STANDARD
TZOFFSETFROM:-0500
TZOFFSETTO:-0600
TZNAME:CST
DTSTART:20261101T070000
END:STANDARD
BEGIN:DAYLIGHT
TZOFFSETFROM:-0600
TZOFFSETTO:-0500
TZNAME:CDT
DTSTART:20270314T080000
END:DAYLIGHT
BEGIN:STANDARD
TZOFFSETFROM:-0500
TZOFFSETTO:-0600
TZNAME:CST
DTSTART:20271107T070000
END:STANDARD
BEGIN:DAYLIGHT
TZOFFSETFROM:-0600
TZOFFSETTO:-0500
TZNAME:CDT
DTSTART:20280312T080000
END:DAYLIGHT
BEGIN:STANDARD
TZOFFSETFROM:-0500
TZOFFSETTO:-0600
TZNAME:CST
DTSTART:20281105T070000
END:STANDARD
END:VTIMEZONE
BEGIN:VEVENT
DTSTART;TZID=America/Chicago:20270701T170000
DTEND;TZID=America/Chicago:20270701T200000
DTSTAMP:20260424T191312
CREATED:20240601T224413Z
LAST-MODIFIED:20240606T175942Z
UID:10000205-1814461200-1814472000@keepwhatyouvalue.com
SUMMARY:Intensive Outpatient Program (IOP)
DESCRIPTION:Intensive Outpatient Services are designed to explore and address problems or risk factors that appear to be related to alcohol and drug use and to help the individual recognize the harmful consequences of inappropriate alcohol and drug use. This program will address the individual’s needs of understanding of\, or skills to change his or her current or past alcohol and drug use and may affect personal goals. \nProgram Components\n\nInteractive group discussion\nIndividual counseling and case management\nProgram assignments and worksheets\nTransitional treatment in preparation for return to home and work life\nDidactic group workshops\n\nTreatment Length\nDetermined by individualized treatment plan.
URL:https://keepwhatyouvalue.com/event/intensive-outpatient-program-iop-7/2027-07-01/
LOCATION:Zoom Cloud Meetings\, TN\, United States
CATEGORIES:Intensive Outpatient Program
END:VEVENT
BEGIN:VEVENT
DTSTART;TZID=America/Chicago:20270705T170000
DTEND;TZID=America/Chicago:20270705T200000
DTSTAMP:20260424T191312
CREATED:20240601T224357Z
LAST-MODIFIED:20240606T180517Z
UID:10000466-1814806800-1814817600@keepwhatyouvalue.com
SUMMARY:Intensive Outpatient Program (IOP)
DESCRIPTION:Intensive Outpatient Services are designed to explore and address problems or risk factors that appear to be related to alcohol and drug use and to help the individual recognize the harmful consequences of inappropriate alcohol and drug use. This program will address the individual’s needs of understanding of\, or skills to change his or her current or past alcohol and drug use and may affect personal goals. \nProgram Components\n\nInteractive group discussion\nIndividual counseling and case management\nProgram assignments and worksheets\nTransitional treatment in preparation for return to home and work life\nDidactic group workshops\n\nTreatment Length\nDetermined by individualized treatment plan.
URL:https://keepwhatyouvalue.com/event/intensive-outpatient-program-iop-5/2027-07-05/
LOCATION:Zoom Cloud Meetings\, TN\, United States
CATEGORIES:Intensive Outpatient Program
END:VEVENT
BEGIN:VEVENT
DTSTART;TZID=America/Chicago:20270707T170000
DTEND;TZID=America/Chicago:20270707T200000
DTSTAMP:20260424T191312
CREATED:20240601T224412Z
LAST-MODIFIED:20240606T181907Z
UID:10002293-1814979600-1814990400@keepwhatyouvalue.com
SUMMARY:Intensive Outpatient Program (IOP)
DESCRIPTION:Intensive Outpatient Services are designed to explore and address problems or risk factors that appear to be related to alcohol and drug use and to help the individual recognize the harmful consequences of inappropriate alcohol and drug use. This program will address the individual’s needs of understanding of\, or skills to change his or her current or past alcohol and drug use and may affect personal goals. \nProgram Components\n\nInteractive group discussion\nIndividual counseling and case management\nProgram assignments and worksheets\nTransitional treatment in preparation for return to home and work life\nDidactic group workshops\n\nTreatment Length\nDetermined by individualized treatment plan.
URL:https://keepwhatyouvalue.com/event/intensive-outpatient-program-iop-6/2027-07-07/
LOCATION:Zoom Cloud Meetings\, TN\, United States
CATEGORIES:Intensive Outpatient Program
END:VEVENT
BEGIN:VEVENT
DTSTART;TZID=America/Chicago:20270708T170000
DTEND;TZID=America/Chicago:20270708T200000
DTSTAMP:20260424T191312
CREATED:20240601T224413Z
LAST-MODIFIED:20240606T175942Z
UID:10000206-1815066000-1815076800@keepwhatyouvalue.com
SUMMARY:Intensive Outpatient Program (IOP)
DESCRIPTION:Intensive Outpatient Services are designed to explore and address problems or risk factors that appear to be related to alcohol and drug use and to help the individual recognize the harmful consequences of inappropriate alcohol and drug use. This program will address the individual’s needs of understanding of\, or skills to change his or her current or past alcohol and drug use and may affect personal goals. \nProgram Components\n\nInteractive group discussion\nIndividual counseling and case management\nProgram assignments and worksheets\nTransitional treatment in preparation for return to home and work life\nDidactic group workshops\n\nTreatment Length\nDetermined by individualized treatment plan.
URL:https://keepwhatyouvalue.com/event/intensive-outpatient-program-iop-7/2027-07-08/
LOCATION:Zoom Cloud Meetings\, TN\, United States
CATEGORIES:Intensive Outpatient Program
END:VEVENT
BEGIN:VEVENT
DTSTART;TZID=America/Chicago:20270712T170000
DTEND;TZID=America/Chicago:20270712T200000
DTSTAMP:20260424T191312
CREATED:20240601T224357Z
LAST-MODIFIED:20240606T180517Z
UID:10000467-1815411600-1815422400@keepwhatyouvalue.com
SUMMARY:Intensive Outpatient Program (IOP)
DESCRIPTION:Intensive Outpatient Services are designed to explore and address problems or risk factors that appear to be related to alcohol and drug use and to help the individual recognize the harmful consequences of inappropriate alcohol and drug use. This program will address the individual’s needs of understanding of\, or skills to change his or her current or past alcohol and drug use and may affect personal goals. \nProgram Components\n\nInteractive group discussion\nIndividual counseling and case management\nProgram assignments and worksheets\nTransitional treatment in preparation for return to home and work life\nDidactic group workshops\n\nTreatment Length\nDetermined by individualized treatment plan.
URL:https://keepwhatyouvalue.com/event/intensive-outpatient-program-iop-5/2027-07-12/
LOCATION:Zoom Cloud Meetings\, TN\, United States
CATEGORIES:Intensive Outpatient Program
END:VEVENT
BEGIN:VEVENT
DTSTART;TZID=America/Chicago:20270714T170000
DTEND;TZID=America/Chicago:20270714T200000
DTSTAMP:20260424T191312
CREATED:20240601T224412Z
LAST-MODIFIED:20240606T181907Z
UID:10002294-1815584400-1815595200@keepwhatyouvalue.com
SUMMARY:Intensive Outpatient Program (IOP)
DESCRIPTION:Intensive Outpatient Services are designed to explore and address problems or risk factors that appear to be related to alcohol and drug use and to help the individual recognize the harmful consequences of inappropriate alcohol and drug use. This program will address the individual’s needs of understanding of\, or skills to change his or her current or past alcohol and drug use and may affect personal goals. \nProgram Components\n\nInteractive group discussion\nIndividual counseling and case management\nProgram assignments and worksheets\nTransitional treatment in preparation for return to home and work life\nDidactic group workshops\n\nTreatment Length\nDetermined by individualized treatment plan.
URL:https://keepwhatyouvalue.com/event/intensive-outpatient-program-iop-6/2027-07-14/
LOCATION:Zoom Cloud Meetings\, TN\, United States
CATEGORIES:Intensive Outpatient Program
END:VEVENT
BEGIN:VEVENT
DTSTART;TZID=America/Chicago:20270715T170000
DTEND;TZID=America/Chicago:20270715T200000
DTSTAMP:20260424T191312
CREATED:20240601T224413Z
LAST-MODIFIED:20240606T175942Z
UID:10000207-1815670800-1815681600@keepwhatyouvalue.com
SUMMARY:Intensive Outpatient Program (IOP)
DESCRIPTION:Intensive Outpatient Services are designed to explore and address problems or risk factors that appear to be related to alcohol and drug use and to help the individual recognize the harmful consequences of inappropriate alcohol and drug use. This program will address the individual’s needs of understanding of\, or skills to change his or her current or past alcohol and drug use and may affect personal goals. \nProgram Components\n\nInteractive group discussion\nIndividual counseling and case management\nProgram assignments and worksheets\nTransitional treatment in preparation for return to home and work life\nDidactic group workshops\n\nTreatment Length\nDetermined by individualized treatment plan.
URL:https://keepwhatyouvalue.com/event/intensive-outpatient-program-iop-7/2027-07-15/
LOCATION:Zoom Cloud Meetings\, TN\, United States
CATEGORIES:Intensive Outpatient Program
END:VEVENT
BEGIN:VEVENT
DTSTART;TZID=America/Chicago:20270719T170000
DTEND;TZID=America/Chicago:20270719T200000
DTSTAMP:20260424T191312
CREATED:20240601T224357Z
LAST-MODIFIED:20240606T180517Z
UID:10000468-1816016400-1816027200@keepwhatyouvalue.com
SUMMARY:Intensive Outpatient Program (IOP)
DESCRIPTION:Intensive Outpatient Services are designed to explore and address problems or risk factors that appear to be related to alcohol and drug use and to help the individual recognize the harmful consequences of inappropriate alcohol and drug use. This program will address the individual’s needs of understanding of\, or skills to change his or her current or past alcohol and drug use and may affect personal goals. \nProgram Components\n\nInteractive group discussion\nIndividual counseling and case management\nProgram assignments and worksheets\nTransitional treatment in preparation for return to home and work life\nDidactic group workshops\n\nTreatment Length\nDetermined by individualized treatment plan.
URL:https://keepwhatyouvalue.com/event/intensive-outpatient-program-iop-5/2027-07-19/
LOCATION:Zoom Cloud Meetings\, TN\, United States
CATEGORIES:Intensive Outpatient Program
END:VEVENT
BEGIN:VEVENT
DTSTART;TZID=America/Chicago:20270721T170000
DTEND;TZID=America/Chicago:20270721T200000
DTSTAMP:20260424T191312
CREATED:20240601T224412Z
LAST-MODIFIED:20240606T181907Z
UID:10002295-1816189200-1816200000@keepwhatyouvalue.com
SUMMARY:Intensive Outpatient Program (IOP)
DESCRIPTION:Intensive Outpatient Services are designed to explore and address problems or risk factors that appear to be related to alcohol and drug use and to help the individual recognize the harmful consequences of inappropriate alcohol and drug use. This program will address the individual’s needs of understanding of\, or skills to change his or her current or past alcohol and drug use and may affect personal goals. \nProgram Components\n\nInteractive group discussion\nIndividual counseling and case management\nProgram assignments and worksheets\nTransitional treatment in preparation for return to home and work life\nDidactic group workshops\n\nTreatment Length\nDetermined by individualized treatment plan.
URL:https://keepwhatyouvalue.com/event/intensive-outpatient-program-iop-6/2027-07-21/
LOCATION:Zoom Cloud Meetings\, TN\, United States
CATEGORIES:Intensive Outpatient Program
END:VEVENT
BEGIN:VEVENT
DTSTART;TZID=America/Chicago:20270722T170000
DTEND;TZID=America/Chicago:20270722T200000
DTSTAMP:20260424T191312
CREATED:20240601T224413Z
LAST-MODIFIED:20240606T175942Z
UID:10000208-1816275600-1816286400@keepwhatyouvalue.com
SUMMARY:Intensive Outpatient Program (IOP)
DESCRIPTION:Intensive Outpatient Services are designed to explore and address problems or risk factors that appear to be related to alcohol and drug use and to help the individual recognize the harmful consequences of inappropriate alcohol and drug use. This program will address the individual’s needs of understanding of\, or skills to change his or her current or past alcohol and drug use and may affect personal goals. \nProgram Components\n\nInteractive group discussion\nIndividual counseling and case management\nProgram assignments and worksheets\nTransitional treatment in preparation for return to home and work life\nDidactic group workshops\n\nTreatment Length\nDetermined by individualized treatment plan.
URL:https://keepwhatyouvalue.com/event/intensive-outpatient-program-iop-7/2027-07-22/
LOCATION:Zoom Cloud Meetings\, TN\, United States
CATEGORIES:Intensive Outpatient Program
END:VEVENT
BEGIN:VEVENT
DTSTART;TZID=America/Chicago:20270726T170000
DTEND;TZID=America/Chicago:20270726T200000
DTSTAMP:20260424T191313
CREATED:20240601T224357Z
LAST-MODIFIED:20240606T180517Z
UID:10000469-1816621200-1816632000@keepwhatyouvalue.com
SUMMARY:Intensive Outpatient Program (IOP)
DESCRIPTION:Intensive Outpatient Services are designed to explore and address problems or risk factors that appear to be related to alcohol and drug use and to help the individual recognize the harmful consequences of inappropriate alcohol and drug use. This program will address the individual’s needs of understanding of\, or skills to change his or her current or past alcohol and drug use and may affect personal goals. \nProgram Components\n\nInteractive group discussion\nIndividual counseling and case management\nProgram assignments and worksheets\nTransitional treatment in preparation for return to home and work life\nDidactic group workshops\n\nTreatment Length\nDetermined by individualized treatment plan.
URL:https://keepwhatyouvalue.com/event/intensive-outpatient-program-iop-5/2027-07-26/
LOCATION:Zoom Cloud Meetings\, TN\, United States
CATEGORIES:Intensive Outpatient Program
END:VEVENT
BEGIN:VEVENT
DTSTART;TZID=America/Chicago:20270728T170000
DTEND;TZID=America/Chicago:20270728T200000
DTSTAMP:20260424T191313
CREATED:20240601T224412Z
LAST-MODIFIED:20240606T181907Z
UID:10002296-1816794000-1816804800@keepwhatyouvalue.com
SUMMARY:Intensive Outpatient Program (IOP)
DESCRIPTION:Intensive Outpatient Services are designed to explore and address problems or risk factors that appear to be related to alcohol and drug use and to help the individual recognize the harmful consequences of inappropriate alcohol and drug use. This program will address the individual’s needs of understanding of\, or skills to change his or her current or past alcohol and drug use and may affect personal goals. \nProgram Components\n\nInteractive group discussion\nIndividual counseling and case management\nProgram assignments and worksheets\nTransitional treatment in preparation for return to home and work life\nDidactic group workshops\n\nTreatment Length\nDetermined by individualized treatment plan.
URL:https://keepwhatyouvalue.com/event/intensive-outpatient-program-iop-6/2027-07-28/
LOCATION:Zoom Cloud Meetings\, TN\, United States
CATEGORIES:Intensive Outpatient Program
END:VEVENT
BEGIN:VEVENT
DTSTART;TZID=America/Chicago:20270729T170000
DTEND;TZID=America/Chicago:20270729T200000
DTSTAMP:20260424T191313
CREATED:20240601T224413Z
LAST-MODIFIED:20240606T175942Z
UID:10000209-1816880400-1816891200@keepwhatyouvalue.com
SUMMARY:Intensive Outpatient Program (IOP)
DESCRIPTION:Intensive Outpatient Services are designed to explore and address problems or risk factors that appear to be related to alcohol and drug use and to help the individual recognize the harmful consequences of inappropriate alcohol and drug use. This program will address the individual’s needs of understanding of\, or skills to change his or her current or past alcohol and drug use and may affect personal goals. \nProgram Components\n\nInteractive group discussion\nIndividual counseling and case management\nProgram assignments and worksheets\nTransitional treatment in preparation for return to home and work life\nDidactic group workshops\n\nTreatment Length\nDetermined by individualized treatment plan.
URL:https://keepwhatyouvalue.com/event/intensive-outpatient-program-iop-7/2027-07-29/
LOCATION:Zoom Cloud Meetings\, TN\, United States
CATEGORIES:Intensive Outpatient Program
END:VEVENT
END:VCALENDAR