BEGIN:VCALENDAR
VERSION:2.0
PRODID:-//Solutions Education Center - ECPv6.15.20//NONSGML v1.0//EN
CALSCALE:GREGORIAN
METHOD:PUBLISH
X-ORIGINAL-URL:https://keepwhatyouvalue.com
X-WR-CALDESC:Events for Solutions Education Center
REFRESH-INTERVAL;VALUE=DURATION:PT1H
X-Robots-Tag:noindex
X-PUBLISHED-TTL:PT1H
BEGIN:VTIMEZONE
TZID:America/Chicago
BEGIN:DAYLIGHT
TZOFFSETFROM:-0600
TZOFFSETTO:-0500
TZNAME:CDT
DTSTART:20250309T080000
END:DAYLIGHT
BEGIN:STANDARD
TZOFFSETFROM:-0500
TZOFFSETTO:-0600
TZNAME:CST
DTSTART:20251102T070000
END:STANDARD
BEGIN:DAYLIGHT
TZOFFSETFROM:-0600
TZOFFSETTO:-0500
TZNAME:CDT
DTSTART:20260308T080000
END:DAYLIGHT
BEGIN:STANDARD
TZOFFSETFROM:-0500
TZOFFSETTO:-0600
TZNAME:CST
DTSTART:20261101T070000
END:STANDARD
BEGIN:DAYLIGHT
TZOFFSETFROM:-0600
TZOFFSETTO:-0500
TZNAME:CDT
DTSTART:20270314T080000
END:DAYLIGHT
BEGIN:STANDARD
TZOFFSETFROM:-0500
TZOFFSETTO:-0600
TZNAME:CST
DTSTART:20271107T070000
END:STANDARD
END:VTIMEZONE
BEGIN:VEVENT
DTSTART;TZID=America/Chicago:20260302T170000
DTEND;TZID=America/Chicago:20260302T200000
DTSTAMP:20260421T172849
CREATED:20240601T224357Z
LAST-MODIFIED:20240606T180517Z
UID:10000396-1772470800-1772481600@keepwhatyouvalue.com
SUMMARY:Intensive Outpatient Program (IOP)
DESCRIPTION:Intensive Outpatient Services are designed to explore and address problems or risk factors that appear to be related to alcohol and drug use and to help the individual recognize the harmful consequences of inappropriate alcohol and drug use. This program will address the individual’s needs of understanding of\, or skills to change his or her current or past alcohol and drug use and may affect personal goals. \nProgram Components\n\nInteractive group discussion\nIndividual counseling and case management\nProgram assignments and worksheets\nTransitional treatment in preparation for return to home and work life\nDidactic group workshops\n\nTreatment Length\nDetermined by individualized treatment plan.
URL:https://keepwhatyouvalue.com/event/intensive-outpatient-program-iop-5/2026-03-02/
LOCATION:Zoom Cloud Meetings\, TN\, United States
CATEGORIES:Intensive Outpatient Program
END:VEVENT
BEGIN:VEVENT
DTSTART;TZID=America/Chicago:20260304T170000
DTEND;TZID=America/Chicago:20260304T200000
DTSTAMP:20260421T172849
CREATED:20240601T224412Z
LAST-MODIFIED:20240606T181907Z
UID:10002223-1772643600-1772654400@keepwhatyouvalue.com
SUMMARY:Intensive Outpatient Program (IOP)
DESCRIPTION:Intensive Outpatient Services are designed to explore and address problems or risk factors that appear to be related to alcohol and drug use and to help the individual recognize the harmful consequences of inappropriate alcohol and drug use. This program will address the individual’s needs of understanding of\, or skills to change his or her current or past alcohol and drug use and may affect personal goals. \nProgram Components\n\nInteractive group discussion\nIndividual counseling and case management\nProgram assignments and worksheets\nTransitional treatment in preparation for return to home and work life\nDidactic group workshops\n\nTreatment Length\nDetermined by individualized treatment plan.
URL:https://keepwhatyouvalue.com/event/intensive-outpatient-program-iop-6/2026-03-04/
LOCATION:Zoom Cloud Meetings\, TN\, United States
CATEGORIES:Intensive Outpatient Program
END:VEVENT
BEGIN:VEVENT
DTSTART;TZID=America/Chicago:20260305T170000
DTEND;TZID=America/Chicago:20260305T200000
DTSTAMP:20260421T172849
CREATED:20240601T224413Z
LAST-MODIFIED:20240606T175942Z
UID:10000136-1772730000-1772740800@keepwhatyouvalue.com
SUMMARY:Intensive Outpatient Program (IOP)
DESCRIPTION:Intensive Outpatient Services are designed to explore and address problems or risk factors that appear to be related to alcohol and drug use and to help the individual recognize the harmful consequences of inappropriate alcohol and drug use. This program will address the individual’s needs of understanding of\, or skills to change his or her current or past alcohol and drug use and may affect personal goals. \nProgram Components\n\nInteractive group discussion\nIndividual counseling and case management\nProgram assignments and worksheets\nTransitional treatment in preparation for return to home and work life\nDidactic group workshops\n\nTreatment Length\nDetermined by individualized treatment plan.
URL:https://keepwhatyouvalue.com/event/intensive-outpatient-program-iop-7/2026-03-05/
LOCATION:Zoom Cloud Meetings\, TN\, United States
CATEGORIES:Intensive Outpatient Program
END:VEVENT
BEGIN:VEVENT
DTSTART;TZID=America/Chicago:20260309T170000
DTEND;TZID=America/Chicago:20260309T200000
DTSTAMP:20260421T172849
CREATED:20240601T224357Z
LAST-MODIFIED:20240606T180517Z
UID:10000397-1773075600-1773086400@keepwhatyouvalue.com
SUMMARY:Intensive Outpatient Program (IOP)
DESCRIPTION:Intensive Outpatient Services are designed to explore and address problems or risk factors that appear to be related to alcohol and drug use and to help the individual recognize the harmful consequences of inappropriate alcohol and drug use. This program will address the individual’s needs of understanding of\, or skills to change his or her current or past alcohol and drug use and may affect personal goals. \nProgram Components\n\nInteractive group discussion\nIndividual counseling and case management\nProgram assignments and worksheets\nTransitional treatment in preparation for return to home and work life\nDidactic group workshops\n\nTreatment Length\nDetermined by individualized treatment plan.
URL:https://keepwhatyouvalue.com/event/intensive-outpatient-program-iop-5/2026-03-09/
LOCATION:Zoom Cloud Meetings\, TN\, United States
CATEGORIES:Intensive Outpatient Program
END:VEVENT
BEGIN:VEVENT
DTSTART;TZID=America/Chicago:20260311T170000
DTEND;TZID=America/Chicago:20260311T200000
DTSTAMP:20260421T172849
CREATED:20240601T224412Z
LAST-MODIFIED:20240606T181907Z
UID:10002224-1773248400-1773259200@keepwhatyouvalue.com
SUMMARY:Intensive Outpatient Program (IOP)
DESCRIPTION:Intensive Outpatient Services are designed to explore and address problems or risk factors that appear to be related to alcohol and drug use and to help the individual recognize the harmful consequences of inappropriate alcohol and drug use. This program will address the individual’s needs of understanding of\, or skills to change his or her current or past alcohol and drug use and may affect personal goals. \nProgram Components\n\nInteractive group discussion\nIndividual counseling and case management\nProgram assignments and worksheets\nTransitional treatment in preparation for return to home and work life\nDidactic group workshops\n\nTreatment Length\nDetermined by individualized treatment plan.
URL:https://keepwhatyouvalue.com/event/intensive-outpatient-program-iop-6/2026-03-11/
LOCATION:Zoom Cloud Meetings\, TN\, United States
CATEGORIES:Intensive Outpatient Program
END:VEVENT
BEGIN:VEVENT
DTSTART;TZID=America/Chicago:20260312T170000
DTEND;TZID=America/Chicago:20260312T200000
DTSTAMP:20260421T172849
CREATED:20240601T224413Z
LAST-MODIFIED:20240606T175942Z
UID:10000137-1773334800-1773345600@keepwhatyouvalue.com
SUMMARY:Intensive Outpatient Program (IOP)
DESCRIPTION:Intensive Outpatient Services are designed to explore and address problems or risk factors that appear to be related to alcohol and drug use and to help the individual recognize the harmful consequences of inappropriate alcohol and drug use. This program will address the individual’s needs of understanding of\, or skills to change his or her current or past alcohol and drug use and may affect personal goals. \nProgram Components\n\nInteractive group discussion\nIndividual counseling and case management\nProgram assignments and worksheets\nTransitional treatment in preparation for return to home and work life\nDidactic group workshops\n\nTreatment Length\nDetermined by individualized treatment plan.
URL:https://keepwhatyouvalue.com/event/intensive-outpatient-program-iop-7/2026-03-12/
LOCATION:Zoom Cloud Meetings\, TN\, United States
CATEGORIES:Intensive Outpatient Program
END:VEVENT
BEGIN:VEVENT
DTSTART;TZID=America/Chicago:20260316T170000
DTEND;TZID=America/Chicago:20260316T200000
DTSTAMP:20260421T172849
CREATED:20240601T224357Z
LAST-MODIFIED:20240606T180517Z
UID:10000398-1773680400-1773691200@keepwhatyouvalue.com
SUMMARY:Intensive Outpatient Program (IOP)
DESCRIPTION:Intensive Outpatient Services are designed to explore and address problems or risk factors that appear to be related to alcohol and drug use and to help the individual recognize the harmful consequences of inappropriate alcohol and drug use. This program will address the individual’s needs of understanding of\, or skills to change his or her current or past alcohol and drug use and may affect personal goals. \nProgram Components\n\nInteractive group discussion\nIndividual counseling and case management\nProgram assignments and worksheets\nTransitional treatment in preparation for return to home and work life\nDidactic group workshops\n\nTreatment Length\nDetermined by individualized treatment plan.
URL:https://keepwhatyouvalue.com/event/intensive-outpatient-program-iop-5/2026-03-16/
LOCATION:Zoom Cloud Meetings\, TN\, United States
CATEGORIES:Intensive Outpatient Program
END:VEVENT
BEGIN:VEVENT
DTSTART;TZID=America/Chicago:20260318T170000
DTEND;TZID=America/Chicago:20260318T200000
DTSTAMP:20260421T172849
CREATED:20240601T224412Z
LAST-MODIFIED:20240606T181907Z
UID:10002225-1773853200-1773864000@keepwhatyouvalue.com
SUMMARY:Intensive Outpatient Program (IOP)
DESCRIPTION:Intensive Outpatient Services are designed to explore and address problems or risk factors that appear to be related to alcohol and drug use and to help the individual recognize the harmful consequences of inappropriate alcohol and drug use. This program will address the individual’s needs of understanding of\, or skills to change his or her current or past alcohol and drug use and may affect personal goals. \nProgram Components\n\nInteractive group discussion\nIndividual counseling and case management\nProgram assignments and worksheets\nTransitional treatment in preparation for return to home and work life\nDidactic group workshops\n\nTreatment Length\nDetermined by individualized treatment plan.
URL:https://keepwhatyouvalue.com/event/intensive-outpatient-program-iop-6/2026-03-18/
LOCATION:Zoom Cloud Meetings\, TN\, United States
CATEGORIES:Intensive Outpatient Program
END:VEVENT
BEGIN:VEVENT
DTSTART;TZID=America/Chicago:20260319T170000
DTEND;TZID=America/Chicago:20260319T200000
DTSTAMP:20260421T172849
CREATED:20240601T224413Z
LAST-MODIFIED:20240606T175942Z
UID:10000138-1773939600-1773950400@keepwhatyouvalue.com
SUMMARY:Intensive Outpatient Program (IOP)
DESCRIPTION:Intensive Outpatient Services are designed to explore and address problems or risk factors that appear to be related to alcohol and drug use and to help the individual recognize the harmful consequences of inappropriate alcohol and drug use. This program will address the individual’s needs of understanding of\, or skills to change his or her current or past alcohol and drug use and may affect personal goals. \nProgram Components\n\nInteractive group discussion\nIndividual counseling and case management\nProgram assignments and worksheets\nTransitional treatment in preparation for return to home and work life\nDidactic group workshops\n\nTreatment Length\nDetermined by individualized treatment plan.
URL:https://keepwhatyouvalue.com/event/intensive-outpatient-program-iop-7/2026-03-19/
LOCATION:Zoom Cloud Meetings\, TN\, United States
CATEGORIES:Intensive Outpatient Program
END:VEVENT
BEGIN:VEVENT
DTSTART;TZID=America/Chicago:20260323T170000
DTEND;TZID=America/Chicago:20260323T200000
DTSTAMP:20260421T172849
CREATED:20240601T224357Z
LAST-MODIFIED:20240606T180517Z
UID:10000399-1774285200-1774296000@keepwhatyouvalue.com
SUMMARY:Intensive Outpatient Program (IOP)
DESCRIPTION:Intensive Outpatient Services are designed to explore and address problems or risk factors that appear to be related to alcohol and drug use and to help the individual recognize the harmful consequences of inappropriate alcohol and drug use. This program will address the individual’s needs of understanding of\, or skills to change his or her current or past alcohol and drug use and may affect personal goals. \nProgram Components\n\nInteractive group discussion\nIndividual counseling and case management\nProgram assignments and worksheets\nTransitional treatment in preparation for return to home and work life\nDidactic group workshops\n\nTreatment Length\nDetermined by individualized treatment plan.
URL:https://keepwhatyouvalue.com/event/intensive-outpatient-program-iop-5/2026-03-23/
LOCATION:Zoom Cloud Meetings\, TN\, United States
CATEGORIES:Intensive Outpatient Program
END:VEVENT
BEGIN:VEVENT
DTSTART;TZID=America/Chicago:20260325T170000
DTEND;TZID=America/Chicago:20260325T200000
DTSTAMP:20260421T172849
CREATED:20240601T224412Z
LAST-MODIFIED:20240606T181907Z
UID:10002226-1774458000-1774468800@keepwhatyouvalue.com
SUMMARY:Intensive Outpatient Program (IOP)
DESCRIPTION:Intensive Outpatient Services are designed to explore and address problems or risk factors that appear to be related to alcohol and drug use and to help the individual recognize the harmful consequences of inappropriate alcohol and drug use. This program will address the individual’s needs of understanding of\, or skills to change his or her current or past alcohol and drug use and may affect personal goals. \nProgram Components\n\nInteractive group discussion\nIndividual counseling and case management\nProgram assignments and worksheets\nTransitional treatment in preparation for return to home and work life\nDidactic group workshops\n\nTreatment Length\nDetermined by individualized treatment plan.
URL:https://keepwhatyouvalue.com/event/intensive-outpatient-program-iop-6/2026-03-25/
LOCATION:Zoom Cloud Meetings\, TN\, United States
CATEGORIES:Intensive Outpatient Program
END:VEVENT
BEGIN:VEVENT
DTSTART;TZID=America/Chicago:20260326T170000
DTEND;TZID=America/Chicago:20260326T200000
DTSTAMP:20260421T172849
CREATED:20240601T224413Z
LAST-MODIFIED:20240606T175942Z
UID:10000139-1774544400-1774555200@keepwhatyouvalue.com
SUMMARY:Intensive Outpatient Program (IOP)
DESCRIPTION:Intensive Outpatient Services are designed to explore and address problems or risk factors that appear to be related to alcohol and drug use and to help the individual recognize the harmful consequences of inappropriate alcohol and drug use. This program will address the individual’s needs of understanding of\, or skills to change his or her current or past alcohol and drug use and may affect personal goals. \nProgram Components\n\nInteractive group discussion\nIndividual counseling and case management\nProgram assignments and worksheets\nTransitional treatment in preparation for return to home and work life\nDidactic group workshops\n\nTreatment Length\nDetermined by individualized treatment plan.
URL:https://keepwhatyouvalue.com/event/intensive-outpatient-program-iop-7/2026-03-26/
LOCATION:Zoom Cloud Meetings\, TN\, United States
CATEGORIES:Intensive Outpatient Program
END:VEVENT
BEGIN:VEVENT
DTSTART;TZID=America/Chicago:20260330T170000
DTEND;TZID=America/Chicago:20260330T200000
DTSTAMP:20260421T172849
CREATED:20240601T224357Z
LAST-MODIFIED:20240606T180517Z
UID:10000400-1774890000-1774900800@keepwhatyouvalue.com
SUMMARY:Intensive Outpatient Program (IOP)
DESCRIPTION:Intensive Outpatient Services are designed to explore and address problems or risk factors that appear to be related to alcohol and drug use and to help the individual recognize the harmful consequences of inappropriate alcohol and drug use. This program will address the individual’s needs of understanding of\, or skills to change his or her current or past alcohol and drug use and may affect personal goals. \nProgram Components\n\nInteractive group discussion\nIndividual counseling and case management\nProgram assignments and worksheets\nTransitional treatment in preparation for return to home and work life\nDidactic group workshops\n\nTreatment Length\nDetermined by individualized treatment plan.
URL:https://keepwhatyouvalue.com/event/intensive-outpatient-program-iop-5/2026-03-30/
LOCATION:Zoom Cloud Meetings\, TN\, United States
CATEGORIES:Intensive Outpatient Program
END:VEVENT
END:VCALENDAR