BEGIN:VCALENDAR
VERSION:2.0
PRODID:-//Solutions Education Center - ECPv6.15.20//NONSGML v1.0//EN
CALSCALE:GREGORIAN
METHOD:PUBLISH
X-WR-CALNAME:Solutions Education Center
X-ORIGINAL-URL:https://keepwhatyouvalue.com
X-WR-CALDESC:Events for Solutions Education Center
REFRESH-INTERVAL;VALUE=DURATION:PT1H
X-Robots-Tag:noindex
X-PUBLISHED-TTL:PT1H
BEGIN:VTIMEZONE
TZID:America/Chicago
BEGIN:DAYLIGHT
TZOFFSETFROM:-0600
TZOFFSETTO:-0500
TZNAME:CDT
DTSTART:20240310T080000
END:DAYLIGHT
BEGIN:STANDARD
TZOFFSETFROM:-0500
TZOFFSETTO:-0600
TZNAME:CST
DTSTART:20241103T070000
END:STANDARD
BEGIN:DAYLIGHT
TZOFFSETFROM:-0600
TZOFFSETTO:-0500
TZNAME:CDT
DTSTART:20250309T080000
END:DAYLIGHT
BEGIN:STANDARD
TZOFFSETFROM:-0500
TZOFFSETTO:-0600
TZNAME:CST
DTSTART:20251102T070000
END:STANDARD
BEGIN:DAYLIGHT
TZOFFSETFROM:-0600
TZOFFSETTO:-0500
TZNAME:CDT
DTSTART:20260308T080000
END:DAYLIGHT
BEGIN:STANDARD
TZOFFSETFROM:-0500
TZOFFSETTO:-0600
TZNAME:CST
DTSTART:20261101T070000
END:STANDARD
BEGIN:DAYLIGHT
TZOFFSETFROM:-0600
TZOFFSETTO:-0500
TZNAME:CDT
DTSTART:20270314T080000
END:DAYLIGHT
BEGIN:STANDARD
TZOFFSETFROM:-0500
TZOFFSETTO:-0600
TZNAME:CST
DTSTART:20271107T070000
END:STANDARD
END:VTIMEZONE
BEGIN:VEVENT
DTSTART;TZID=America/Chicago:20250908T080000
DTEND;TZID=America/Chicago:20250908T200000
DTSTAMP:20260425T084009
CREATED:20240911T200140Z
LAST-MODIFIED:20240911T200140Z
UID:10002970-1757318400-1757361600@keepwhatyouvalue.com
SUMMARY:DUI Class
DESCRIPTION:Prime for Life \n615-796-0817
URL:https://keepwhatyouvalue.com/event/dui-class-28/
LOCATION:Zoom Cloud Meetings\, TN\, United States
CATEGORIES:DUI Classes
END:VEVENT
BEGIN:VEVENT
DTSTART;TZID=America/Chicago:20250927T080000
DTEND;TZID=America/Chicago:20250927T200000
DTSTAMP:20260425T084009
CREATED:20240911T200209Z
LAST-MODIFIED:20240911T200209Z
UID:10002971-1758960000-1759003200@keepwhatyouvalue.com
SUMMARY:DUI Class
DESCRIPTION:Prime for Life \n615-796-0817
URL:https://keepwhatyouvalue.com/event/dui-class-29/
LOCATION:Zoom Cloud Meetings\, TN\, United States
CATEGORIES:DUI Classes
END:VEVENT
BEGIN:VEVENT
DTSTART;TZID=America/Chicago:20251006T080000
DTEND;TZID=America/Chicago:20251006T200000
DTSTAMP:20260425T084009
CREATED:20240911T200408Z
LAST-MODIFIED:20240911T200408Z
UID:10002974-1759737600-1759780800@keepwhatyouvalue.com
SUMMARY:DUI Class
DESCRIPTION:Prime for Life \n615-796-0817
URL:https://keepwhatyouvalue.com/event/dui-class-30/
LOCATION:Zoom Cloud Meetings\, TN\, United States
CATEGORIES:DUI Classes
END:VEVENT
BEGIN:VEVENT
DTSTART;TZID=America/Chicago:20251018T080000
DTEND;TZID=America/Chicago:20251018T200000
DTSTAMP:20260425T084009
CREATED:20240911T200428Z
LAST-MODIFIED:20240911T200428Z
UID:10002975-1760774400-1760817600@keepwhatyouvalue.com
SUMMARY:DUI Class
DESCRIPTION:Prime for Life \n615-796-0817
URL:https://keepwhatyouvalue.com/event/dui-class-31/
LOCATION:Zoom Cloud Meetings\, TN\, United States
CATEGORIES:DUI Classes
END:VEVENT
BEGIN:VEVENT
DTSTART;TZID=America/Chicago:20251110T080000
DTEND;TZID=America/Chicago:20251110T200000
DTSTAMP:20260425T084009
CREATED:20240911T200549Z
LAST-MODIFIED:20240911T200549Z
UID:10002978-1762761600-1762804800@keepwhatyouvalue.com
SUMMARY:DUI Class
DESCRIPTION:Prime for Life \n615-796-0817
URL:https://keepwhatyouvalue.com/event/dui-class-32/
LOCATION:Zoom Cloud Meetings\, TN\, United States
CATEGORIES:DUI Classes
END:VEVENT
BEGIN:VEVENT
DTSTART;TZID=America/Chicago:20251122T080000
DTEND;TZID=America/Chicago:20251122T200000
DTSTAMP:20260425T084009
CREATED:20240911T200611Z
LAST-MODIFIED:20240911T200611Z
UID:10002979-1763798400-1763841600@keepwhatyouvalue.com
SUMMARY:DUI Class
DESCRIPTION:Prime for Life \n615-796-0817
URL:https://keepwhatyouvalue.com/event/dui-class-33/
LOCATION:Zoom Cloud Meetings\, TN\, United States
CATEGORIES:DUI Classes
END:VEVENT
BEGIN:VEVENT
DTSTART;TZID=America/Chicago:20251208T080000
DTEND;TZID=America/Chicago:20251208T200000
DTSTAMP:20260425T084009
CREATED:20240911T200741Z
LAST-MODIFIED:20240911T200741Z
UID:10002982-1765180800-1765224000@keepwhatyouvalue.com
SUMMARY:DUI Class
DESCRIPTION:Prime for Life \n615-796-0817
URL:https://keepwhatyouvalue.com/event/dui-class-34/
LOCATION:Zoom Cloud Meetings\, TN\, United States
CATEGORIES:DUI Classes
END:VEVENT
BEGIN:VEVENT
DTSTART;TZID=America/Chicago:20251220T080000
DTEND;TZID=America/Chicago:20251220T200000
DTSTAMP:20260425T084009
CREATED:20240911T200806Z
LAST-MODIFIED:20240911T200806Z
UID:10002983-1766217600-1766260800@keepwhatyouvalue.com
SUMMARY:DUI Class
DESCRIPTION:Prime for Life \n615-796-0817
URL:https://keepwhatyouvalue.com/event/dui-class-35/
LOCATION:Zoom Cloud Meetings\, TN\, United States
CATEGORIES:DUI Classes
END:VEVENT
BEGIN:VEVENT
DTSTART;TZID=America/Chicago:20260112T080000
DTEND;TZID=America/Chicago:20260112T200000
DTSTAMP:20260425T084009
CREATED:20260104T175221Z
LAST-MODIFIED:20260104T175221Z
UID:10003245-1768204800-1768248000@keepwhatyouvalue.com
SUMMARY:DUI Class
DESCRIPTION:Prime for Life
URL:https://keepwhatyouvalue.com/event/dui-class-36/
LOCATION:Zoom Cloud Meetings\, TN\, United States
CATEGORIES:DUI Classes
END:VEVENT
BEGIN:VEVENT
DTSTART;TZID=America/Chicago:20260124T080000
DTEND;TZID=America/Chicago:20260124T200000
DTSTAMP:20260425T084009
CREATED:20260104T175313Z
LAST-MODIFIED:20260104T175313Z
UID:10003246-1769241600-1769284800@keepwhatyouvalue.com
SUMMARY:DUI Class
DESCRIPTION:Prime for Life
URL:https://keepwhatyouvalue.com/event/dui-class-37/
CATEGORIES:DUI Classes
END:VEVENT
BEGIN:VEVENT
DTSTART;TZID=America/Chicago:20260209T080000
DTEND;TZID=America/Chicago:20260209T200000
DTSTAMP:20260425T084009
CREATED:20260104T175337Z
LAST-MODIFIED:20260104T175337Z
UID:10003247-1770624000-1770667200@keepwhatyouvalue.com
SUMMARY:DUI Class
DESCRIPTION:Prime for Life
URL:https://keepwhatyouvalue.com/event/dui-class-38/
CATEGORIES:DUI Classes
END:VEVENT
BEGIN:VEVENT
DTSTART;TZID=America/Chicago:20260228T080000
DTEND;TZID=America/Chicago:20260228T170000
DTSTAMP:20260425T084009
CREATED:20260104T175351Z
LAST-MODIFIED:20260104T175351Z
UID:10003248-1772265600-1772298000@keepwhatyouvalue.com
SUMMARY:DUI Class
DESCRIPTION:Prime for Life
URL:https://keepwhatyouvalue.com/event/dui-class-39/
CATEGORIES:DUI Classes
END:VEVENT
BEGIN:VEVENT
DTSTART;TZID=America/Chicago:20260309T080000
DTEND;TZID=America/Chicago:20260309T200000
DTSTAMP:20260425T084009
CREATED:20260104T175410Z
LAST-MODIFIED:20260104T175410Z
UID:10003249-1773043200-1773086400@keepwhatyouvalue.com
SUMMARY:DUI Class
DESCRIPTION:Prime for Life
URL:https://keepwhatyouvalue.com/event/dui-class-40/
CATEGORIES:DUI Classes
END:VEVENT
BEGIN:VEVENT
DTSTART;TZID=America/Chicago:20260328T080000
DTEND;TZID=America/Chicago:20260328T200000
DTSTAMP:20260425T084009
CREATED:20260104T175428Z
LAST-MODIFIED:20260104T175428Z
UID:10003250-1774684800-1774728000@keepwhatyouvalue.com
SUMMARY:DUI Class
DESCRIPTION:Prime for Life
URL:https://keepwhatyouvalue.com/event/dui-class-41/
CATEGORIES:DUI Classes
END:VEVENT
BEGIN:VEVENT
DTSTART;TZID=America/Chicago:20260406T080000
DTEND;TZID=America/Chicago:20260406T200000
DTSTAMP:20260425T084009
CREATED:20260104T175502Z
LAST-MODIFIED:20260104T175502Z
UID:10003251-1775462400-1775505600@keepwhatyouvalue.com
SUMMARY:DUI Class
DESCRIPTION:Prime for Life
URL:https://keepwhatyouvalue.com/event/dui-class-42/
CATEGORIES:DUI Classes
END:VEVENT
BEGIN:VEVENT
DTSTART;TZID=America/Chicago:20260425T080000
DTEND;TZID=America/Chicago:20260425T200000
DTSTAMP:20260425T084009
CREATED:20260104T175519Z
LAST-MODIFIED:20260104T175519Z
UID:10003252-1777104000-1777147200@keepwhatyouvalue.com
SUMMARY:DUI Class
DESCRIPTION:Prime for Life
URL:https://keepwhatyouvalue.com/event/dui-class-43/
CATEGORIES:DUI Classes
END:VEVENT
BEGIN:VEVENT
DTSTART;TZID=America/Chicago:20260504T080000
DTEND;TZID=America/Chicago:20260504T200000
DTSTAMP:20260425T084009
CREATED:20260104T175555Z
LAST-MODIFIED:20260104T175555Z
UID:10003253-1777881600-1777924800@keepwhatyouvalue.com
SUMMARY:DUI Class
DESCRIPTION:Prime for Life
URL:https://keepwhatyouvalue.com/event/dui-class-44/
CATEGORIES:DUI Classes
END:VEVENT
BEGIN:VEVENT
DTSTART;TZID=America/Chicago:20260516T080000
DTEND;TZID=America/Chicago:20260516T200000
DTSTAMP:20260425T084009
CREATED:20260104T175622Z
LAST-MODIFIED:20260104T175622Z
UID:10003254-1778918400-1778961600@keepwhatyouvalue.com
SUMMARY:DUI Class
DESCRIPTION:Prime for Life
URL:https://keepwhatyouvalue.com/event/dui-class-45/
CATEGORIES:DUI Classes
END:VEVENT
BEGIN:VEVENT
DTSTART;TZID=America/Chicago:20260601T080000
DTEND;TZID=America/Chicago:20260601T200000
DTSTAMP:20260425T084009
CREATED:20260104T175643Z
LAST-MODIFIED:20260104T175643Z
UID:10003255-1780300800-1780344000@keepwhatyouvalue.com
SUMMARY:DUI Class
DESCRIPTION:Prime for Life
URL:https://keepwhatyouvalue.com/event/dui-class-46/
CATEGORIES:DUI Classes
END:VEVENT
BEGIN:VEVENT
DTSTART;TZID=America/Chicago:20260620T080000
DTEND;TZID=America/Chicago:20260620T200000
DTSTAMP:20260425T084009
CREATED:20260104T175705Z
LAST-MODIFIED:20260104T175705Z
UID:10003256-1781942400-1781985600@keepwhatyouvalue.com
SUMMARY:DUI Class
DESCRIPTION:Prime for Life
URL:https://keepwhatyouvalue.com/event/dui-class-47/
CATEGORIES:DUI Classes
END:VEVENT
BEGIN:VEVENT
DTSTART;TZID=America/Chicago:20260706T080000
DTEND;TZID=America/Chicago:20260706T200000
DTSTAMP:20260425T084009
CREATED:20260104T175725Z
LAST-MODIFIED:20260104T175725Z
UID:10003257-1783324800-1783368000@keepwhatyouvalue.com
SUMMARY:DUI Class
DESCRIPTION:Prime for Life
URL:https://keepwhatyouvalue.com/event/dui-class-48/
CATEGORIES:DUI Classes
END:VEVENT
BEGIN:VEVENT
DTSTART;TZID=America/Chicago:20260725T080000
DTEND;TZID=America/Chicago:20260725T200000
DTSTAMP:20260425T084009
CREATED:20260104T175744Z
LAST-MODIFIED:20260104T175744Z
UID:10003258-1784966400-1785009600@keepwhatyouvalue.com
SUMMARY:DUI Class
DESCRIPTION:Prime for Life
URL:https://keepwhatyouvalue.com/event/dui-class-49/
CATEGORIES:DUI Classes
END:VEVENT
BEGIN:VEVENT
DTSTART;TZID=America/Chicago:20260810T080000
DTEND;TZID=America/Chicago:20260810T200000
DTSTAMP:20260425T084009
CREATED:20260104T175814Z
LAST-MODIFIED:20260104T175814Z
UID:10003259-1786348800-1786392000@keepwhatyouvalue.com
SUMMARY:DUI Class
DESCRIPTION:Prime for Life
URL:https://keepwhatyouvalue.com/event/dui-class-50/
CATEGORIES:DUI Classes
END:VEVENT
BEGIN:VEVENT
DTSTART;TZID=America/Chicago:20260829T080000
DTEND;TZID=America/Chicago:20260829T200000
DTSTAMP:20260425T084009
CREATED:20260104T175832Z
LAST-MODIFIED:20260104T175832Z
UID:10003260-1787990400-1788033600@keepwhatyouvalue.com
SUMMARY:DUI Class
DESCRIPTION:Prime for Life
URL:https://keepwhatyouvalue.com/event/dui-class-51/
CATEGORIES:DUI Classes
END:VEVENT
BEGIN:VEVENT
DTSTART;TZID=America/Chicago:20260907T080000
DTEND;TZID=America/Chicago:20260907T200000
DTSTAMP:20260425T084009
CREATED:20260104T175854Z
LAST-MODIFIED:20260104T175854Z
UID:10003261-1788768000-1788811200@keepwhatyouvalue.com
SUMMARY:DUI Class
DESCRIPTION:Prime for Life
URL:https://keepwhatyouvalue.com/event/dui-class-52/
CATEGORIES:DUI Classes
END:VEVENT
BEGIN:VEVENT
DTSTART;TZID=America/Chicago:20260926T080000
DTEND;TZID=America/Chicago:20260926T200000
DTSTAMP:20260425T084009
CREATED:20260104T175914Z
LAST-MODIFIED:20260104T175914Z
UID:10003262-1790409600-1790452800@keepwhatyouvalue.com
SUMMARY:DUI Class
DESCRIPTION:Prime for Life
URL:https://keepwhatyouvalue.com/event/dui-class-53/
CATEGORIES:DUI Classes
END:VEVENT
BEGIN:VEVENT
DTSTART;TZID=America/Chicago:20261005T080000
DTEND;TZID=America/Chicago:20261005T200000
DTSTAMP:20260425T084009
CREATED:20260104T175948Z
LAST-MODIFIED:20260104T175948Z
UID:10003263-1791187200-1791230400@keepwhatyouvalue.com
SUMMARY:DUI Class
DESCRIPTION:Prime for Life
URL:https://keepwhatyouvalue.com/event/dui-class-54/
CATEGORIES:DUI Classes
END:VEVENT
BEGIN:VEVENT
DTSTART;TZID=America/Chicago:20261017T080000
DTEND;TZID=America/Chicago:20261017T200000
DTSTAMP:20260425T084009
CREATED:20260104T180009Z
LAST-MODIFIED:20260104T180009Z
UID:10003264-1792224000-1792267200@keepwhatyouvalue.com
SUMMARY:DUI Class
DESCRIPTION:Prime for Life
URL:https://keepwhatyouvalue.com/event/dui-class-55/
CATEGORIES:DUI Classes
END:VEVENT
BEGIN:VEVENT
DTSTART;TZID=America/Chicago:20261109T080000
DTEND;TZID=America/Chicago:20261109T200000
DTSTAMP:20260425T084009
CREATED:20260104T180034Z
LAST-MODIFIED:20260104T180034Z
UID:10003265-1794211200-1794254400@keepwhatyouvalue.com
SUMMARY:DUI Class
DESCRIPTION:Prime for Life
URL:https://keepwhatyouvalue.com/event/dui-class-56/
CATEGORIES:DUI Classes
END:VEVENT
BEGIN:VEVENT
DTSTART;TZID=America/Chicago:20261121T080000
DTEND;TZID=America/Chicago:20261121T200000
DTSTAMP:20260425T084009
CREATED:20260104T180052Z
LAST-MODIFIED:20260104T180052Z
UID:10003266-1795248000-1795291200@keepwhatyouvalue.com
SUMMARY:DUI Class
DESCRIPTION:Prime for Life
URL:https://keepwhatyouvalue.com/event/dui-class-57/
CATEGORIES:DUI Classes
END:VEVENT
END:VCALENDAR