BEGIN:VCALENDAR
VERSION:2.0
PRODID:-//Solutions Education Center - ECPv6.15.20//NONSGML v1.0//EN
CALSCALE:GREGORIAN
METHOD:PUBLISH
X-WR-CALNAME:Solutions Education Center
X-ORIGINAL-URL:https://keepwhatyouvalue.com
X-WR-CALDESC:Events for Solutions Education Center
REFRESH-INTERVAL;VALUE=DURATION:PT1H
X-Robots-Tag:noindex
X-PUBLISHED-TTL:PT1H
BEGIN:VTIMEZONE
TZID:America/Chicago
BEGIN:DAYLIGHT
TZOFFSETFROM:-0600
TZOFFSETTO:-0500
TZNAME:CDT
DTSTART:20240310T080000
END:DAYLIGHT
BEGIN:STANDARD
TZOFFSETFROM:-0500
TZOFFSETTO:-0600
TZNAME:CST
DTSTART:20241103T070000
END:STANDARD
BEGIN:DAYLIGHT
TZOFFSETFROM:-0600
TZOFFSETTO:-0500
TZNAME:CDT
DTSTART:20250309T080000
END:DAYLIGHT
BEGIN:STANDARD
TZOFFSETFROM:-0500
TZOFFSETTO:-0600
TZNAME:CST
DTSTART:20251102T070000
END:STANDARD
BEGIN:DAYLIGHT
TZOFFSETFROM:-0600
TZOFFSETTO:-0500
TZNAME:CDT
DTSTART:20260308T080000
END:DAYLIGHT
BEGIN:STANDARD
TZOFFSETFROM:-0500
TZOFFSETTO:-0600
TZNAME:CST
DTSTART:20261101T070000
END:STANDARD
END:VTIMEZONE
BEGIN:VEVENT
DTSTART;TZID=America/Chicago:20250407T080000
DTEND;TZID=America/Chicago:20250407T200000
DTSTAMP:20260424T175404
CREATED:20240911T195103Z
LAST-MODIFIED:20240911T195103Z
UID:10002951-1744012800-1744056000@keepwhatyouvalue.com
SUMMARY:DUI Class
DESCRIPTION:Prime for Life \n615-796-0817
URL:https://keepwhatyouvalue.com/event/dui-class-18/
LOCATION:Zoom Cloud Meetings\, TN\, United States
CATEGORIES:DUI Classes
END:VEVENT
BEGIN:VEVENT
DTSTART;TZID=America/Chicago:20250426T080000
DTEND;TZID=America/Chicago:20250426T200000
DTSTAMP:20260424T175404
CREATED:20240911T195125Z
LAST-MODIFIED:20240911T195125Z
UID:10002952-1745654400-1745697600@keepwhatyouvalue.com
SUMMARY:DUI Class
DESCRIPTION:Prime for Life \n615-796-0817
URL:https://keepwhatyouvalue.com/event/dui-class-19/
LOCATION:Zoom Cloud Meetings\, TN\, United States
CATEGORIES:DUI Classes
END:VEVENT
END:VCALENDAR